BEGIN:VCALENDAR
VERSION:2.0
PRODID:-//Events.Presse.Online - ECPv6.15.20//NONSGML v1.0//EN
CALSCALE:GREGORIAN
METHOD:PUBLISH
X-WR-CALNAME:Events.Presse.Online
X-ORIGINAL-URL:https://events.presse.online
X-WR-CALDESC:Veranstaltungen für Events.Presse.Online
REFRESH-INTERVAL;VALUE=DURATION:PT1H
X-Robots-Tag:noindex
X-PUBLISHED-TTL:PT1H
BEGIN:VTIMEZONE
TZID:Europe/Berlin
BEGIN:DAYLIGHT
TZOFFSETFROM:+0100
TZOFFSETTO:+0200
TZNAME:CEST
DTSTART:20250330T010000
END:DAYLIGHT
BEGIN:STANDARD
TZOFFSETFROM:+0200
TZOFFSETTO:+0100
TZNAME:CET
DTSTART:20251026T010000
END:STANDARD
BEGIN:DAYLIGHT
TZOFFSETFROM:+0100
TZOFFSETTO:+0200
TZNAME:CEST
DTSTART:20260329T010000
END:DAYLIGHT
BEGIN:STANDARD
TZOFFSETFROM:+0200
TZOFFSETTO:+0100
TZNAME:CET
DTSTART:20261025T010000
END:STANDARD
BEGIN:DAYLIGHT
TZOFFSETFROM:+0100
TZOFFSETTO:+0200
TZNAME:CEST
DTSTART:20270328T010000
END:DAYLIGHT
BEGIN:STANDARD
TZOFFSETFROM:+0200
TZOFFSETTO:+0100
TZNAME:CET
DTSTART:20271031T010000
END:STANDARD
END:VTIMEZONE
BEGIN:VEVENT
DTSTART;TZID=Europe/Berlin:20260303T200000
DTEND;TZID=Europe/Berlin:20260531T220000
DTSTAMP:20260421T212954
CREATED:20260127T161016Z
LAST-MODIFIED:20260127T162547Z
UID:10000119-1772568000-1780264800@events.presse.online
SUMMARY:Zeitgenössischer Zirkus als Spiegel der Gegenwart
DESCRIPTION:BELLO! im Chamäleon Berlin: Wenn zeitgenössischer Zirkus zur Erzählform wird\nKunstformen verändern sich dort am stärksten\, wo gesellschaftliche Gewissheiten brüchig werden. Wenn Körper\, Sprache und Bewegung neu zusammengedacht werden\, geht es oft um mehr als Ästhetik es geht um Deutungshoheit. \nAb dem 3. März 2026 ist im Chamäleon Berlin das Stück BELLO! der italienischen Kompanie Fabbrica C zu sehen. Nach Erfolgen beim Berlin Circus Festival wird die Produktion für mehrere Monate neu interpretiert auf die Bühne am Hackeschen Markt gebracht nicht als bloße Wiederaufnahme\, sondern als Weiterentwicklung eines erzählerischen Zirkusformats. \nKontext & Abgrenzung\nZeitgenössischer Zirkus hat sich in den vergangenen Jahren von der reinen Nummernlogik gelöst. Statt virtuoser Einzelleistungen treten Konzepte\, Narrative und kollektive Arbeitsweisen in den Vordergrund. BELLO! geht dabei einen Schritt weiter: Das Stück ist als Abfolge kurzer Erzählungen angelegt\, die gesprochen und gleichzeitig körperlich interpretiert werden. \nDamit unterscheidet sich die Produktion von wortlosen Zirkusformaten ebenso wie vom klassischen Sprechtheater. Die Texte kommentieren das Bühnengeschehen nicht erklärend\, sondern eröffnen zusätzliche Bedeutungsebenen. Künstlerischer Leiter Francesco Sgrò betont\, dass Sprache hier nicht Illustration\, sondern eigenständiges Material ist. \nFür Berlin ist diese Form relevant\, weil sie an eine Stadttradition anknüpft\, in der freie Darstellungsformen\, Performance und Diskurs eng miteinander verwoben sind. Zugleich bleibt BELLO! kein niedrigschwelliges Unterhaltungsangebot: Die Produktion richtet sich an ein kulturinteressiertes Publikum\, das bereit ist\, Mehrdeutigkeit auszuhalten. \nWarum dieses Event jetzt relevant ist\nDie Frage nach Schönheit ist in gegenwärtigen Debatten hoch aufgeladen ökonomisch\, politisch und medial. Normierte Bilder\, algorithmische Verstärkung und kommerzielle Verwertung prägen den öffentlichen Raum. BELLO! setzt dem kein Gegenbild im Sinne idealisierter Ästhetik entgegen\, sondern macht die Mechanismen selbst sichtbar. \nIndem das gesamte Ensemble permanent in Bewegung bleibt und auf Solo-Nummern verzichtet\, wird ein kollektives Körperbild gezeigt\, das Individualisierung und Konkurrenz bewusst unterläuft. Diese Entscheidung spiegelt eine breitere Entwicklung in den darstellenden Künsten: weg vom Starprinzip\, hin zu kooperativen Arbeitsformen. \nAuch die Verbindung von Sprache und Akrobatik verweist auf einen Trend zur Hybridisierung von Kunstformen. Grenzen zwischen Theater\, Tanz und Zirkus werden durchlässiger nicht aus Innovationszwang\, sondern als Antwort auf komplexe Gegenwartserfahrungen\, die sich monodisziplinär kaum noch erzählen lassen. \nFür das Publikum bedeutet das: BELLO! ist weniger Spektakel als Einladung zur Reflexion. Für die Branche zeigt sich\, dass zeitgenössischer Zirkus zunehmend als diskursfähige Kunstform wahrgenommen wird mit Relevanz über den Aufführungsraum hinaus. \nFazit & Ausblick\nBELLO! im Chamäleon Berlin ist kein Ereignis\, das durch Neuheit allein überzeugt. Seine Bedeutung liegt in der konsequenten Verbindung von Erzählung\, Körper und kollektiver Praxis. Damit steht die Produktion exemplarisch für eine Kunstform\, die ihre gesellschaftliche Rolle neu definiert leise\, präzise und ohne dekorative Überhöhung. \nWeitere Einordnungen zu Kultur\, Gesellschaft und Events finden Sie auf Events.Presse.Online. \nFAQ\nWann und wo findet BELLO! statt?Ab dem 3. März 2026 im Chamäleon Berlin am Hackeschen Markt. \nFür wen ist das Stück relevant?Für ein kulturinteressiertes Publikum mit Interesse an zeitgenössischem Zirkus\, Theater und gesellschaftlichen Fragestellungen. \nWelche Themen stehen im Mittelpunkt?Schönheitsbilder\, Kollektivität\, Alltagsbeobachtungen und Formen des Erzählens. \nWas unterscheidet BELLO! von anderen Zirkusproduktionen?Die Verbindung von gesprochener Erzählung und Akrobatik sowie der konsequente Verzicht auf Solo-Nummern. \nWarum ist das Event journalistisch berichtenswert?Weil es größere kulturelle Entwicklungen sichtbar macht und zeitgenössischen Zirkus als diskursive Kunstform positioniert. \nQuellenliste:\n\n\nProgrammunterlagen und Produktionsbeschreibung BELLO!\, Fabbrica C \n\n\nHintergrundgespräch / Zitatangaben von Francesco Sgrò (künstlerische Leitung) \n\n\nInformationen zur Neuproduktion BELLO! am Chamäleon Berlin\, Spielzeit ab März 2026 \n\n\nSelbstdarstellung und Produktionsprofil Chamäleon Berlin (Produktionshaus für zeitgenössischen Zirkus) \n\n\nAngaben zur Kompanie Fabbrica C und zum Netzwerk Cordata F.O.R \n\n\nFestivalangaben und Rückblicke Berlin Circus Festival \n\n\nBiografische Angaben zu Francesco Sgrò und Auszeichnungen beim Festival Mondial du Cirque de Demain \n\n\nEigene journalistische Einordnung und Kontextualisierung auf Basis kulturwissenschaftlicher Debatten zu zeitgenössischem Zirkus und performativen Erzählformen
URL:https://events.presse.online/event/zeitgenoessischer-zirkus-als-spiegel-der-gegenwart/
LOCATION:Chamäleon Berlin\, Rosenthaler Straße 40/41\, Berlin\, 10118
CATEGORIES:Kultur & Konzerte
ATTACH;FMTTYPE=image/webp:https://events.presse.online/wp-content/uploads/2026/01/BELLO-im-Chamaeleon-Berlin.webp
ORGANIZER;CN="Cham%C3%A4leon Berlin gGmbH":MAILTO:info@chamaeleonberlin.com
END:VEVENT
BEGIN:VEVENT
DTSTART;TZID=Europe/Berlin:20260324T190000
DTEND;TZID=Europe/Berlin:20260531T210000
DTSTAMP:20260421T212954
CREATED:20260323T063033Z
LAST-MODIFIED:20260323T063532Z
UID:10000149-1774378800-1780261200@events.presse.online
SUMMARY:Wie Berlin seine 90er neu erzählt
DESCRIPTION:Wir sind am Leben in Berlin: Warum das neue Musical die 90er nicht feiert\, sondern verhandelt\nBerlin. Erinnerungskultur ist längst kein Nischenthema mehr. Gerade in Zeiten politischer Verunsicherung\, beschleunigter Gegenwart und identitärer Debatten wächst das Bedürfnis\, prägende Umbruchsjahre neu zu deuten. \nVor diesem Hintergrund ist „Wir sind am Leben – Das Berlin Musical“ mehr als ein neuer Titel im Berliner Kulturkalender. Die Produktion von Peter Plate\, Ulf Leo Sommer und Joshua Lange feierte am 21. März 2026 Premiere im Stage Theater des Westens und verlegt ihren Schwerpunkt auf das Berlin der frühen 1990er-Jahre – also auf jene Phase\, in der Wiedervereinigung\, queere Emanzipation\, Clubkultur und die Aids-Krise gleichzeitig wirksam waren. \nInhaltlich erzählt das Musical eine Familien- und Aufbruchsgeschichte im Berlin des Jahres 1990. Ausgangspunkt ist eine Mutter aus der ehemaligen DDR\, die nach dem Zusammenbruch ihrer alten Lebenswelt nach ihren Kindern sucht\, die sich in Berlin neu orientiert haben. Das offizielle Material beschreibt das Stück als Geschichte über Aufbruch\, Zusammenhalt und Lebenslust; zugleich betonen die Autoren\, sie wollten „erinnern“ an die\, „die gegangen sind“\, und an das\, „was man nicht vergessen darf“. \nGenau darin liegt seine journalistische Relevanz: Dieses Musical setzt nicht primär auf Eskapismus\, sondern auf kulturelle Verdichtung. Es nutzt das populäre Format Musical\, um eine Stadtphase aufzurufen\, die im heutigen Berlin oft zugleich vermarktet\, verklärt und politisch aufgeladen wird. Die frühen 90er erscheinen hier nicht nur als Ära der Freiheit\, sondern auch als Zeit sozialer Brüche\, prekärer Lebensformen und massiver Verlusterfahrungen. Dass die Produktion nach Berichten zur Premiere ausdrücklich auch an Menschen erinnert\, die in den 1990er-Jahren an Aids starben\, verschiebt sie aus der Nostalgiezone in Richtung Erinnerungspolitik. \nFür Berlin ist das bedeutsam\, weil die Stadt ihre eigene Vergangenheit derzeit auffällig intensiv neu sortiert. 2025 wurde offiziell auf 35 Jahre Deutsche Einheit geblickt; zugleich wird öffentlich weiter darüber diskutiert\, wie stark die Spuren der Teilung in Gesellschaft\, Politik und Wirtschaft bis heute sichtbar bleiben. Parallel dazu greifen Kulturinstitutionen die 1990er wieder verstärkt auf etwa mit der Berlinale-Retrospektive „Lost in the 90s“. Das spricht für ein breiteres Bedürfnis\, die Nachwendezeit nicht nur historisch\, sondern emotional und ästhetisch neu lesbar zu machen. \nDamit eröffnet das Stück mindestens zwei Perspektiven. Aus Sicht der Produzenten ist es ein dezidiert Berliner Stoff an einem traditionsreichen Standort\, der zugleich lokale Identität und breite Publikumsfähigkeit verspricht. Das Theater des Westens gilt als eine der bekanntesten Musicalbühnen der Stadt und steht damit für die Verbindung von kulturellem Prestige und kommerzieller Reichweite. \nAus Sicht der Stadtgesellschaft ist relevanter\, wie die Vergangenheit erzählt wird. Wird Berlin hier als mythologisierte Freiheitskulisse inszeniert oder als widersprüchlicher Raum\, in dem Euphorie und Verwundbarkeit zusammengehörten? Nach den ersten Berichten zur Premiere deutet vieles auf Letzteres hin: queere Wohngemeinschaft\, Coming-out\, Aids\, politische Spitzen und ost-westdeutsche Biografien treffen auf Humor und Pop. Gerade diese Mischung unterscheidet das Stück von reinen Jukebox- oder Nostalgieformaten. \nWarum ist das jetzt relevant?\nAuch ohne den Eventnamen betrachtet\, zeigt sich ein größeres Muster: Kulturformate greifen derzeit vermehrt auf Umbruchsjahre zurück\, um Gegenwartsfragen zu verhandeln. Dahinter steht keine bloße Rückschau\, sondern der Versuch\, Konflikte der Gegenwart über erinnerte Räume zu verstehen Fragen von Zugehörigkeit\, Freiheit\, Verlust\, Sichtbarkeit und gesellschaftlichem Zusammenhalt. \nFür Besucher bedeutet das: Wer dieses Stück sieht\, bekommt nicht nur Unterhaltung\, sondern ein Angebot zur Selbstverortung in einer übererzählten Stadt. Für Berlin bedeutet es: Die 90er bleiben Deutungskampf\, nicht bloß Markenimage. Für die Branche ist relevant\, dass deutschsprachige Musicals mit klarer lokaler Verankerung offenbar wieder stärker auf historische und gesellschaftliche Tiefenschichten setzen\, statt ausschließlich auf bekannte internationale Formate. \nFazit\n„Wir sind am Leben“ ist journalistisch nicht deshalb interessant\, weil es neu im Spielplan steht. Interessant ist\, dass dieses Musical Berlin nicht als Kulisse benutzt\, sondern als offene Erinnerungserzählung. Gerade jetzt\, da Einheit\, Queerness\, Verlust und urbaner Wandel wieder intensiv verhandelt werden\, wird aus einem Bühnenstoff ein Seismograf der Gegenwart. \nMehr journalistische Einordnungen zu Kultur\, Stadtgesellschaft und relevanten Berlin-Events lesen Sie auf Events.Presse.Online. \nFAQ\nWann und wo findet „Wir sind am Leben“ statt?\nDas Musical läuft seit März 2026 im Stage Theater des Westens\, Kantstraße 12\, 10623 Berlin; die Premiere war am 21. März 2026. \nWorum geht es inhaltlich?\nIm Zentrum steht eine Familien- und Aufbruchsgeschichte im Berlin des Jahres 1990\, also in einer Phase zwischen Mauerfall\, Neuanfang und persönlicher Neuorientierung. \nFür wen ist das Event relevant und für wen eher nicht?\nRelevant ist es für Menschen\, die sich für Berliner Stadtgeschichte\, Erinnerungskultur\, queere Perspektiven und deutschsprachiges Gegenwartsmusical interessieren. Weniger relevant ist es für ein Publikum\, das vor allem unpolitische\, rein eskapistische Musicalunterhaltung sucht. Diese zweite Einordnung ist eine journalistische Ableitung aus Stoff und Themenlage. \nWas unterscheidet das Stück von vergleichbaren Musicalproduktionen?\nEs verbindet Berlin-Stoff\, Nachwendezeit\, queere Biografien und Aids-Erinnerung mit einem populären Bühnenformat. Damit ist es stärker gesellschaftlich verankert als klassische Repertoire- oder Jukebox-Musicals. \nWarum ist das journalistisch berichtenswert?\nWeil das Stück größere Debatten bündelt: deutsche Einheit\, Berliner Erinnerungspolitik\, queere Sichtbarkeit und die kulturelle Wiederaneignung der 1990er-Jahre. \nQuellenliste\n\nStage Entertainment Deutschland: offizielle Produktionsseite zu „Wir sind am Leben – Das Berlin Musical“\nStage Entertainment Deutschland: Pressebereich / Pressemitteilungen zu „Wir sind am Leben“\nWELT: Berichterstattung zur Premiere von „Wir sind am Leben“ in Berlin\nWELT: weitere Berichterstattung und Rezension zur Musicalpremiere\nDie Beauftragte der Bundesregierung für Ostdeutschland: Bericht „35 Jahre Deutsche Einheit“\nBerlin.de: Eintrag und Hintergrundinformationen zum Theater des Westens
URL:https://events.presse.online/event/wie-berlin-seine-90er-neu-erzaehlt/
LOCATION:Stage Theater des Westens\, Kantstraße 12\, Berlin\, 10623
CATEGORIES:Kultur & Konzerte
ATTACH;FMTTYPE=image/webp:https://events.presse.online/wp-content/uploads/2026/03/Theater-des-Westens.webp
ORGANIZER;CN="pop-out Live GmbH":MAILTO:office@pop-out.de
END:VEVENT
BEGIN:VEVENT
DTSTART;TZID=Europe/Berlin:20260421T200000
DTEND;TZID=Europe/Berlin:20260422T220000
DTSTAMP:20260421T212954
CREATED:20251225T142742Z
LAST-MODIFIED:20260105T160403Z
UID:10000009-1776801600-1776895200@events.presse.online
SUMMARY:Double Drums mit neuem Programm im Berliner TIPI
DESCRIPTION:Double Drums bringen „All you can BEAT“ ins TIPI am Kanzleramt\nDas Percussion-Duo Double Drums gastiert am 21. und 22. April 2026 mit seinem aktuellen Programm „All you can BEAT“ im TIPI am Kanzleramt. Die Konzerte markieren einen weiteren Berliner Auftritt der seit Jahren international erfolgreichen Musiker. \nEin Programm zwischen Alltag und Konzertsaal\n„All you can BEAT“ setzt auf Kontraste: Neben klassischen Schlaginstrumenten wie Vibraphon und Marimbaphon kommen Alltagsobjekte zum Einsatz darunter Mülltonnen\, Benzinkanister oder Verkehrsschilder. Diese werden rhythmisch verfremdet und in ein musikalisches Gesamtkonzept eingebettet. Ergänzt wird das Programm durch eigene Kompositionen sowie Neuinterpretationen bekannter Titel. \nZum Repertoire zählen Arrangements internationaler Pop-Songs wie „Enjoy the Silence“ oder „Nothing Else Matters“\, ebenso wie Filmmusik aus Das Boot und Star Wars. Die Stücke werden laut Veranstalterangaben bewusst nicht originalgetreu nachgespielt\, sondern rhythmisch und klanglich neu gedacht. \n20 Jahre Bühnenerfahrung\nDouble Drums bestehen aus zwei studierten Multi-Perkussionisten\, die seit rund zwei Jahrzehnten gemeinsam auftreten. In dieser Zeit spielten sie auf Bühnen in Deutschland\, Europa und darüber hinaus. Auszeichnungen wie der Bayerische Kunstförderpreis unterstreichen die Anerkennung innerhalb der Kulturszene. Auch digital ist das Duo präsent: Mehr als vier Millionen Abrufe auf YouTube dokumentieren eine Reichweite\, die über das klassische Konzertpublikum hinausgeht. \nEinordnung im Berliner Veranstaltungskalender\nMit dem TIPI am Kanzleramt wurde bewusst ein Ort gewählt\, der für genreübergreifende Produktionen bekannt ist. Das Haus bietet Raum für Musik\, Theater und Varieté und richtet sich an ein Publikum\, das abseits klassischer Konzertformate neue Zugänge sucht. In diesem Kontext fügt sich „All you can BEAT“ in eine wachsende Zahl von Produktionen ein\, die Grenzen zwischen Hoch- und Popkultur bewusst auflösen. \nZwei Perspektiven: Kunst und Publikum\nAus künstlerischer Sicht steht bei Double Drums die Erweiterung des Instrumentenbegriffs im Mittelpunkt. Rhythmus entsteht nicht nur durch traditionelle Instrumente\, sondern durch nahezu jedes Objekt mit klanglichem Potenzial.Für das Publikum bedeutet das ein niedrigschwelliger Zugang zur Percussion-Musik: Bekannte Melodien treffen auf visuelle und akustische Überraschungsmomente\, die auch Menschen ohne klassische Konzerterfahrung ansprechen. \nAnalyse: Warum das jetzt relevant ist\nPercussion-Formate wie „All you can BEAT“ spiegeln einen allgemeinen Trend im Kulturbereich wider: Musikvermittlung wird experimenteller\, performativer und interdisziplinärer. In Zeiten eines zunehmend fragmentierten Publikums versuchen Ensembles\, neue Hörgewohnheiten zu schaffen und zugleich bestehende Zielgruppen zu halten. Der Erfolg von Double Drums deutet darauf hin\, dass dieses Konzept auf Resonanz stößt. \nFazit:\nMit „All you can BEAT“ setzen Double Drums ihre langjährige künstlerische Linie fort und bringen ein etabliertes\, zugleich weiterentwickeltes Programm nach Berlin. Die beiden Abende im TIPI am Kanzleramt ergänzen den Berliner Eventkalender um ein Percussion-Format\, das klassische Konzertstrukturen bewusst erweitert. Weitere Tourtermine sind nach Angaben des Duos geplant. \n🔔 Folge @Events.Presse.Online für fundierte Event-News und kuratierte Veranstaltungshinweise. \nFAQ\nWann finden die Konzerte statt?Am 21. und 22. April 2026 im TIPI am Kanzleramt in Berlin. \nWas ist das Besondere an „All you can BEAT“?Das Programm kombiniert klassische Schlaginstrumente mit Alltagsgegenständen und neu arrangierten bekannten Musikstücken. \nFür welches Publikum ist das Konzert geeignet?Sowohl für Percussion-Fans als auch für Besucherinnen und Besucher\, die einen ungewöhnlichen Zugang zu Musik suchen. \nWie lange gibt es Double Drums bereits?Das Duo steht seit rund 20 Jahren gemeinsam auf der Bühne. \nWerden nur eigene Stücke gespielt?Nein\, neben Eigenkompositionen gibt es Bearbeitungen bekannter Pop-Songs und Filmmusik. \nQuellen:\n\n\nOffizielle Künstler-Website und Presseinformationen von Double Drums \n\n\nProgramm- und Terminangaben des TIPI am Kanzleramt\, Berlin
URL:https://events.presse.online/event/double-drums-mit-neuem-programm-im-berliner-tipi/
LOCATION:TIPI am Kanzleramt\, Große Querallee\, Berlin\, 10557
CATEGORIES:Kultur & Konzerte
ATTACH;FMTTYPE=image/webp:https://events.presse.online/wp-content/uploads/2025/12/Double-Drums.webp
ORGANIZER;CN="BAR JEDER VERNUNFT Veranstaltungs-Organisations-GmbH":MAILTO:info@tipi-am-kanzleramt.de
END:VEVENT
END:VCALENDAR