BEGIN:VCALENDAR
VERSION:2.0
PRODID:-//Events.Presse.Online - ECPv6.15.20//NONSGML v1.0//EN
CALSCALE:GREGORIAN
METHOD:PUBLISH
X-WR-CALNAME:Events.Presse.Online
X-ORIGINAL-URL:https://events.presse.online
X-WR-CALDESC:Veranstaltungen für Events.Presse.Online
REFRESH-INTERVAL;VALUE=DURATION:PT1H
X-Robots-Tag:noindex
X-PUBLISHED-TTL:PT1H
BEGIN:VTIMEZONE
TZID:Europe/Berlin
BEGIN:DAYLIGHT
TZOFFSETFROM:+0100
TZOFFSETTO:+0200
TZNAME:CEST
DTSTART:20250330T010000
END:DAYLIGHT
BEGIN:STANDARD
TZOFFSETFROM:+0200
TZOFFSETTO:+0100
TZNAME:CET
DTSTART:20251026T010000
END:STANDARD
BEGIN:DAYLIGHT
TZOFFSETFROM:+0100
TZOFFSETTO:+0200
TZNAME:CEST
DTSTART:20260329T010000
END:DAYLIGHT
BEGIN:STANDARD
TZOFFSETFROM:+0200
TZOFFSETTO:+0100
TZNAME:CET
DTSTART:20261025T010000
END:STANDARD
BEGIN:DAYLIGHT
TZOFFSETFROM:+0100
TZOFFSETTO:+0200
TZNAME:CEST
DTSTART:20270328T010000
END:DAYLIGHT
BEGIN:STANDARD
TZOFFSETFROM:+0200
TZOFFSETTO:+0100
TZNAME:CET
DTSTART:20271031T010000
END:STANDARD
END:VTIMEZONE
BEGIN:VEVENT
DTSTART;TZID=Europe/Berlin:20260829T190000
DTEND;TZID=Europe/Berlin:20260829T220000
DTSTAMP:20260421T124025
CREATED:20260106T091055Z
LAST-MODIFIED:20260106T092101Z
UID:10000094-1788030000-1788040800@events.presse.online
SUMMARY:Viva la musica 2026: Klassiknacht in Berlin-Marzahn
DESCRIPTION:Viva la musica 2026 in Berlin: Klassik-Open-Air in den Gärten der Welt\nWenn Berlin im Spätsommer Kultur unter freiem Himmel bündelt\, ist „Viva la musica 2026“ eines der Formate\, die über den Konzertkalender hinaus wirken: als Publikumsmagnet\, als Standortsignal und als Test\, wie zugänglich Hochkultur in der Stadt tatsächlich ist. \nEinordnung: Was ist „Viva la musica“ und für wen?\nWenn Berlin Hochkultur bewusst außerhalb der Innenstadt verortet\, geht es um mehr als ein Konzert. „Viva la musica 2026“ ist ein Beispiel dafür\, wie klassische Musik als öffentliches Ereignis gedacht wird offen\, sichtbar und räumlich neu verankert. \nEinordnung: Was findet statt und in welchem Rahmen?\n„Viva la musica“ gehört seit Jahren zu den festen Klassik-Open-Air-Formaten der Hauptstadt. Am Samstag\, 29. August 2026\, wird die Open-Air-Arena der Gärten der Welt erneut zur Konzertbühne. Der Einlass beginnt am frühen Abend\, das Konzert selbst setzt in der Dämmerung ein ein dramaturgischer Rahmen\, der bewusst auf Atmosphäre und Offenheit setzt. \nUnter dem Motto „Viva la Vida – Es lebe das Leben“ stehen spanische und lateinamerikanische Klangwelten im Mittelpunkt. Gespielt wird von der Dresdner Philharmonie\, dirigiert vom österreichischen Dirigenten Christoph Koncz. Den Abschluss bildet ein Höhenfeuerwerk\, das den Abend visuell rahmt\, ohne den musikalischen Kern zu ersetzen. \nVeranstaltet wird das Konzert von der Grün Berlin Service GmbH\, die für den Betrieb und die kulturelle Bespielung mehrerer großer Berliner Grün- und Freizeitanlagen verantwortlich ist. \nBedeutung für Stadt und Region\nDie Wahl des Veranstaltungsorts ist kein Nebenaspekt. Die Gärten der Welt liegen in Marzahn-Hellersdorf einem Bezirk\, der in der Berliner Kulturlandschaft lange eher als Wohn- denn als Veranstaltungsraum wahrgenommen wurde. Ein großes Klassik-Open-Air an diesem Ort setzt deshalb ein bewusstes Signal: Kultur soll nicht ausschließlich im Zentrum stattfinden\, sondern in der Fläche sichtbar sein. \nFür den Bezirk bedeutet das temporär erhöhte Aufmerksamkeit\, Besucherströme und eine stärkere Verknüpfung von Freizeit- und Kulturangeboten. Für die Stadt insgesamt stellt sich die Frage\, ob solche Formate punktuelle Ausnahmen bleiben oder Teil einer langfristigen Strategie zur kulturellen Dezentralisierung sind. \nAuch wirtschaftlich sind Effekte realistisch\, wenn auch begrenzt: Gastronomie\, Verkehr und Umfeld profitieren kurzfristig. Entscheidend ist weniger der Umsatz an einem Abend als die nachhaltige Wahrnehmung des Ortes als Kulturstandort. \nAbgrenzung: Kein beliebiges Sommerkonzert\nBerlin bietet zahlreiche Open-Air-Veranstaltungen. „Viva la musica“ unterscheidet sich jedoch durch drei Faktoren: ein vollwertiges Orchester\, ein klar umrissenes musikalisches Thema und eine dramaturgisch geschlossene Abendstruktur. Das Format orientiert sich nicht an Eventroutinen\, sondern an klassischer Konzertlogik nur unter freiem Himmel. \nDamit positioniert sich das Konzert zwischen Hochkultur und öffentlichem Stadtereignis. Es ist weder ein niedrigschwelliges Parkkonzert noch ein klassischer Saalabend\, sondern ein Hybrid\, der bewusst neue Publikumsschichten ansprechen will\, ohne das musikalische Niveau abzusenken. \nZwei Perspektiven: Anspruch und Erwartung\nAus Sicht der Veranstalter steht die Öffnung im Vordergrund: Klassische Musik soll sichtbarer\, zugänglicher und emotional anschlussfähig werden. Ort\, Zeitpunkt und Rahmen zielen auf ein Publikum\, das sich nicht zwingend als klassisches Konzertpublikum versteht. \nAus Sicht des Publikums entscheidet sich der Erfolg jedoch an praktischen Fragen: Erreichbarkeit\, Einlassorganisation\, Preisstruktur und Orientierung vor Ort. Besonders relevant ist die Regelung zu Ermäßigungen\, die an den Besitz einer Jahreskarte gebunden sind. Sie ist transparent kommuniziert\, wirft aber eine sachliche Frage auf: Wird Teilhabe erleichtert – oder an zusätzliche Voraussetzungen geknüpft? \nAnalyse: Warum dieses Event jetzt relevant ist\nDie Relevanz von „Viva la musica 2026“ liegt weniger im Programm als in seiner Funktion. Klassikformate stehen seit Jahren vor der Herausforderung\, neue Zielgruppen zu erreichen\, ohne ihr Profil zu verlieren. Open-Air-Konzerte sind dabei kein Selbstzweck\, sondern ein Instrument\, um Sichtbarkeit und gesellschaftliche Verankerung zu stärken. \nGleichzeitig spiegelt das Event aktuelle kulturpolitische Debatten wider: Wer wird erreicht? Wo findet Kultur statt? Und wie offen sind die Zugänge tatsächlich? In einer wachsenden\, sozial vielfältigen Stadt wie Berlin sind diese Fragen nicht theoretisch\, sondern konkret erfahrbar an einem Sommerabend\, an einem bestimmten Ort. \nRealistische Effekte sind absehbar: gesellschaftlich als gemeinsamer Stadtraum-Moment\, kulturell als niedrigschwellige Begegnung mit klassischer Musik\, wirtschaftlich als punktueller Impuls für den Bezirk. Ob daraus mehr entsteht\, hängt weniger vom Feuerwerk als von der langfristigen Einbettung solcher Formate ab. \nFazit:\n„Viva la musica 2026“ ist ein Klassik-Open-Air mit überdurchschnittlicher Bedeutung. Nicht wegen seines Mottos\, sondern wegen seines Ortes und seines Anspruchs. Das Konzert zeigt\, wie Hochkultur im urbanen Raum neu gedacht werden kann und wo die Grenzen dieser Öffnung liegen. Für Berlin ist das mehr als ein Sommertermin: Es ist ein Prüfstein für kulturelle Teilhabe in der Praxis. \nHinweis: Weitere redaktionelle Einordnungen zu Kultur- und Stadtveranstaltungen finden Sie auf Events.Presse.Online. \nFAQ:\nWann und wo findet Viva la musica 2026 statt?Am Samstag\, 29. August 2026\, in der Open-Air-Arena der Gärten der Welt in Berlin-Marzahn. \nWer tritt bei dem Konzert auf?Die Dresdner Philharmonie spielt unter der Leitung des Dirigenten Christoph Koncz. \nWelche Musik steht im Mittelpunkt?Spanische und lateinamerikanische Werke im klassischen Orchesterformat. \nWarum ist das Event journalistisch relevant?Weil es Fragen nach kultureller Teilhabe\, Standortpolitik und der Öffnung klassischer Musikformate aufwirft. \nWas unterscheidet das Konzert von anderen Open-Air-Formaten?Der Einsatz eines großen Orchesters\, ein klar kuratiertes Programm und die bewusste Verortung außerhalb der Innenstadt. \nQuellenliste:\n\n\nVeranstaltungsankündigung „Viva la musica 2026“\, Programminformationen und Eckdaten \n\n\nAngaben des Veranstalters Grün Berlin Service GmbH zu Organisation\, Einlasszeiten und Rahmenbedingungen \n\n\nÖffentliche Informationen zur Open-Air-Arena der Gärten der Welt\, Berlin-Marzahn \n\n\nKünstlerische Angaben zur Dresdner Philharmonie (Orchesterprofil\, Besetzung) \n\n\nBiografische Informationen zum Dirigenten Christoph Koncz \n\n\nAllgemeine kulturpolitische und stadtentwicklungspolitische Einordnung zu Open-Air-Klassikformaten in Berlin \n\n\nEigene redaktionelle Analyse und Einordnung (Events.Presse.Online)
URL:https://events.presse.online/event/viva-la-musica-2026-klassiknacht-in-berlin-marzahn/
LOCATION:Gärten der Welt\, Blumberger Damm 44\, Berlin\, 12685
CATEGORIES:Kultur & Konzerte
ATTACH;FMTTYPE=image/webp:https://events.presse.online/wp-content/uploads/2026/01/Viva-la-musica.webp
ORGANIZER;CN="Gr%C3%BCn Berlin GmbH":MAILTO:service@gruen-berlin.de
END:VEVENT
BEGIN:VEVENT
DTSTART;TZID=Europe/Berlin:20260922T100000
DTEND;TZID=Europe/Berlin:20260925T170000
DTSTAMP:20260421T124025
CREATED:20260210T092437Z
LAST-MODIFIED:20260210T094346Z
UID:10000125-1790071200-1790355600@events.presse.online
SUMMARY:InnoTrans 2026: Wenn Mobilität global gedacht werden muss
DESCRIPTION:InnoTrans: Globales Wachstum als Prüfstein der Mobilitätswende\nMobilität gilt längst nicht mehr nur als technische Infrastruktur\, sondern als politischer und wirtschaftlicher Hebel. Wo Verkehrsnetze wachsen\, verdichten sich Machtfragen\, Sicherheitsrisiken und gesellschaftliche Erwartungen. \nVor diesem Hintergrund eröffnet die InnoTrans 2026 ihr Jubiläumsjahr mit dem Titel „Mobility on a global scale shaping projects and growth opportunities“. Der Anspruch: globale Perspektiven auf eine Branche\, die sich zugleich im Umbruch und unter erheblichem Erwartungsdruck befindet. \nKontext & Einordnung\nSeit ihrer ersten Ausgabe Mitte der 1990er-Jahre hat sich die InnoTrans von einer Fachmesse für Schienenverkehr zu einer internationalen Plattform für Verkehrstechnologie entwickelt. Heute adressiert sie nicht nur Hersteller und Betreiber\, sondern auch politische Entscheidungsträger\, Städteplaner und sicherheitsrelevante Akteure. \nDie vollständige Ausbuchung der rund 200.000 Quadratmeter Ausstellungsfläche Monate vor Messebeginn unterstreicht den Stellenwert der Veranstaltung. Für Berlin bedeutet dies erneut eine temporäre Verdichtung internationaler Wirtschafts- und Politiknetzwerke – mit messbarer Bedeutung für Standortprofil\, Hotellerie und Kongresswirtschaft\, aber auch für die politische Sichtbarkeit der Hauptstadt als Mobilitätsdrehscheibe. \nInhaltlich unterscheidet sich die InnoTrans 2026 weniger durch neue Formate als durch eine klare thematische Zuspitzung: Künstliche Intelligenz\, autonomer öffentlicher Personennahverkehr\, Cybersecurity und Digitalisierung stehen nicht isoliert nebeneinander\, sondern werden als miteinander verflochtene Systemfragen verhandelt. Ergänzt wird dies durch den Fokus auf Nachtzüge ein Segment\, das zwischen Klimaversprechen und wirtschaftlicher Tragfähigkeit neu bewertet wird. \nWährend Veranstalter und Industrie den internationalen Austausch betonen\, blickt die Öffentlichkeit zunehmend kritisch auf Fragen von Datensicherheit\, öffentlicher Finanzierung und tatsächlichem Nutzen für den Alltag. Diese Spannung prägt die Wahrnehmung der Messe stärker als klassische Innovationsversprechen. \nAnalyse: Warum dieses Event jetzt relevant ist\nDie Wahl des Eröffnungstitels verweist auf eine zentrale Gegenwartsdiagnose: Mobilität wächst nicht linear\, sondern global fragmentiert. Während einige Regionen massiv in Schiene und ÖPNV investieren\, kämpfen andere mit veralteter Infrastruktur\, Fachkräftemangel und Sicherheitsrisiken. \nDie InnoTrans 2026 macht sichtbar\, dass technischer Fortschritt ohne politische Rahmensetzung an Grenzen stößt. Autonome Systeme werfen Haftungs- und Akzeptanzfragen auf\, KI-gestützte Steuerungen erhöhen Effizienz\, aber auch Angriffsflächen für Cyberkriminalität. Wachstum wird damit zur ambivalenten Kategorie – Chance und Risiko zugleich. \nFür die Branche bedeutet dies eine Verschiebung vom reinen Produktdenken hin zu System- und Vertrauensfragen. Für Besucherinnen und Besucher wird deutlich\, dass Mobilitätsinnovationen nicht losgelöst von Regulierung\, öffentlicher Finanzierung und gesellschaftlicher Akzeptanz funktionieren. Für die Stadtgesellschaft wiederum zeigt sich\, wie stark globale Mobilitätsdebatten lokale Lebensrealitäten beeinflussen – von Nachtzugverbindungen bis zur Sicherheit digitaler Verkehrssysteme. \nFazit\nDie InnoTrans 2026 fungiert weniger als Schaufenster technischer Neuheiten denn als Spiegel einer Branche im Übergang. Globales Wachstum erscheint nicht als Selbstzweck\, sondern als Prüfstein für Nachhaltigkeit\, Sicherheit und politische Steuerungsfähigkeit. Die entscheidende Frage bleibt\, ob internationale Mobilitätsprojekte künftig stärker koordiniert oder weiter fragmentiert – umgesetzt werden. \nWeitere Einordnungen zu Mobilität\, Infrastruktur und globalen Branchenentwicklungen lesen Sie auf Events.Presse.Online. \nFAQ\nWann und wo findet die InnoTrans 2026 statt?Vom 22. bis 25. September 2026 auf dem Berliner Messegelände. \nFür wen ist die InnoTrans relevant?Für Fachpublikum aus Industrie\, Politik\, Wissenschaft und Verkehrsunternehmen; weniger für ein allgemeines Publikum. \nWelche Themen stehen im Mittelpunkt?Künstliche Intelligenz\, autonomer ÖPNV\, Cybersecurity\, Digitalisierung sowie neue Nachtzugkonzepte. \nWas unterscheidet die InnoTrans von anderen Messen?Die internationale Ausrichtung und die systemische Betrachtung von Verkehrstechnologie über einzelne Produkte hinaus. \nWarum ist das Event journalistisch berichtenswert?Weil es zentrale wirtschaftliche und politische Debatten zur Zukunft globaler Mobilität bündelt. \nQuellenliste:\n\n\nMesse Berlin GmbH: Offizielle Informationen zur InnoTrans 2026 \n\n\nInnoTrans Press Office: Pressemitteilungen zur Eröffnungszeremonie und thematischen Ausrichtung \n\n\nAussagen von Kerstin Schulz\, Direktorin der InnoTrans\, laut offizieller Messekommunikation \n\n\nBranchenberichte zur Entwicklung des globalen Schienenverkehrs (u. a. internationale Verkehrs- und Mobilitätsstudien) \n\n\nFachpublikationen zu künstlicher Intelligenz\, autonomem ÖPNV und Cybersecurity im Verkehrssektor \n\n\nEuropäische und internationale Verkehrsstrategien zu Nachtzugverkehr\, Elektrifizierung und nachhaltiger Mobilität \n\n\nEigene redaktionelle Auswertung und Einordnung (Events.Presse.Online)
URL:https://events.presse.online/event/innotrans-2026-wenn-mobilitaet-global-gedacht-werden-muss/
LOCATION:Messe Berlin\, Messedamm 22\, Berlin\, 14405\, Germany
CATEGORIES:Messen & Business
ATTACH;FMTTYPE=image/webp:https://events.presse.online/wp-content/uploads/2026/02/InnoTrans-2026.webp
END:VEVENT
END:VCALENDAR