BEGIN:VCALENDAR
VERSION:2.0
PRODID:-//Events.Presse.Online - ECPv6.15.20//NONSGML v1.0//EN
CALSCALE:GREGORIAN
METHOD:PUBLISH
X-WR-CALNAME:Events.Presse.Online
X-ORIGINAL-URL:https://events.presse.online
X-WR-CALDESC:Veranstaltungen für Events.Presse.Online
REFRESH-INTERVAL;VALUE=DURATION:PT1H
X-Robots-Tag:noindex
X-PUBLISHED-TTL:PT1H
BEGIN:VTIMEZONE
TZID:Europe/Berlin
BEGIN:DAYLIGHT
TZOFFSETFROM:+0100
TZOFFSETTO:+0200
TZNAME:CEST
DTSTART:20250330T010000
END:DAYLIGHT
BEGIN:STANDARD
TZOFFSETFROM:+0200
TZOFFSETTO:+0100
TZNAME:CET
DTSTART:20251026T010000
END:STANDARD
BEGIN:DAYLIGHT
TZOFFSETFROM:+0100
TZOFFSETTO:+0200
TZNAME:CEST
DTSTART:20260329T010000
END:DAYLIGHT
BEGIN:STANDARD
TZOFFSETFROM:+0200
TZOFFSETTO:+0100
TZNAME:CET
DTSTART:20261025T010000
END:STANDARD
BEGIN:DAYLIGHT
TZOFFSETFROM:+0100
TZOFFSETTO:+0200
TZNAME:CEST
DTSTART:20270328T010000
END:DAYLIGHT
BEGIN:STANDARD
TZOFFSETFROM:+0200
TZOFFSETTO:+0100
TZNAME:CET
DTSTART:20271031T010000
END:STANDARD
END:VTIMEZONE
BEGIN:VEVENT
DTSTART;TZID=Europe/Berlin:20260303T080000
DTEND;TZID=Europe/Berlin:20260303T180000
DTSTAMP:20260421T054816
CREATED:20260108T121814Z
LAST-MODIFIED:20260303T052833Z
UID:10000096-1772524800-1772560800@events.presse.online
SUMMARY:ITB Berlin 2026: Tourismus zwischen Wachstum und Balance
DESCRIPTION:ITB Berlin 2026: Jubiläum der Tourismusbranche im Zeichen des Wandels\nDie ITB Berlin gilt seit Jahrzehnten als globaler Treffpunkt der Tourismuswirtschaft. 2026 erhält die Messe besondere Aufmerksamkeit\, weil sie in einer Phase struktureller Umbrüche stattfindet ökonomisch\, ökologisch und politisch. \nEinordnung: Mehr als eine Reisemesse\nSeit ihrer Gründung hat sich die ITB Berlin von einer klassischen Leistungsschau zu einem strategischen Forum der Branche entwickelt. Airlines\, Hotellerie\, Destinationen\, Tech-Anbieter und politische Akteure nutzen die Messe\, um Trends zu setzen und Partnerschaften zu knüpfen. 2026 markiert dabei ein Jubiläumsjahr\, das bewusst Vergangenheit und Zukunft verbindet. \nFür Berlin bedeutet die ITB weiterhin einen erheblichen wirtschaftlichen Impuls: Tausende internationale Fachbesucher:innen sorgen für Auslastung in Hotels\, Gastronomie und Verkehr. Zugleich festigt die Messe den Ruf der Hauptstadt als globalen Kongress- und Messestandort. \nInhaltlich hebt sich die ITB von vergleichbaren Formaten durch ihre Breite ab. Sie bildet die gesamte touristische Wertschöpfungskette ab von klassischen Reiseanbietern über digitale Plattformen bis hin zu politischen Rahmenbedingungen wie Visa- oder Klimapolitik. Der begleitende ITB Berlin Kongress rückt 2026 unter dem Leitmotiv „Leading Tourism into Balance“ Fragen nach nachhaltigem Wachstum\, Krisenfestigkeit und Verantwortung stärker in den Mittelpunkt. \nZwei Perspektiven: Branche und Öffentlichkeit\nAus Sicht der Branche ist die ITB Berlin ein unverzichtbarer Marktplatz für Orientierung. Nach Jahren von Pandemie\, geopolitischen Spannungen und veränderten Reisegewohnheiten steht der Tourismus unter Anpassungsdruck. Themen wie CO₂-Reduktion\, Fachkräftemangel und Digitalisierung sind keine Zukunftsfragen mehr\, sondern akute Herausforderungen. \nFür die Öffentlichkeit und Politik ist die Messe ein Seismograf. Hier wird sichtbar\, wie stark Tourismus globale Abhängigkeiten widerspiegelt von Energiepreisen bis zu Sicherheitslagen. Entscheidungen\, die auf der ITB vorbereitet oder diskutiert werden\, haben oft direkte Auswirkungen auf Mobilität\, Städte und Arbeitsmärkte. \nAnalyse: Warum die ITB Berlin 2026 besonders relevant ist\nDie Jubiläumsausgabe fällt in eine Phase\, in der der internationale Tourismus zwar wieder wächst\, zugleich aber stärker reguliert und hinterfragt wird. Nachhaltigkeit ist nicht mehr nur Imagefaktor\, sondern wirtschaftliche Notwendigkeit. Destinationen stehen unter Druck\, Overtourism zu begrenzen\, während Unternehmen rentable und zugleich verantwortungsvolle Modelle entwickeln müssen. \nGesellschaftlich spiegelt die ITB 2026 die Debatte wider\, wie Reisen künftig legitimiert wird: als kultureller Austausch\, als Wirtschaftsfaktor oder als Belastung für Umwelt und Infrastruktur. Wirtschaftlich geht es um Investitionen in neue Technologien\, etwa im Bereich Datenmanagement oder emissionsärmerer Mobilität. Kulturell bleibt Reisen ein zentraler Faktor internationaler Verständigung\, steht aber zunehmend im Spannungsfeld globaler Krisen. \nFür Besucher:innen und Fachpublikum bietet die ITB damit weniger Inszenierung als vielmehr Orientierung. Sie zeigt\, welche Strategien tragfähig erscheinen und wo politische Leitplanken nötig werden. \nFazit und Ausblick\nDie ITB Berlin 2026 ist kein reines Jubiläumsevent\, sondern ein Arbeitsforum in unsicheren Zeiten. Ihr Wert liegt weniger im Rückblick als in der Frage\, wie Tourismus künftig zwischen Wachstum\, Verantwortung und gesellschaftlicher Akzeptanz ausbalanciert werden kann. Eine Debatte\, die weit über die Messehallen hinausreicht. \nWeitere Einordnungen und Hintergründe zu internationalen Leitmessen finden Sie auf Events.Presse.Online. \nFAQ\nWann und wo findet die ITB Berlin 2026 statt?Vom 3. bis 5. März 2026 auf dem Berliner Messegelände. \nFür wen ist das Event relevant?Für Entscheider:innen der Tourismusbranche\, Politik\, Medien sowie Fachpublikum aus Wirtschaft und Wissenschaft. \nWarum ist die ITB Berlin journalistisch bedeutsam?Sie gilt als globaler Gradmesser für Trends\, Risiken und politische Rahmenbedingungen im Tourismus. \nWelche Themen stehen 2026 im Fokus?Nachhaltigkeit\, resiliente Geschäftsmodelle\, Digitalisierung und internationale Zusammenarbeit. \nWas unterscheidet die ITB von anderen Reisemessen?Ihre konsequente B2B-Ausrichtung und die Abbildung der gesamten touristischen Wertschöpfungskette. \nQuellenliste:\n\n\nMesse Berlin GmbH: ITB Berlin: Veranstaltungsdaten und Messeprofil \n\n\nITB Berlin Kongress 2026: Leitmotiv „Leading Tourism into Balance“ \n\n\nPressemitteilungen und Hintergrundinformationen der ITB Berlin \n\n\nAngaben der Messe Berlin zur wirtschaftlichen Bedeutung von Leitmessen für den Standort Berlin \n\n\nBranchenberichte internationaler Tourismusverbände zur Entwicklung des globalen Reisemarktes \n\n\nEigene redaktionelle Einordnung und Auswertung öffentlich zugänglicher Brancheninformationen
URL:https://events.presse.online/event/itb-berlin-2026-tourismus-zwischen-wachstum-und-balance/
LOCATION:Messe Berlin\, Messedamm 22\, Berlin\, 14405\, Germany
CATEGORIES:Messen & Business
ATTACH;FMTTYPE=image/webp:https://events.presse.online/wp-content/uploads/2026/01/ITB.webp
END:VEVENT
BEGIN:VEVENT
DTSTART;TZID=Europe/Berlin:20260328T170000
DTEND;TZID=Europe/Berlin:20260328T210000
DTSTAMP:20260421T054816
CREATED:20260103T083710Z
LAST-MODIFIED:20260105T160535Z
UID:10000087-1774717200-1774731600@events.presse.online
SUMMARY:Staatsoper Berlin bündelt Oper und Konzert zu Ostern
DESCRIPTION:Festtage an der Staatsoper: Oper und Konzert im Fokus\nMit den Festtagen etabliert die Staatsoper Unter den Linden seit Jahrzehnten einen festen kulturellen Bezugspunkt zur Osterzeit. Der Zyklus richtet sich an ein internationales Publikum und wirkt weit über den Berliner Spielplan hinaus. \nEinordnung und Hintergrund\nDie Festtage an der Staatsoper Unter den Linden wurden 1996 von Daniel Barenboim ins Leben gerufen. Ziel war es\, die Osterzeit mit einem konzentrierten Programm aus Musiktheater und Konzerten zu prägen nicht als Festival im klassischen Sinne\, sondern als kuratierte Verdichtung des Repertoires. \nSeitdem haben sich die Festtage als fester Bestandteil des Berliner Kulturkalenders etabliert. Neben Premieren stehen regelmäßig neu erarbeitete Inszenierungen zentraler Werke des 19. Jahrhunderts im Mittelpunkt. Die Auswahl folgt dabei keiner modischen Dramaturgie\, sondern einer historischen und ästhetischen Linie. \nIm Jahr 2026 verbindet das Programm Werke von Giuseppe Verdi\, Richard Strauss und Johannes Brahms. Trotz unterschiedlicher kultureller Hintergründe stehen diese Komponisten für die Hoch- und Spätromantik und für Musik\, die bis heute den Kanon der großen Opern- und Konzertliteratur prägt. \nBedeutung für Berlin und die Kulturlandschaft\nFür Berlin sind die Festtage mehr als ein hochkarätiges Kulturangebot. Sie positionieren die Stadt erneut als europäischen Opernstandort mit internationalem Anspruch. Gerade in einer Zeit\, in der öffentliche Kulturfinanzierung und Publikumsbindung zunehmend unter Druck stehen\, setzen die Festtage auf Kontinuität und Qualität statt auf Eventisierung. \nAuch wirtschaftlich ist der Osterzyklus relevant: Hotels\, Gastronomie und der Kulturtourismus profitieren von einem Publikum\, das gezielt für diese Aufführungen anreist. Gleichzeitig bleibt das Format bewusst in der Logik eines Repertoirehauses verankert ein Unterschied zu temporären Festivals mit starkem Marketingfokus. \nPerspektiven: Haus und Publikum\nAus Sicht des Hauses bieten die Festtage die Möglichkeit\, künstlerische Handschriften zu schärfen und Werke langfristig im Repertoire zu verankern. Für das Publikum wiederum entsteht Orientierung: Wer die Festtage besucht\, erlebt keinen zufälligen Spielplan\, sondern eine inhaltlich verdichtete musikalische Erzählung. \nDas gilt besonders für Brahms’ Deutsches Requiem\, das 2026 von Generalmusikdirektor Christian Thielemann dirigiert wird. Das Werk gilt als Schlüsselkomposition der Romantik und hebt sich bewusst von liturgischen Requiem-Traditionen ab ein Aspekt\, der auch heutige Debatten über Trost\, Gemeinschaft und kulturelles Gedächtnis berührt. \nAnalyse: Warum die Festtage jetzt relevant sind\nDie Festtage spiegeln einen aktuellen Trend in der Hochkultur: weg von kurzlebigen Formaten\, hin zu kuratorischer Tiefe. In Zeiten digitaler Beschleunigung setzen sie auf Konzentration\, Dauer und Wiederaufführung. \nGesellschaftlich zeigen sie\, dass klassische Musik weiterhin Resonanz entfalten kann\, wenn sie nicht als elitärer Selbstzweck präsentiert wird. Kulturell unterstreichen sie die Bedeutung öffentlicher Opernhäuser als Orte historischer Einordnung. Wirtschaftlich sichern sie Planbarkeit für ein Haus\, das langfristig denkt und nicht nur auf kurzfristige Auslastung reagiert. \nFür Besucher bedeutet das: Wer die Festtage besucht\, nimmt an einem kulturellen Diskurs teil\, der Vergangenheit und Gegenwart verbindet. Für die Stadt bleibt Berlin sichtbar als Ort\, an dem Musikgeschichte nicht museal\, sondern lebendig verhandelt wird. \nFazit:\nDie Festtage an der Staatsoper Unter den Linden sind kein Spektakel\, sondern ein bewusst gesetzter kultureller Akzent. Ihr Wert liegt weniger im Einzelereignis als in der kontinuierlichen Einordnung klassischer Musik in die Gegenwart. \nHinweis: Eine vertiefende redaktionelle Einordnung zu einzelnen Produktionen folgt begleitend zum Veranstaltungszeitraum. \nMehr Einordnung und Kontext zu relevanten Kulturereignissen finden Sie fortlaufend auf Events.Presse.Online. \nFAQ\nWann und wo finden die Festtage statt?Vom 28. März bis 6. April 2026 an der Staatsoper Unter den Linden in Berlin. \nFür wen ist das Event relevant?Für Opern- und Konzertpublikum\, Kulturtouristen sowie Fachkreise aus Musik und Kulturpolitik. \nWarum ist das Event journalistisch bedeutsam?Es steht für kuratierte Hochkultur mit internationaler Ausstrahlung und langfristiger Relevanz. \nWelche Themen stehen im Fokus?Oper und Konzert der Hoch- und Spätromantik\, künstlerische Kontinuität und kulturelles Gedächtnis. \nWas unterscheidet die Festtage von anderen Festivals?Die enge Anbindung an ein Repertoirehaus und der Verzicht auf kurzfristige Eventlogik. \nQuellenliste\n\n\nStaatsoper Unter den Linden: Offizielle Programm- und Hintergrundinformationen zu den Festtagen 2026 \n\n\nArchiv der Staatsoper Unter den Linden: Historie der Festtage seit 1996\, Gründung durch Daniel Barenboim \n\n\nBerliner Senatsverwaltung für Kultur und Gesellschaftlichen Zusammenhalt: Einordnung zur kulturpolitischen Bedeutung der Staatsoper \n\n\nProgrammhefte der Staatsoper Unter den Linden: Werk- und Kontexttexte zu Verdi\, Strauss und Brahms \n\n\nStiftung Oper in Berlin: Struktur\, Aufgaben und Einordnung der Berliner Opernhäuser \n\n\nMusikwissenschaftliche Standardwerke zur Hoch- und Spätromantik: Einordnung der Werke von Verdi\, Strauss und Brahms \n\n\nZeitgenössische Feuilleton-Berichterstattung deutscher Leitmedien: Rezeption und kulturjournalistische Bewertung der Festtage in den vergangenen Spielzeiten
URL:https://events.presse.online/event/staatsoper-berlin-buendelt-oper-und-konzert-zu-ostern/
LOCATION:Staatsoper Unter den Linden\, Unter den Linden 7\, Berlin\, 10117
CATEGORIES:Kultur & Konzerte
ATTACH;FMTTYPE=image/webp:https://events.presse.online/wp-content/uploads/2026/01/Staatsoper-Berlin.webp
ORGANIZER;CN="Staatsoper Unter den Linden":MAILTO:contact@staatsoper-berlin.de
END:VEVENT
END:VCALENDAR