BEGIN:VCALENDAR
VERSION:2.0
PRODID:-//Events.Presse.Online - ECPv6.15.20//NONSGML v1.0//EN
CALSCALE:GREGORIAN
METHOD:PUBLISH
X-WR-CALNAME:Events.Presse.Online
X-ORIGINAL-URL:https://events.presse.online
X-WR-CALDESC:Veranstaltungen für Events.Presse.Online
REFRESH-INTERVAL;VALUE=DURATION:PT1H
X-Robots-Tag:noindex
X-PUBLISHED-TTL:PT1H
BEGIN:VTIMEZONE
TZID:Europe/Berlin
BEGIN:DAYLIGHT
TZOFFSETFROM:+0100
TZOFFSETTO:+0200
TZNAME:CEST
DTSTART:20250330T010000
END:DAYLIGHT
BEGIN:STANDARD
TZOFFSETFROM:+0200
TZOFFSETTO:+0100
TZNAME:CET
DTSTART:20251026T010000
END:STANDARD
BEGIN:DAYLIGHT
TZOFFSETFROM:+0100
TZOFFSETTO:+0200
TZNAME:CEST
DTSTART:20260329T010000
END:DAYLIGHT
BEGIN:STANDARD
TZOFFSETFROM:+0200
TZOFFSETTO:+0100
TZNAME:CET
DTSTART:20261025T010000
END:STANDARD
BEGIN:DAYLIGHT
TZOFFSETFROM:+0100
TZOFFSETTO:+0200
TZNAME:CEST
DTSTART:20270328T010000
END:DAYLIGHT
BEGIN:STANDARD
TZOFFSETFROM:+0200
TZOFFSETTO:+0100
TZNAME:CET
DTSTART:20271031T010000
END:STANDARD
END:VTIMEZONE
BEGIN:VEVENT
DTSTART;TZID=Europe/Berlin:20260202T200000
DTEND;TZID=Europe/Berlin:20260202T223000
DTSTAMP:20260425T133838
CREATED:20260118T092231Z
LAST-MODIFIED:20260118T092959Z
UID:10000108-1770062400-1770071400@events.presse.online
SUMMARY:Warum der „Blaue Montag“ bis heute relevant bleibt
DESCRIPTION:Das lebende Stadtmagazin: Warum der „Blaue Montag“ kulturell überlebt\nKulturelle Öffentlichkeit entsteht dort\, wo Unterschiedliches gleichzeitig Platz hat. In einer Zeit fragmentierter Diskurse wirken solche Räume seltener und damit politischer\, als sie sich selbst verstehen. \nDer 227. „Blaue Montag“\, präsentiert von Arnulf Rating\, knüpft an genau diese Idee an: eine offene Bühne\, auf der Formen\, Stimmen und Haltungen bewusst nebeneinanderstehen. \nUrsprung\, Ziel und Abgrenzung\nSeit 1990 existiert der „Blaue Montag“ als lose\, aber konsequente Antwort auf kulturelle Vereinheitlichung. Nicht als Festival\, nicht als Gala\, sondern als fortlaufende Varieté-Form\, die Wandel nicht behauptet\, sondern sichtbar macht. Das Format versteht sich weniger als kuratiertes Programm denn als lebendes Stadtmagazin: wechselnde Künstler\, wechselnde Tonlagen\, kein festes Narrativ. \nAustragungsort ist das Kabarett-Theater Die Wühlmäuse\, ein Haus\, das seit Jahrzehnten politischem Kabarett und populärer Satire Raum gibt. Seit 2004 existiert das Konzept zudem als „Blauer Mittwoch“ im Kleist Forum ein Hinweis darauf\, dass das Format nicht an eine Szene gebunden ist\, sondern an eine Haltung. \nInhaltlich unterscheidet sich der „Blaue Montag“ von kuratierten Comedy- oder Musikabenden durch seine bewusste Heterogenität. Polit-Stand-up trifft auf Artistik\, Liedermacher auf Stummfilmvertonung\, klassische Couplets auf digitale Magie. Diese Gleichzeitigkeit ist kein Zufall\, sondern Kern des Konzepts. \nBeteiligte Perspektiven\nGastgeber Arnulf Rating fungiert weniger als Moderator denn als ordnende Instanz. Seine politische Satire rahmt den Abend\, ohne ihn zu dominieren. Auf der Bühne stehen beim 227. Termin unter anderem der iPad-Magier Andreas Axmann\, der Stummfilm-Komponist Stephan Graf von Bothmer\, der Diabolo-Artist Söran Diabolista\, der Polit-Stand-up-Kabarettist Frowin sowie Liedermacher und Kabarettisten wie Michael Krebs\, Manfred Maurenbrecher und Gernot Voltz. Die musikalische Begleitung übernehmen die Vocaphoniker mit Liedern der 1920er-Jahre. \nAus Sicht der Veranstalter ist der Abend ein Experimentierraum. Aus Sicht der Stadtöffentlichkeit ist er ein Angebot zur Reibung ohne moralische Anleitung\, aber mit klarer Haltung gegen Beliebigkeit. \nWarum dieses Format jetzt relevant ist\nDer „Blaue Montag“ funktioniert\, weil er sich dem aktuellen Kulturtrend widersetzt. Während viele Formate auf Zielgruppenoptimierung\, Algorithmenlogik und Erwartungssicherheit setzen\, bleibt dieses Varieté offen\, manchmal sperrig\, gelegentlich überfordernd. Gerade darin liegt seine Aktualität. \nGesellschaftlich zeigt sich hier ein Gegenvorschlag zur Vereinzelung: Menschen teilen einen Abend\, ohne sich auf eine gemeinsame Meinung einigen zu müssen. Kulturell wird sichtbar\, dass politischer Diskurs nicht nur in Talkshows oder Social Feeds stattfindet\, sondern auch im Nebeneinander von Humor\, Musik und Artistik. \nFür Besucher bedeutet das: keine Garantie auf Gefallen\, aber auf Relevanz. Für die Stadt ist es ein Indikator dafür\, dass analoge Öffentlichkeit weiterhin funktioniert. Für die Branche zeigt sich\, dass langlebige Formate nicht durch Innovation\, sondern durch konsequente Offenheit überleben. \nDiese Einordnung trägt auch ohne den konkreten Eventnamen: Wo Kultur nicht erklärt\, sondern ausgesetzt wird\, entsteht ein Raum\, der Debatten nicht löst\, aber ermöglicht. \nFazit und journalistischer Ausblick\nDer „Blaue Montag“ ist kein Nostalgieformat\, sondern ein funktionierendes Gegenmodell zur kulturellen Verwertungskette. Seine Bedeutung liegt weniger im Programm als in der Haltung. Solche Formate werden nicht größer aber wichtiger. \n🔔 Weiterführende Einordnungen und Analysen finden Sie auf Events.Presse.Online. \nFAQ\nWann und wo findet der 227. „Blaue Montag“ statt?Am Montag\, 2. Februar 2026  um 20 Uhr im Kabarett-Theater Die Wühlmäuse in Berlin. \nFür wen ist das Event relevant?Für kulturinteressierte Besucher\, die politische Satire\, Musik und Performance im offenen Zusammenhang erleben wollen. \nWelche Themen stehen im Mittelpunkt?Zeitdiagnosen\, politische Satire\, kulturelle Vielfalt und künstlerische Experimente. \nWas unterscheidet den „Blauen Montag“ von ähnlichen Abenden?Die bewusste Mischung unterschiedlichster Kunstformen ohne thematische Vereinheitlichung. \nWarum ist das Event journalistisch berichtenswert?Weil es exemplarisch zeigt\, wie analoge Kulturformate gesellschaftliche Öffentlichkeit herstellen. \nQuellenliste:\n\n\nProgramm- und Hintergrundinformationen zum „Blauen Montag“\, Presse- und Archivmaterial \n\n\nAngaben des Kabarett-Theaters Die Wühlmäuse zur Veranstaltungsreihe und Historie \n\n\nKünstlerbiografien und Eigenangaben der beteiligten Kabarettisten\, Musiker und Performer \n\n\nZeitgenössische Berichterstattung und kulturjournalistische Einordnungen zum „Blauen Montag“ seit 1990 \n\n\nEigene redaktionelle Recherche und Kontextualisierung von Events.Presse.Online \n\n\nÖffentliche Angaben zur Spielstätte zur Reihe „Der Blaue Mittwoch“
URL:https://events.presse.online/event/warum-der-blaue-montag-bis-heute-relevant-bleibt/
LOCATION:Berliner Kabarett-Theater „Die Wühlmäuse“ GmbH\, Pommernallee 2-4\, Berlin\, 14052
CATEGORIES:Kultur & Konzerte
ATTACH;FMTTYPE=image/webp:https://events.presse.online/wp-content/uploads/2026/01/Blaue-Montag.webp
ORGANIZER;CN="Maulhelden.de":MAILTO:information@maulhelden.de
END:VEVENT
BEGIN:VEVENT
DTSTART;TZID=Europe/Berlin:20260207T200000
DTEND;TZID=Europe/Berlin:20260329T223000
DTSTAMP:20260425T133838
CREATED:20260206T162151Z
LAST-MODIFIED:20260206T163327Z
UID:10000124-1770494400-1774823400@events.presse.online
SUMMARY:Warum „Frau Luna“ 2026 wieder passt
DESCRIPTION:Frau Luna im TIPI AM KANZLERAMT: Operette zwischen Nostalgie und Zeitdiagnose\nBerlin. Mit der Wiederaufnahme von „Frau Luna“ holt das TIPI AM KANZLERAMT eine der bekanntesten Berliner Operetten zurück auf die Bühne. Die Produktion richtet sich nicht nur an Operettenliebhaber\, sondern berührt Fragen kultureller Identität und historischer Selbstironie. \nEinordnung: Operette als Berliner Selbstbild\n„Frau Luna“\, 1899 uraufgeführt\, gilt als Schlüsselwerk des Berliner Musiktheaters. Paul Lincke verband eingängige Melodien mit satirischem Blick auf Technikbegeisterung\, Größenwahn und Selbstüberschätzung Motive\, die bis heute anschlussfähig sind. Lieder wie „Das macht die Berliner Luft“ oder „Schlösser\, die im Monde liegen“ sind längst Teil des kulturellen Gedächtnisses der Stadt. \nDie Inszenierung im TIPI AM KANZLERAMT knüpft an die erfolgreiche Premiere von 2016 an. Damals zeigte sich\, dass Operette nicht zwangsläufig museal wirkt\, sondern als Spiegel gesellschaftlicher Eigenheiten gelesen werden kann. Zehn Jahre später ist dieser Ansatz erneut aktuell. \nBühne\, Besetzung\, Kontext\nDie Produktion entsteht erneut in Zusammenarbeit mit Künstlerinnen und Künstlern aus dem Umfeld der BAR JEDER VERNUNFT\, die seit Jahren für zeitgemäße Lesarten klassischer Unterhaltung stehen. Neu im Ensemble sind Franziska Traub und Theo Rüster\, die bekannte Rollen mit frischer Interpretation verbinden. \nDas TIPI AM KANZLERAMT positioniert sich damit einmal mehr als Spielort zwischen Varieté\, Musiktheater und politischer Stadtkultur. Anders als klassische Opernhäuser richtet sich das Haus bewusst an ein Publikum\, das Unterhaltung und Reflexion miteinander verbindet. \nZwei Perspektiven: Publikum und Kulturstandort\nPublikumssicht: Für viele Besucher ist „Frau Luna“ ein Wiedersehen mit vertrauten Melodien. Gleichzeitig eröffnet die Inszenierung jüngeren Zuschauern einen Zugang zu einer Theaterform\, die sonst oft als überholt gilt. \nKulturpolitische Sicht: Für Berlin ist die Wiederaufnahme ein Signal der Kontinuität. In Zeiten knapper Kulturbudgets und wachsender Konkurrenz digitaler Angebote setzt das Haus auf lokale Kulturgeschichte als identitätsstiftenden Faktor. \nAnalyse: Warum jetzt relevant?\nDie Rückkehr von „Frau Luna“ fällt in eine Phase\, in der Berlin verstärkt über seine kulturelle DNA diskutiert. Zwischen internationalem Eventtourismus und lokalen Debatten um Förderung und Sichtbarkeit stellt sich die Frage\, welche Formen von Stadtkultur langfristig tragen. \nDie Operette spiegelt dabei einen zentralen Trend: den Wunsch nach Verankerung. Während neue Formate entstehen\, gewinnen bekannte Stoffe an Bedeutung\, wenn sie zeitgemäß interpretiert werden. Wirtschaftlich stärkt die Produktion den Kulturbetrieb jenseits der großen Opernhäuser\, gesellschaftlich hält sie ein Stück Berliner Selbstverständnis präsent. \nFazit & Ausblick\n„Frau Luna“ ist 2026 weniger Nostalgie als Standortbestimmung. Die Operette zeigt\, dass historische Stoffe dann relevant bleiben\, wenn sie als Kommentar zur Gegenwart gelesen werden. Für Berlin ist die Wiederaufnahme ein leiser\, aber deutlicher Hinweis auf den Wert eigener kultureller Traditionen. \nWeitere Einordnungen zu Kultur- und Gesellschaftsevents finden Sie auf Events.Presse.Online. \nFAQ\nWann und wo findet die Aufführung statt?Vom 24. Januar bis 29. März 2026 im TIPI AM KANZLERAMT in Berlin. \nFür wen ist „Frau Luna“ relevant?Für Operettenfreunde\, kulturinteressierte Berlinerinnen und Berliner sowie Besucher\, die Stadtgeschichte auf der Bühne erleben möchten. \nWarum ist die Wiederaufnahme journalistisch bedeutsam?Sie zeigt\, wie klassische Unterhaltung aktuelle gesellschaftliche Fragen spiegeln kann. \nWas unterscheidet diese Inszenierung von früheren?Die Verbindung aus traditioneller Musik und zeitgenössischer Interpretation. \nWelche Themen stehen im Fokus?Berliner Identität\, Selbstironie und der Umgang mit Fortschrittsglauben. \nQuellenangaben\n\n\nProgramm- und Produktionsinformationen des TIPI AM KANZLERAMT\, Berlin \n\n\nWerkangaben zu Frau Luna von Paul Lincke\, Texte: Heinz Bolten-Baeckers \n\n\nArchivmaterial und zeitgenössische Berichte zur Uraufführung von Frau Luna (1899) \n\n\nEigene Recherchen zu Berliner Operetten- und Theatergeschichte \n\n\nHintergrundinformationen zur Spielstätte und künstlerischen Ausrichtung der BAR JEDER VERNUNFT\, Berlin \n\n\nKulturwissenschaftliche Einordnungen zur Bedeutung der Operette im urbanen Kontext Berlins
URL:https://events.presse.online/event/warum-frau-luna-2026-wieder-passt/
LOCATION:TIPI am Kanzleramt\, Große Querallee\, Berlin\, 10557
CATEGORIES:Kultur & Konzerte
ATTACH;FMTTYPE=image/webp:https://events.presse.online/wp-content/uploads/2026/02/Frau-Luna.webp
ORGANIZER;CN="BAR JEDER VERNUNFT Veranstaltungs-Organisations-GmbH":MAILTO:info@bar-jeder-vernunft.de
END:VEVENT
BEGIN:VEVENT
DTSTART;TZID=Europe/Berlin:20260214T100000
DTEND;TZID=Europe/Berlin:20260329T170000
DTSTAMP:20260425T133838
CREATED:20260210T105612Z
LAST-MODIFIED:20260210T110047Z
UID:10000127-1771063200-1774803600@events.presse.online
SUMMARY:Tempelhofs Flugzeuggeschichte rückt wieder in den Fokus
DESCRIPTION:Flugzeugklassiker am THF: Warum Erinnerungskultur am Flughafen Tempelhof neue Bedeutung gewinnt\nBerlin. Industriekultur erlebt derzeit eine neue Aufmerksamkeit nicht als Nostalgie\, sondern als Mittel gesellschaftlicher Selbstvergewisserung. In dieses Spannungsfeld ordnet sich eine Fotoausstellung ein\, die historische Flugzeuge am Flughafen Tempelhof aus ungewohnten Perspektiven zeigt. \nEin Ort\, viele Bedeutungen\nVom 14. Februar bis zum 29. März ist im THF TOWER am Flughafen Tempelhof die Fotoausstellung „Flugzeugklassiker am THF“ zu sehen. Sie rückt drei Flugzeuge des Deutsches Technikmuseum in den Fokus\, die dauerhaft in den Hangars des ehemaligen Zentralflughafens stationiert sind: eine Iljuschin IL-14P\, eine Douglas C-54 „Skymaster“ und eine Focke-Wulf Fw 200 „Condor“. \nTempelhof ist kein neutraler Ausstellungsort. Seit 1995 steht das Ensemble unter Denkmalschutz und gilt als größtes Baudenkmal Europas. Kaum ein anderer Ort in Deutschland bündelt so viele historische Schichten: zivile Luftfahrt\, NS-Zeit\, Luftbrücke\, Kalter Krieg\, Stilllegung und heutige Zwischennutzungen. Die Ausstellung greift diese Verdichtung auf ohne sie explizit zu erklären. \nDie Flugzeuge als historische Marker\nDie Douglas C-54 ist eng mit der Berliner Luftbrücke verbunden und steht bis heute für Versorgung\, Solidarität und geopolitische Abhängigkeiten der Nachkriegszeit. Die Iljuschin IL-14P verweist auf die Luftfahrtgeschichte der DDR und deren technische Eigenständigkeit im Ostblock. Die Fw 200 wiederum erinnert an eine Epoche\, in der deutsche Ingenieurskunst international Maßstäbe setzte\, zugleich aber militärisch instrumentalisiert wurde. \nDiese Maschinen sind keine beweglichen Exponate mehr\, sondern konservierte Zeitzeugen. Ehrenamtliche Mechaniker\, Ingenieure und Piloten halten sie instand ein Aspekt\, der die Ausstellung implizit mitverhandelt: technisches Wissen als immaterielles Kulturerbe. \nPerspektiven der Ausstellung\nRund 20 großformatige Fotografien zeigen die Flugzeuge aus ungewöhnlichen Blickwinkeln. Verantwortlich ist die Fotografengruppe „Lichtlinsen“\, eine lose Berliner Interessengemeinschaft. Ihre Arbeiten bewegen sich zwischen dokumentarischer Präzision und konzeptioneller Annäherung. Analoge und digitale Techniken stehen gleichberechtigt nebeneinander. \nAus Sicht der Fotografen geht es um Sichtbarmachung von Details\, die Besucher bei Führungen selten wahrnehmen. Aus Sicht des Publikums eröffnet sich ein Zugang\, der weniger erklärend als beobachtend ist. Die Ausstellung positioniert sich damit bewusst zwischen Museum\, Dokumentation und künstlerischer Interpretation. \nAnalyse: Warum gerade jetzt?\nDass diese Ausstellung gerade jetzt stattfindet\, ist kein Zufall. Der Umgang mit historischer Infrastruktur wird zunehmend politisch diskutiert: Sanierungskosten\, Nachnutzung\, Klimabilanz und Erinnerungskultur stehen in Konkurrenz. Tempelhof ist dafür ein exemplarischer Ort. \nZugleich wächst das Interesse an Technikgeschichte jenseits reiner Fortschrittserzählungen. In Zeiten geopolitischer Unsicherheit und Debatten über militärische Abhängigkeiten erhält der Blick auf frühere Luftfahrt- und Logistikkonzepte neue Aktualität. Die Ausstellung bedient dieses Interesse\, ohne es zu instrumentalisieren. \nFür Berlin bedeutet das: Tempelhof wird weiter als kultureller Resonanzraum genutzt\, nicht nur als Eventfläche. Für die Museumslandschaft zeigt sich ein Trend zur Dezentralisierung Geschichte verlässt klassische Ausstellungshallen und kehrt an ihre Entstehungsorte zurück. \nRelevanz und Abgrenzung\nRelevant ist die Ausstellung für ein kultur- und geschichtsinteressiertes Publikum\, für Technikaffine und für jene\, die Tempelhof als politischen Ort begreifen. Weniger angesprochen sind Besucher\, die eine umfassende historische Einordnung oder interaktive Vermittlung erwarten beides leistet die Ausstellung bewusst nicht. \nGerade diese Zurückhaltung unterscheidet sie von Eventformaten mit Erlebnisanspruch. Die Fotografien setzen auf Konzentration und Kontextwissen der Betrachter. \nWeitere Einordnungen zu Kulturorten und gesellschaftlichen Entwicklungen finden Sie auf Events.Presse.Online. \nFazit\n„Flugzeugklassiker am THF“ ist keine nostalgische Rückschau\, sondern ein stiller Kommentar zur Frage\, wie Gesellschaft mit technischen Hinterlassenschaften umgeht. Die Ausstellung nutzt die Kraft des Ortes\, ohne ihn zu erklären und fordert damit zur eigenen Einordnung auf. \nFAQ\nWann und wo findet die Ausstellung statt?Vom 14. Februar bis 29. März im THF TOWER am Flughafen Tempelhof\, samstags und sonntags von 10 bis 17 Uhr. \nIst der Eintritt kostenpflichtig?Nein\, der Besuch ist kostenfrei. \nWelche Flugzeuge werden gezeigt?Eine Iljuschin IL-14P\, eine Douglas C-54 „Skymaster“ und eine Focke-Wulf Fw 200 „Condor“. \nFür wen ist die Ausstellung besonders relevant?Für kultur-\, zeit- und technikgeschichtlich interessierte Besucher sowie für Menschen mit Interesse an der Geschichte Tempelhofs. \nWarum ist die Ausstellung journalistisch berichtenswert?Sie spiegelt aktuelle Debatten über Erinnerungskultur\, Denkmalschutz und den Umgang mit historischer Infrastruktur wider. \nQuellen\n\n\nDeutsches Technikmuseum Berlin: Angaben zu Sammlung\, Dauerleihgaben und Flugzeughistorie \n\n\nFlughafen Tempelhof / Tempelhof Projekt GmbH: Informationen zum THF TOWER\, Öffnungszeiten und Nutzung \n\n\nAusstellungsmaterialien „Flugzeugklassiker am THF“ (Pressemappe\, Stand Februar 2026) \n\n\nAngaben der Fotografengruppe „Lichtlinsen“ zu Arbeitsweise und Ausstellungskonzept \n\n\nZeitgeschichtliche Einordnung zur Berliner Luftbrücke und Luftfahrtgeschichte (1940er–1960er Jahre) \n\n\nDenkmalschutzstatus Flughafen Tempelhof seit 1995 (Land Berlin)
URL:https://events.presse.online/event/tempelhofs-flugzeuggeschichte-rueckt-wieder-in-den-fokus/
LOCATION:Flughafen Berlin-Tempelhof\, Platz d. Luftbrücke 5\, Berlin\, 12101
CATEGORIES:Kultur & Konzerte
ATTACH;FMTTYPE=image/webp:https://events.presse.online/wp-content/uploads/2026/02/THF-TOWER.webp
ORGANIZER;CN="Tempelhof Projekt GmbH":MAILTO:info@thf-berlin.de
END:VEVENT
BEGIN:VEVENT
DTSTART;TZID=Europe/Berlin:20260223T100000
DTEND;TZID=Europe/Berlin:20260226T170000
DTSTAMP:20260425T133838
CREATED:20260107T091906Z
LAST-MODIFIED:20260223T154403Z
UID:10000095-1771840800-1772125200@events.presse.online
SUMMARY:CCW 2026: Kundendialog zwischen Technik und Vertrauen
DESCRIPTION:CCW 2026: Internationale Kongressmesse für innovativen Kundendialog\nDie CCW 2026 bringt Fach- und Führungskräfte aus Kundenservice\, Technologie und Unternehmenspraxis in Berlin zusammen. Das Zusammenspiel von Kongress und Messe macht das Format zu einem Seismografen für Veränderungen im Kundendialog weit über die Branche hinaus. \nEinordnung: Was ist die CCW und für wen?\nDie CCW\, ursprünglich als Branchentreffen für Callcenter entstanden\, hat sich über mehr als zwei Jahrzehnte zu einer internationalen Kongressmesse für ganzheitlichen Kundendialog entwickelt. Heute richtet sie sich nicht nur an Service-Leitungen\, sondern auch an IT-Verantwortliche\, Strategen\, Betriebsräte und Entscheidungsträger aus Wirtschaft und Verwaltung. \nDer Kongress versammelt über 40 Referierende an mehreren Themen- und Kongresstagen. Diskutiert werden neue Arbeitsmodelle\, technologische Entwicklungen und organisatorische Fragen des Kundenkontakts. Ergänzt wird das Programm durch eine angeschlossene Messe\, deren Eintritt für Kongressbesuchende inkludiert ist. Dort präsentieren Ausstellende Softwarelösungen\, Automatisierungskonzepte und Praxisanwendungen. \nBedeutung für Berlin und den Wirtschaftsstandort\nAls Austragungsort profitiert Berlin doppelt: Zum einen wirtschaftlich durch Messe- und Kongresstourismus\, zum anderen als Standort für Start-ups und Digitalunternehmen\, die im Bereich Service-Technologie zunehmend präsent sind. Die CCW fügt sich in die Rolle Berlins als Knotenpunkt für Debatten über digitale Arbeit\, Plattformökonomie und Fachkräftesicherung ein. \nAbgrenzung zu ähnlichen Formaten\nIm Unterschied zu reinen Technologiemessen oder HR-Kongressen verbindet die CCW drei Ebenen: strategische Diskussionen\, konkrete Produktdemonstrationen und strukturierte Austauschformate. Die thematische Klammer bleibt dabei der reale Kundendialog nicht als Marketingversprechen\, sondern als operative Herausforderung. \nZwei Perspektiven: Branche und Öffentlichkeit\nAus Sicht der Branche dient die CCW als Ort der Selbstvergewisserung: Wie lassen sich Effizienz\, Qualität und Mitarbeiterzufriedenheit in Einklang bringen?Aus gesellschaftlicher Perspektive berührt das Thema grundlegende Fragen: Wie transparent sind automatisierte Services? Welche Rolle spielen menschliche Ansprechpartner in einer zunehmend digitalisierten Wirtschaft? \nAnalyse: Warum die CCW 2026 jetzt relevant ist\nDer Zeitpunkt der CCW 2026 fällt in eine Phase beschleunigter Veränderungen. Künstliche Intelligenz\, Sprachautomatisierung und Datenanalyse verändern den Kundenkontakt spürbar. Gleichzeitig wächst die Kritik an intransparenten Systemen und unpersönlichem Service. \nGesellschaftlich spiegelt die CCW die Debatte um Vertrauen in digitale Prozesse wider. Kundendialog wird zum Gradmesser dafür\, wie ernst Unternehmen Teilhabe und Verständlichkeit nehmen.Wirtschaftlich steht der Sektor unter Kostendruck\, während Fachkräfte fehlen. Effizienzgewinne durch Technologie treffen auf die Notwendigkeit\, Servicequalität zu sichern.Kulturell verändert sich die Erwartungshaltung: Kunden akzeptieren digitale Kanäle\, verlangen aber Nachvollziehbarkeit und Eskalationsmöglichkeiten. \nFür Besucherinnen und Besucher bedeutet das: Die CCW bietet weniger Antworten als Orientierung. Sie zeigt\, welche Lösungen diskutiert werden und wo offene Fragen bleiben. \nFazit:\nDie CCW 2026 ist kein Schaufenster für einfache Lösungen\, sondern ein Spiegel aktueller Spannungen im Kundendialog. Wer verstehen will\, wie Service\, Technologie und Arbeitswelt zusammenfinden sollen\, findet hier relevante Einordnungen. Ob daraus nachhaltige Standards entstehen\, bleibt offen. \n🔔 Mehr Einordnung\, Hintergründe und Kontext finden Sie auf Events.Presse.Online. \nFAQ\nWann und wo findet die CCW 2026 statt?Die CCW 2026 wird in Berlin als Kongressmesse mit mehreren Themen- und Kongresstagen ausgerichtet. \nFür wen ist das Event relevant?Für Fach- und Führungskräfte aus Kundenservice\, IT\, Unternehmensorganisation sowie für Interessierte an digitaler Arbeit. \nWarum ist die CCW journalistisch bedeutsam?Sie bündelt zentrale Debatten zu Automatisierung\, Servicequalität und Arbeitsbedingungen im Kundendialog. \nWelche Themen stehen im Fokus?Technologische Entwicklungen\, neue Arbeitswelten\, Praxisanwendungen und strategische Fragen des Kundenkontakts. \nWas unterscheidet die CCW von ähnlichen Veranstaltungen?Die enge Verzahnung von Kongress\, Messe und strukturierten Austauschformaten. \nQuellenliste:\n\n\nVeranstalterangaben zur CCW – Call Center World (Programmbeschreibungen Kongress & Messe) \n\n\nMesse- und Kongressprofile früherer CCW-Veranstaltungen (Branchendokumentation) \n\n\nBranchenberichte zum Kundenservice- und Contact-Center-Markt in Deutschland \n\n\nFachveröffentlichungen zu Kundendialog\, Service-Technologien und Arbeitswelt (2024–2025) \n\n\nWirtschaftliche Standortanalysen zu Messe- und Kongressveranstaltungen in Berlin \n\n\nEigene redaktionelle Auswertung und Einordnung auf Basis journalistischer Standards
URL:https://events.presse.online/event/ccw-2026-kundendialog-zwischen-technik-und-vertrauen/
LOCATION:ECC – Estrel Hotel & Convention Center\, Sonnenallee 225\, Berlin\, 12057
CATEGORIES:Messen & Business
ATTACH;FMTTYPE=image/webp:https://events.presse.online/wp-content/uploads/2026/01/CCW.webp
ORGANIZER;CN="Management Circle AG":MAILTO:kundenservice@managementcircle.de
END:VEVENT
END:VCALENDAR