BEGIN:VCALENDAR
VERSION:2.0
PRODID:-//Events.Presse.Online - ECPv6.15.20//NONSGML v1.0//EN
CALSCALE:GREGORIAN
METHOD:PUBLISH
X-ORIGINAL-URL:https://events.presse.online
X-WR-CALDESC:Veranstaltungen für Events.Presse.Online
REFRESH-INTERVAL;VALUE=DURATION:PT1H
X-Robots-Tag:noindex
X-PUBLISHED-TTL:PT1H
BEGIN:VTIMEZONE
TZID:Europe/Berlin
BEGIN:DAYLIGHT
TZOFFSETFROM:+0100
TZOFFSETTO:+0200
TZNAME:CEST
DTSTART:20250330T010000
END:DAYLIGHT
BEGIN:STANDARD
TZOFFSETFROM:+0200
TZOFFSETTO:+0100
TZNAME:CET
DTSTART:20251026T010000
END:STANDARD
BEGIN:DAYLIGHT
TZOFFSETFROM:+0100
TZOFFSETTO:+0200
TZNAME:CEST
DTSTART:20260329T010000
END:DAYLIGHT
BEGIN:STANDARD
TZOFFSETFROM:+0200
TZOFFSETTO:+0100
TZNAME:CET
DTSTART:20261025T010000
END:STANDARD
BEGIN:DAYLIGHT
TZOFFSETFROM:+0100
TZOFFSETTO:+0200
TZNAME:CEST
DTSTART:20270328T010000
END:DAYLIGHT
BEGIN:STANDARD
TZOFFSETFROM:+0200
TZOFFSETTO:+0100
TZNAME:CET
DTSTART:20271031T010000
END:STANDARD
END:VTIMEZONE
BEGIN:VEVENT
DTSTART;TZID=Europe/Berlin:20260303T200000
DTEND;TZID=Europe/Berlin:20260531T220000
DTSTAMP:20260420T115542
CREATED:20260127T161016Z
LAST-MODIFIED:20260127T162547Z
UID:10000119-1772568000-1780264800@events.presse.online
SUMMARY:Zeitgenössischer Zirkus als Spiegel der Gegenwart
DESCRIPTION:BELLO! im Chamäleon Berlin: Wenn zeitgenössischer Zirkus zur Erzählform wird\nKunstformen verändern sich dort am stärksten\, wo gesellschaftliche Gewissheiten brüchig werden. Wenn Körper\, Sprache und Bewegung neu zusammengedacht werden\, geht es oft um mehr als Ästhetik es geht um Deutungshoheit. \nAb dem 3. März 2026 ist im Chamäleon Berlin das Stück BELLO! der italienischen Kompanie Fabbrica C zu sehen. Nach Erfolgen beim Berlin Circus Festival wird die Produktion für mehrere Monate neu interpretiert auf die Bühne am Hackeschen Markt gebracht nicht als bloße Wiederaufnahme\, sondern als Weiterentwicklung eines erzählerischen Zirkusformats. \nKontext & Abgrenzung\nZeitgenössischer Zirkus hat sich in den vergangenen Jahren von der reinen Nummernlogik gelöst. Statt virtuoser Einzelleistungen treten Konzepte\, Narrative und kollektive Arbeitsweisen in den Vordergrund. BELLO! geht dabei einen Schritt weiter: Das Stück ist als Abfolge kurzer Erzählungen angelegt\, die gesprochen und gleichzeitig körperlich interpretiert werden. \nDamit unterscheidet sich die Produktion von wortlosen Zirkusformaten ebenso wie vom klassischen Sprechtheater. Die Texte kommentieren das Bühnengeschehen nicht erklärend\, sondern eröffnen zusätzliche Bedeutungsebenen. Künstlerischer Leiter Francesco Sgrò betont\, dass Sprache hier nicht Illustration\, sondern eigenständiges Material ist. \nFür Berlin ist diese Form relevant\, weil sie an eine Stadttradition anknüpft\, in der freie Darstellungsformen\, Performance und Diskurs eng miteinander verwoben sind. Zugleich bleibt BELLO! kein niedrigschwelliges Unterhaltungsangebot: Die Produktion richtet sich an ein kulturinteressiertes Publikum\, das bereit ist\, Mehrdeutigkeit auszuhalten. \nWarum dieses Event jetzt relevant ist\nDie Frage nach Schönheit ist in gegenwärtigen Debatten hoch aufgeladen ökonomisch\, politisch und medial. Normierte Bilder\, algorithmische Verstärkung und kommerzielle Verwertung prägen den öffentlichen Raum. BELLO! setzt dem kein Gegenbild im Sinne idealisierter Ästhetik entgegen\, sondern macht die Mechanismen selbst sichtbar. \nIndem das gesamte Ensemble permanent in Bewegung bleibt und auf Solo-Nummern verzichtet\, wird ein kollektives Körperbild gezeigt\, das Individualisierung und Konkurrenz bewusst unterläuft. Diese Entscheidung spiegelt eine breitere Entwicklung in den darstellenden Künsten: weg vom Starprinzip\, hin zu kooperativen Arbeitsformen. \nAuch die Verbindung von Sprache und Akrobatik verweist auf einen Trend zur Hybridisierung von Kunstformen. Grenzen zwischen Theater\, Tanz und Zirkus werden durchlässiger nicht aus Innovationszwang\, sondern als Antwort auf komplexe Gegenwartserfahrungen\, die sich monodisziplinär kaum noch erzählen lassen. \nFür das Publikum bedeutet das: BELLO! ist weniger Spektakel als Einladung zur Reflexion. Für die Branche zeigt sich\, dass zeitgenössischer Zirkus zunehmend als diskursfähige Kunstform wahrgenommen wird mit Relevanz über den Aufführungsraum hinaus. \nFazit & Ausblick\nBELLO! im Chamäleon Berlin ist kein Ereignis\, das durch Neuheit allein überzeugt. Seine Bedeutung liegt in der konsequenten Verbindung von Erzählung\, Körper und kollektiver Praxis. Damit steht die Produktion exemplarisch für eine Kunstform\, die ihre gesellschaftliche Rolle neu definiert leise\, präzise und ohne dekorative Überhöhung. \nWeitere Einordnungen zu Kultur\, Gesellschaft und Events finden Sie auf Events.Presse.Online. \nFAQ\nWann und wo findet BELLO! statt?Ab dem 3. März 2026 im Chamäleon Berlin am Hackeschen Markt. \nFür wen ist das Stück relevant?Für ein kulturinteressiertes Publikum mit Interesse an zeitgenössischem Zirkus\, Theater und gesellschaftlichen Fragestellungen. \nWelche Themen stehen im Mittelpunkt?Schönheitsbilder\, Kollektivität\, Alltagsbeobachtungen und Formen des Erzählens. \nWas unterscheidet BELLO! von anderen Zirkusproduktionen?Die Verbindung von gesprochener Erzählung und Akrobatik sowie der konsequente Verzicht auf Solo-Nummern. \nWarum ist das Event journalistisch berichtenswert?Weil es größere kulturelle Entwicklungen sichtbar macht und zeitgenössischen Zirkus als diskursive Kunstform positioniert. \nQuellenliste:\n\n\nProgrammunterlagen und Produktionsbeschreibung BELLO!\, Fabbrica C \n\n\nHintergrundgespräch / Zitatangaben von Francesco Sgrò (künstlerische Leitung) \n\n\nInformationen zur Neuproduktion BELLO! am Chamäleon Berlin\, Spielzeit ab März 2026 \n\n\nSelbstdarstellung und Produktionsprofil Chamäleon Berlin (Produktionshaus für zeitgenössischen Zirkus) \n\n\nAngaben zur Kompanie Fabbrica C und zum Netzwerk Cordata F.O.R \n\n\nFestivalangaben und Rückblicke Berlin Circus Festival \n\n\nBiografische Angaben zu Francesco Sgrò und Auszeichnungen beim Festival Mondial du Cirque de Demain \n\n\nEigene journalistische Einordnung und Kontextualisierung auf Basis kulturwissenschaftlicher Debatten zu zeitgenössischem Zirkus und performativen Erzählformen
URL:https://events.presse.online/event/zeitgenoessischer-zirkus-als-spiegel-der-gegenwart/
LOCATION:Chamäleon Berlin\, Rosenthaler Straße 40/41\, Berlin\, 10118
CATEGORIES:Kultur & Konzerte
ATTACH;FMTTYPE=image/webp:https://events.presse.online/wp-content/uploads/2026/01/BELLO-im-Chamaeleon-Berlin.webp
ORGANIZER;CN="Cham%C3%A4leon Berlin gGmbH":MAILTO:info@chamaeleonberlin.com
END:VEVENT
BEGIN:VEVENT
DTSTART;TZID=Europe/Berlin:20260327T120000
DTEND;TZID=Europe/Berlin:20260419T200000
DTSTAMP:20260420T115542
CREATED:20260106T084343Z
LAST-MODIFIED:20260106T084604Z
UID:10000093-1774612800-1776628800@events.presse.online
SUMMARY:70 Jahre Britzer Baumblüte: Berliner Volksfest mit Bedeutung
DESCRIPTION:Britzer Baumblüte 2026: Volksfest-Tradition im Berliner Süden\nDie Britzer Baumblüte zählt zu den ältesten Volksfesten Berlins und zieht im Frühjahr Familien\, Anwohner und Ausflügler an. Über den reinen Unterhaltungswert hinaus steht das Fest für lokale Verwurzelung und wirtschaftliche Kontinuität. \nEinordnung: Ein Volksfest mit Geschichte\nSeit sieben Jahrzehnten markiert die Britzer Baumblüte den Beginn der warmen Jahreszeit im Süden Berlins. Rund um den Gutspark Britz entsteht alljährlich ein temporärer Treffpunkt für Generationen. Die Mischung aus Fahrgeschäften\, Gastronomie und Biergartenkultur entspricht dem klassischen Volksfestformat\, das in vielen Großstädten zunehmend unter Druck gerät. \nRund 40 Schaustellerinnen und Schausteller gestalten 2026 das Programm. Klassiker wie Autoscooter\, Breakdance und eine Familienachterbahn stehen im Mittelpunkt. Ergänzt wird das Angebot durch regionale Spezialitäten wie Obstwein und Thüringer Rostbratwurst ein bewusst bodenständiger Rahmen ohne Eventisierung. \nBedeutung für Stadt und Region\nFür den Bezirk Britz hat die Baumblüte eine doppelte Funktion: Sie ist Freizeitangebot und Wirtschaftsfaktor zugleich. Schaustellerbetriebe\, Gastronomie und Zulieferer profitieren von der mehrwöchigen Laufzeit. Gleichzeitig bleibt das Fest niedrigschwellig Eintrittspreise und Angebot richten sich an ein breites Publikum. \nStadtsoziologisch erfüllt die Baumblüte eine Rolle\, die zunehmend seltener wird: Sie schafft einen öffentlichen Raum\, der nicht konsumzentriert auf ein einzelnes Publikum ausgerichtet ist\, sondern Begegnung ermöglicht. \nAbgrenzung zu ähnlichen Formaten\nIm Vergleich zu großen Stadtfesten oder kommerziell geprägten Events verzichtet die Britzer Baumblüte auf aufwendige Inszenierung. Gerade diese Zurückhaltung unterscheidet sie von vielen neueren Formaten. Der Fokus liegt auf Kontinuität statt Neuerfindung. \nPerspektiven: Veranstalter und Publikum\nAus Sicht der Veranstalter steht Planungssicherheit im Vordergrund gerade vor dem Hintergrund steigender Kosten für Energie\, Logistik und Sicherheit. Für Besucherinnen und Besucher wiederum zählt Verlässlichkeit: bekannte Fahrgeschäfte\, überschaubares Gelände und ein kalkulierbarer Rahmen. \nAnalyse: Warum ist das Event jetzt relevant?\nDie Britzer Baumblüte spiegelt einen Trend\, der in vielen Städten sichtbar ist: das wachsende Bedürfnis nach lokalen\, analogen Erlebnissen. Während urbane Großevents häufig polarisiert diskutiert werden\, bleibt das klassische Volksfest ein stabiler Anker. \nGesellschaftlich zeigt sich hier der Wunsch nach gemeinschaftlichen Ritualen. Wirtschaftlich sichern solche Feste das Überleben mittelständischer Schaustellerbetriebe. Kulturell bewahren sie eine Form städtischer Alltagskultur\, die jenseits von Festivalisierung existiert. \nFür Berlin bedeutet das: Stadtentwicklung besteht nicht nur aus Großprojekten\, sondern auch aus dem Erhalt funktionierender Nachbarschaftsformate. \nFazit:\nDie Britzer Baumblüte 2026 ist kein Spektakel\, sondern ein bewusst traditionelles Volksfest. Gerade darin liegt ihre Relevanz. Sie zeigt\, wie lokale Veranstaltungen zur sozialen Stabilität und wirtschaftlichen Vielfalt einer Metropole beitragen können. \nHinweis: Weitere Einordnungen zu regionalen Veranstaltungen finden Sie auf Events.Presse.Online. \nFAQ\nWann und wo findet die Britzer Baumblüte 2026 statt?Vom 27. März bis 19. April 2026 auf dem Festgelände an der Parchimer Allee in Berlin-Britz. \nFür wen ist das Event relevant?Für Familien\, Anwohner\, Schaustellerbetriebe und Besucher aus Berlin und dem Umland. \nWarum ist das Event journalistisch bedeutsam?Weil es zeigt\, welche Rolle traditionelle Volksfeste für Stadtgesellschaft und lokale Wirtschaft spielen. \nWelche Themen stehen im Fokus?Tradition\, Freizeitkultur\, regionale Wirtschaft und öffentlicher Raum. \nWas unterscheidet es von vergleichbaren Veranstaltungen?Der Verzicht auf Eventisierung zugunsten eines bodenständigen\, kontinuierlichen Formats. \nQuellenangaben:\n\n\nAngaben der Veranstalter zur Britzer Baumblüte 2026 (Termin\, Ort\, Programmstruktur) \n\n\nBezirksamt Neukölln von Berlin: Informationen zu Volksfesten und Veranstaltungen im Bezirk Britz \n\n\nHistorische Darstellungen und Archivmaterial zur Geschichte der Britzer Baumblüte \n\n\nEigene redaktionelle Recherche und Einordnung (Events.Presse.Online)
URL:https://events.presse.online/event/70-jahre-britzer-baumbluete-berliner-volksfest-mit-bedeutung/
LOCATION:Gutspark Britz\, Parchimer/Fulhamer Allee 110\, Berlin\, 12359
CATEGORIES:Freizeit & Familie
ATTACH;FMTTYPE=image/webp:https://events.presse.online/wp-content/uploads/2026/01/Britzer-Baumbluete.webp
ORGANIZER;CN="Thilo-Harry Wollenschlaeger":MAILTO:info@wollenschlaeger-berlin.de
END:VEVENT
BEGIN:VEVENT
DTSTART;TZID=Europe/Berlin:20260404T200000
DTEND;TZID=Europe/Berlin:20260404T223000
DTSTAMP:20260420T115542
CREATED:20260105T105300Z
LAST-MODIFIED:20260105T160508Z
UID:10000092-1775332800-1775341800@events.presse.online
SUMMARY:Klangwerk 306: Popchor mit politischem Anspruch
DESCRIPTION:Klangwerk 306 im Tipi: Popchor zwischen Musik und Haltung\nDer Berliner Popchor Klangwerk 306 kehrt nach einem vielbeachteten Debüt mit zwei Vorstellungen ins Tipi am Kanzleramt zurück. Das Ensemble verbindet zeitgenössische Popmusik mit gesellschaftlicher Haltung und erreicht damit ein Publikum weit über die klassische Chorszene hinaus. \nEin Chor jenseits des Gewöhnlichen\nKlangwerk 306 ist kein professionelles Ensemble im klassischen Sinne. Die 47 Sängerinnen und Sänger gehen unterschiedlichen Berufen nach\, proben jedoch seit 16 Jahren mit bemerkenswerter Konsequenz an einem gemeinsamen Anspruch: Popmusik ernst zu nehmen musikalisch wie inhaltlich. Diese Mischung aus Amateurstatus und professionellem Qualitätsanspruch hat dem Chor eine stabile Fanbasis eingebracht\, insbesondere in Berlin. \nGeleitet wird Klangwerk 306 von Lili Sommerfeld (Arrangements\, musikalische Leitung) und Anne Grabowski (Performance Coaching\, Choreografie). Beide prägen die Arbeit durch klare künstlerische Konzepte: Chor als erzählendes Kollektiv\, Pop als Spiegel gesellschaftlicher Fragen. \nInhalt vor Harmonie\nZentrales Element des aktuellen Programms ist das Medley „The Emancipation of Britney Spears“. Darin erzählt der Chor die Geschichte der Popikone Britney Spears\, die über Jahre unter Vormundschaft stand. Mit Originalzitaten und Songtexten beleuchtet das Ensemble patriarchale Machtstrukturen\, mediale Verantwortung und die Bedeutung zivilgesellschaftlicher Bewegungen wie #FreeBritney. \nDiese Form der musikalischen Einordnung unterscheidet Klangwerk 306 von vielen Popchören\, die sich primär auf Klangfülle oder Unterhaltung konzentrieren. Hier steht nicht das Medley als Effekt\, sondern als Kommentar im Mittelpunkt. \nMusikalische Bandbreite mit Haltung\nDas Repertoire spannt einen weiten Bogen: Songs von Billie Eilish und Olivia Rodrigo greifen Generationenfragen und emotionale Überforderung auf. Glamour und Inszenierung liefert Chappell Roan\, während Titel von Muse\, Deichkind und Clueso politische und gesellschaftliche Brüche thematisieren. \nEinen verbindenden Rahmen setzen Zitate und Songs von Rio Reiser weniger als Nostalgie\, sondern als fortdauernde Fragestellung nach Verantwortung\, Solidarität und Handlungsspielräumen. \nBedeutung für Berlin und die Kulturszene\nFür Berlin ist das Gastspiel mehr als ein Konzerttermin. Die Stadt verfügt über eine lebendige\, aber oft fragmentierte Chorszene. Klangwerk 306 zeigt\, wie niedrigschwellige Formate gesellschaftliche Debatten aufnehmen können\, ohne akademisch oder elitär zu wirken. Das Tipi als Spielort unterstreicht diese Positionierung zwischen Unterhaltung\, Theater und politischer Kultur. \nPerspektiven: Publikum und Kulturarbeit\nAus Sicht des Publikums bietet das Konzert einen Zugang zu politischen Themen über Musik – emotional\, aber strukturiert. Für die Kulturszene ist Klangwerk 306 ein Beispiel dafür\, wie ehrenamtliche Strukturen professionelle Relevanz entfalten können\, ohne sich kommerziellen Logiken zu unterwerfen. \nAnalyse: Warum dieses Event jetzt relevant ist\nPopmusik erlebt derzeit eine neue Politisierung – sichtbar in sozialen Medien\, in Chart-Debatten und auf Bühnen. Klangwerk 306 greift diesen Trend auf und übersetzt ihn in ein kollektives\, chorisches Format. Gerade in Zeiten gesellschaftlicher Polarisierung zeigt das Ensemble\, wie kulturelle Praxis Diskurse öffnen kann\, ohne zu moralisieren. \nGesellschaftlich stärkt das Projekt die Idee von Beteiligung statt Konsum. Wirtschaftlich bleibt der Effekt überschaubar\, kulturell jedoch setzt der Chor Impulse: Pop als Diskursraum\, Chorarbeit als zeitgemäße Ausdrucksform. \nFazit:\nKlangwerk 306 positioniert sich konsequent zwischen Musik und Haltung. Das Gastspiel im Tipi ist weniger Event-Highlight als kulturelle Standortbestimmung für Berlin\, für Popmusik und für die Frage\, wie Kunst heute gesellschaftlich wirken kann. \nFAQ\nWann und wo findet das Event statt?Zu Ostern 2026 im Tipi am Kanzleramt in Berlin\, mit Abend- und Familienvorstellung. \nFür wen ist das Event relevant?Für kulturinteressierte Berliner\, Pop-Fans und Menschen\, die Musik als gesellschaftlichen Kommentar verstehen. \nWarum ist das Event journalistisch bedeutsam?Weil es Popmusik mit politischer Einordnung verbindet und aktuelle Debatten künstlerisch reflektiert. \nWelche Themen stehen im Fokus?Machtstrukturen\, Medienverantwortung\, Popkultur\, gesellschaftlicher Wandel. \nWas unterscheidet Klangwerk 306 von anderen Chören?Der konsequente Fokus auf Inhalte\, politische Kontexte und performative Umsetzung. \nWeitere journalistische Einordnungen zu Kultur- und Gesellschaftsveranstaltungen finden Sie auf Events.Presse.Online. \nQuellenliste:\n\n\nEigene Programmbeschreibung und Ankündigungstexte von Klangwerk 306 \n\n\nHintergrundinformationen aus früheren Presseberichten und Konzertankündigungen zu Klangwerk 306 (2010–2025) \n\n\nÖffentliche Berichterstattung zur Vormundschaft von Britney Spears und zur #FreeBritney-Bewegung \n\n\nInterviews und öffentliche Auftritte von Lili Sommerfeld (musikalische Leitung) \n\n\nInterviews und Projektbeschreibungen von Anne Grabowski (Performance Coaching\, Choreografie) \n\n\nAllgemeine kulturjournalistische Einordnung zur Rolle von Popmusik in gesellschaftlichen Debatten (Feuilleton\, Kulturressorts deutscher Leitmedien) \n\n\nInformationen zum Spielort Tipi am Kanzleramt und dessen kulturpolitischer Einordnung in Berlin
URL:https://events.presse.online/event/klangwerk-306-popchor-mit-politischem-anspruch/
LOCATION:TIPI am Kanzleramt\, Große Querallee\, Berlin\, 10557
CATEGORIES:Kultur & Konzerte
ATTACH;FMTTYPE=image/webp:https://events.presse.online/wp-content/uploads/2026/01/Klangwerk-306.webp
ORGANIZER;CN="TIPI am Kanzleramt":MAILTO:info@tipi-am-kanzleramt.de
END:VEVENT
END:VCALENDAR