BEGIN:VCALENDAR
VERSION:2.0
PRODID:-//Events.Presse.Online - ECPv6.15.20//NONSGML v1.0//EN
CALSCALE:GREGORIAN
METHOD:PUBLISH
X-WR-CALNAME:Events.Presse.Online
X-ORIGINAL-URL:https://events.presse.online
X-WR-CALDESC:Veranstaltungen für Events.Presse.Online
REFRESH-INTERVAL;VALUE=DURATION:PT1H
X-Robots-Tag:noindex
X-PUBLISHED-TTL:PT1H
BEGIN:VTIMEZONE
TZID:Europe/Berlin
BEGIN:DAYLIGHT
TZOFFSETFROM:+0100
TZOFFSETTO:+0200
TZNAME:CEST
DTSTART:20250330T010000
END:DAYLIGHT
BEGIN:STANDARD
TZOFFSETFROM:+0200
TZOFFSETTO:+0100
TZNAME:CET
DTSTART:20251026T010000
END:STANDARD
BEGIN:DAYLIGHT
TZOFFSETFROM:+0100
TZOFFSETTO:+0200
TZNAME:CEST
DTSTART:20260329T010000
END:DAYLIGHT
BEGIN:STANDARD
TZOFFSETFROM:+0200
TZOFFSETTO:+0100
TZNAME:CET
DTSTART:20261025T010000
END:STANDARD
BEGIN:DAYLIGHT
TZOFFSETFROM:+0100
TZOFFSETTO:+0200
TZNAME:CEST
DTSTART:20270328T010000
END:DAYLIGHT
BEGIN:STANDARD
TZOFFSETFROM:+0200
TZOFFSETTO:+0100
TZNAME:CET
DTSTART:20271031T010000
END:STANDARD
END:VTIMEZONE
BEGIN:VEVENT
DTSTART;TZID=Europe/Berlin:20260303T200000
DTEND;TZID=Europe/Berlin:20260531T220000
DTSTAMP:20260423T115048
CREATED:20260127T161016Z
LAST-MODIFIED:20260127T162547Z
UID:10000119-1772568000-1780264800@events.presse.online
SUMMARY:Zeitgenössischer Zirkus als Spiegel der Gegenwart
DESCRIPTION:BELLO! im Chamäleon Berlin: Wenn zeitgenössischer Zirkus zur Erzählform wird\nKunstformen verändern sich dort am stärksten\, wo gesellschaftliche Gewissheiten brüchig werden. Wenn Körper\, Sprache und Bewegung neu zusammengedacht werden\, geht es oft um mehr als Ästhetik es geht um Deutungshoheit. \nAb dem 3. März 2026 ist im Chamäleon Berlin das Stück BELLO! der italienischen Kompanie Fabbrica C zu sehen. Nach Erfolgen beim Berlin Circus Festival wird die Produktion für mehrere Monate neu interpretiert auf die Bühne am Hackeschen Markt gebracht nicht als bloße Wiederaufnahme\, sondern als Weiterentwicklung eines erzählerischen Zirkusformats. \nKontext & Abgrenzung\nZeitgenössischer Zirkus hat sich in den vergangenen Jahren von der reinen Nummernlogik gelöst. Statt virtuoser Einzelleistungen treten Konzepte\, Narrative und kollektive Arbeitsweisen in den Vordergrund. BELLO! geht dabei einen Schritt weiter: Das Stück ist als Abfolge kurzer Erzählungen angelegt\, die gesprochen und gleichzeitig körperlich interpretiert werden. \nDamit unterscheidet sich die Produktion von wortlosen Zirkusformaten ebenso wie vom klassischen Sprechtheater. Die Texte kommentieren das Bühnengeschehen nicht erklärend\, sondern eröffnen zusätzliche Bedeutungsebenen. Künstlerischer Leiter Francesco Sgrò betont\, dass Sprache hier nicht Illustration\, sondern eigenständiges Material ist. \nFür Berlin ist diese Form relevant\, weil sie an eine Stadttradition anknüpft\, in der freie Darstellungsformen\, Performance und Diskurs eng miteinander verwoben sind. Zugleich bleibt BELLO! kein niedrigschwelliges Unterhaltungsangebot: Die Produktion richtet sich an ein kulturinteressiertes Publikum\, das bereit ist\, Mehrdeutigkeit auszuhalten. \nWarum dieses Event jetzt relevant ist\nDie Frage nach Schönheit ist in gegenwärtigen Debatten hoch aufgeladen ökonomisch\, politisch und medial. Normierte Bilder\, algorithmische Verstärkung und kommerzielle Verwertung prägen den öffentlichen Raum. BELLO! setzt dem kein Gegenbild im Sinne idealisierter Ästhetik entgegen\, sondern macht die Mechanismen selbst sichtbar. \nIndem das gesamte Ensemble permanent in Bewegung bleibt und auf Solo-Nummern verzichtet\, wird ein kollektives Körperbild gezeigt\, das Individualisierung und Konkurrenz bewusst unterläuft. Diese Entscheidung spiegelt eine breitere Entwicklung in den darstellenden Künsten: weg vom Starprinzip\, hin zu kooperativen Arbeitsformen. \nAuch die Verbindung von Sprache und Akrobatik verweist auf einen Trend zur Hybridisierung von Kunstformen. Grenzen zwischen Theater\, Tanz und Zirkus werden durchlässiger nicht aus Innovationszwang\, sondern als Antwort auf komplexe Gegenwartserfahrungen\, die sich monodisziplinär kaum noch erzählen lassen. \nFür das Publikum bedeutet das: BELLO! ist weniger Spektakel als Einladung zur Reflexion. Für die Branche zeigt sich\, dass zeitgenössischer Zirkus zunehmend als diskursfähige Kunstform wahrgenommen wird mit Relevanz über den Aufführungsraum hinaus. \nFazit & Ausblick\nBELLO! im Chamäleon Berlin ist kein Ereignis\, das durch Neuheit allein überzeugt. Seine Bedeutung liegt in der konsequenten Verbindung von Erzählung\, Körper und kollektiver Praxis. Damit steht die Produktion exemplarisch für eine Kunstform\, die ihre gesellschaftliche Rolle neu definiert leise\, präzise und ohne dekorative Überhöhung. \nWeitere Einordnungen zu Kultur\, Gesellschaft und Events finden Sie auf Events.Presse.Online. \nFAQ\nWann und wo findet BELLO! statt?Ab dem 3. März 2026 im Chamäleon Berlin am Hackeschen Markt. \nFür wen ist das Stück relevant?Für ein kulturinteressiertes Publikum mit Interesse an zeitgenössischem Zirkus\, Theater und gesellschaftlichen Fragestellungen. \nWelche Themen stehen im Mittelpunkt?Schönheitsbilder\, Kollektivität\, Alltagsbeobachtungen und Formen des Erzählens. \nWas unterscheidet BELLO! von anderen Zirkusproduktionen?Die Verbindung von gesprochener Erzählung und Akrobatik sowie der konsequente Verzicht auf Solo-Nummern. \nWarum ist das Event journalistisch berichtenswert?Weil es größere kulturelle Entwicklungen sichtbar macht und zeitgenössischen Zirkus als diskursive Kunstform positioniert. \nQuellenliste:\n\n\nProgrammunterlagen und Produktionsbeschreibung BELLO!\, Fabbrica C \n\n\nHintergrundgespräch / Zitatangaben von Francesco Sgrò (künstlerische Leitung) \n\n\nInformationen zur Neuproduktion BELLO! am Chamäleon Berlin\, Spielzeit ab März 2026 \n\n\nSelbstdarstellung und Produktionsprofil Chamäleon Berlin (Produktionshaus für zeitgenössischen Zirkus) \n\n\nAngaben zur Kompanie Fabbrica C und zum Netzwerk Cordata F.O.R \n\n\nFestivalangaben und Rückblicke Berlin Circus Festival \n\n\nBiografische Angaben zu Francesco Sgrò und Auszeichnungen beim Festival Mondial du Cirque de Demain \n\n\nEigene journalistische Einordnung und Kontextualisierung auf Basis kulturwissenschaftlicher Debatten zu zeitgenössischem Zirkus und performativen Erzählformen
URL:https://events.presse.online/event/zeitgenoessischer-zirkus-als-spiegel-der-gegenwart/
LOCATION:Chamäleon Berlin\, Rosenthaler Straße 40/41\, Berlin\, 10118
CATEGORIES:Kultur & Konzerte
ATTACH;FMTTYPE=image/webp:https://events.presse.online/wp-content/uploads/2026/01/BELLO-im-Chamaeleon-Berlin.webp
ORGANIZER;CN="Cham%C3%A4leon Berlin gGmbH":MAILTO:info@chamaeleonberlin.com
END:VEVENT
BEGIN:VEVENT
DTSTART;TZID=Europe/Berlin:20260522T110000
DTEND;TZID=Europe/Berlin:20260525T170000
DTSTAMP:20260423T115048
CREATED:20251227T133258Z
LAST-MODIFIED:20251227T133633Z
UID:10000013-1779447600-1779728400@events.presse.online
SUMMARY:Karneval der Kulturen 2026: Berlins Vielfalt feiert Pfingsten
DESCRIPTION:Karneval der Kulturen 2026 in Berlin: Umzug und Straßenfest zu Pfingsten\nDer Karneval der Kulturen kehrt 2026 zu Pfingsten nach Berlin zurück: Vom 22. bis 25. Mai verwandeln Umzug und Straßenfest die Hauptstadt in eine Bühne globaler Kultur. Erwartet werden wieder mehrere Hunderttausend Besucher:innen. \nFakten & Ablauf\nSeit 1995 ist der Karneval der Kulturen fester Bestandteil des Berliner Veranstaltungskalenders. Der viertägige Zeitraum umfasst ein großes Straßenfest rund um den Blücherplatz sowie den Umzug entlang der Frankfurter Allee als Höhepunkt. Über 5.000 Teilnehmer:innen aus nahezu allen Erdteilen sind üblicherweise beteiligt mit Musik\, Tanz\, Performance\, bildender Kunst und Akrobatik auf fahrenden Wagen und mobilen Bühnen. \nDie Bandbreite der Darbietungen reicht von brasilianischer Samba über westafrikanische Trommelensembles bis hin zu chinesischem Löwentanz und europäischen Fasnachtsgruppen. Organisiert wird das Festival von einem freien Träger in Kooperation mit dem Land Berlin und den Bezirken. \nStraßenfest am Blücherplatz\nParallel zum Umzug lädt das Straßenfest am Blücherplatz an allen vier Tagen zum Verweilen ein. Mehrere Bühnen bieten ein kontinuierliches Programm mit Theater\, interaktiven Formaten und Performances ausdrücklich auch für Kinder und Familien.Rund 350 Stände präsentieren Kunsthandwerk\, internationale Küche und Informationsangebote. Dazu zählen Initiativen nachhaltig wirtschaftender Unternehmen\, Mitmachangebote wie Solarbastelstationen sowie ein vielfältiges gastronomisches Angebot\, darunter Bio-Crêpes und weitere Speisen. \nGesellschaftliche Einordnung\nDer Karneval der Kulturen gilt als Schaufenster der Berliner Stadtgesellschaft. Er macht kulturelle Vielfalt sichtbar und fördert Begegnungen über soziale und nationale Grenzen hinweg. Für viele Gruppen ist der Auftritt zugleich Ausdruck kultureller Selbstrepräsentation im öffentlichen Raum. \nGleichzeitig ist das Festival auch ein logistisches Großereignis. Verkehrslenkung\, Sicherheitskonzepte und Müllmanagement gehören zu den zentralen Herausforderungen. Die Veranstalter arbeiten hierfür mit Polizei\, Ordnungsämtern und Stadtreinigung zusammen. \nPerspektiven\nAus Sicht der Stadtentwicklung stärkt der Karneval der Kulturen Berlins Profil als internationale Metropole. Für die lokale Wirtschaft insbesondere Gastronomie\, Hotellerie und Einzelhandel – bringen die Festtage zusätzliche Impulse. Kritische Stimmen verweisen regelmäßig auf Belastungen für Anwohner:innen; diese Aspekte fließen in die fortlaufende Weiterentwicklung des Konzepts ein. \nAnalyse\nWarum ist der Karneval 2026 besonders relevant? Nach Jahren wachsender gesellschaftlicher Debatten über Zusammenhalt und Integration bleibt das Festival ein sichtbares Symbol urbaner Vielfalt. Die konstant hohen Besucherzahlen zeigen\, dass niedrigschwellige Kulturformate im öffentlichen Raum breite Akzeptanz finden. Für Bürger:innen bietet das Ereignis kostenlose Teilhabe\, für Politik und Verwaltung einen Praxistest für Großveranstaltungen. \nFazit:\nDer Karneval der Kulturen 2026 verspricht erneut vier Tage gelebter Vielfalt in Berlin. Umzug und Straßenfest verbinden Kultur\, Begegnung und Stadtleben ein Termin\, der weit über die Hauptstadt hinaus Aufmerksamkeit erhält. Aktuelle Programm- und Routeninformationen werden im Vorfeld veröffentlicht. \nMehr Termine\, Hintergründe und kuratierte Event-Empfehlungen finden Sie auf Event.Presse.Online. \nFAQ:\nWann findet der Karneval der Kulturen 2026 statt?Vom 22. bis 25. Mai 2026\, über das Pfingstwochenende. \nWo sind die zentralen Veranstaltungsorte?Das Straßenfest findet rund um den Blücherplatz statt\, der Umzug verläuft entlang der Frankfurter Allee. \nIst der Eintritt kostenpflichtig?Nein. Sowohl Umzug als auch Straßenfest sind öffentlich und kostenfrei zugänglich. \nGibt es Angebote für Familien und Kinder?Ja. Das Straßenfest bietet ein altersgerechtes Programm mit interaktiven und kulturellen Angeboten. \nWie viele Menschen nehmen teil?Üblicherweise wirken über 5.000 Akteur:innen mit; die Besucherzahl liegt seit Jahren bei mehreren Hunderttausend. \nQuellen:\n\n\nOffizielle Informationen des Karnevals der Kulturen Berlin (Veranstalterangaben) \n\n\nLand Berlin / Bezirksinformationen zu Großveranstaltungen und Pfingstevents \n\n\n(Zahlen und Abläufe nach Angaben der Veranstalter und der Stadt Berlin; Programmänderungen vorbehalten.)
URL:https://events.presse.online/event/karneval-der-kulturen-2026-berlins-vielfalt-feiert-pfingsten/
LOCATION:Karneval der Kulturen 2026\, Frankfurter Allee/Karl-Marx-Allee\, Berlin\, 10178
CATEGORIES:Kultur & Konzerte
ATTACH;FMTTYPE=image/webp:https://events.presse.online/wp-content/uploads/2025/12/Karneval-der-Kulturen.webp
ORGANIZER;CN="Piranha Arts AG":MAILTO:info@karneval.berlin
END:VEVENT
BEGIN:VEVENT
DTSTART;TZID=Europe/Berlin:20260524T160000
DTEND;TZID=Europe/Berlin:20260524T180000
DTSTAMP:20260423T115048
CREATED:20260103T090537Z
LAST-MODIFIED:20260105T160325Z
UID:10000088-1779638400-1779645600@events.presse.online
SUMMARY:Staatsoper für alle: Klassik unter freiem Himmel
DESCRIPTION:Staatsoper für alle: Open-Air-Konzert der Staatskapelle Berlin am Bebelplatz\n„Staatsoper für alle“ bringt am 24. Mai 2026 klassische Musik auf den Bebelplatz frei zugänglich\, mitten in Berlin. Das Format steht exemplarisch für die Öffnung institutioneller Kultur in den öffentlichen Raum. \nEinordnung: Klassik im Stadtraum\nSeit 2007 gehört die Open-Air-Reihe „Staatsoper für alle“ zu den festen Terminen im Berliner Kulturkalender. Veranstaltet von der Staatsoper Unter den Linden und getragen von der Staatskapelle Berlin\, richtet sich das Format bewusst an ein breites Publikum. Der Veranstaltungsort der Bebelplatz wird für das Konzert vollständig gesperrt und verwandelt sich in einen offenen Konzertsaal. \nDie Verbindung von hochrangiger Orchesterarbeit mit freiem Eintritt senkt Zugangshürden. Gleichzeitig bleibt der künstlerische Anspruch hoch: Die Staatskapelle zählt zu den traditionsreichsten Orchestern Europas und tritt regelmäßig auf internationalen Bühnen auf. \nProgramm und künstlerischer Rahmen\nAuf dem Programm stehen zwei Sinfonien von Johannes Brahms: \n\n\nSymphonie Nr. 3 F-Dur op. 90 \n\n\nSymphonie Nr. 1 c-Moll op. 68 \n\n\nDie musikalische Leitung übernimmt Christian Thielemann\, Generalmusikdirektor der Staatsoper. Brahms zählt zu den zentralen Bezugspunkten des Repertoires der Staatskapelle; seine Sinfonien stehen für eine Traditionslinie\, die das Orchester seit Jahrzehnten pflegt. Das Programm ist damit nicht experimentell\, sondern bewusst kanonisch angelegt. \nBedeutung für Stadt und Öffentlichkeit\nFür Berlin ist „Staatsoper für alle“ mehr als ein Konzerttermin. Das Format markiert einen kulturpolitischen Anspruch: Hochkultur soll nicht exklusiv bleiben\, sondern sichtbar und erlebbar im Stadtraum stattfinden. In einer Stadt mit vielfältiger Kulturlandschaft setzt die Veranstaltung auf Kontinuität und Verlässlichkeit statt Eventisierung. \nWirtschaftlich wirkt das Konzert indirekt. Die Sperrung der Straße Unter den Linden und die hohe Besucherzahl erzeugen Aufmerksamkeit für die Innenstadt\, Gastronomie und angrenzende Kultureinrichtungen. Zugleich bleibt der Eintritt frei ein Signal gegen soziale Selektion im Kulturbetrieb. \nAbgrenzung zu ähnlichen Formaten\nIm Unterschied zu kommerziellen Open-Air-Konzerten oder Festivals verfolgt „Staatsoper für alle“ keinen Ticket- oder Sponsorenfokus. Die Veranstaltung ist klar institutionell getragen und programmatisch klassisch ausgerichtet. Damit unterscheidet sie sich von populären Crossover-Formaten\, die gezielt neue Zielgruppen über Genregrenzen hinweg ansprechen. \nAus Sicht des Publikums bietet das Format einen niedrigschwelligen Zugang zur Orchesterkultur. Für die Staatsoper wiederum ist es eine Möglichkeit\, Präsenz jenseits des eigenen Hauses zu zeigen\, ohne das künstlerische Profil zu verändern. \nAnalyse: Warum das Event jetzt relevant ist\nDie Relevanz von „Staatsoper für alle“ liegt im Kontext aktueller Debatten um Kulturfinanzierung und gesellschaftliche Teilhabe. Öffentliche Kultureinrichtungen stehen unter dem Druck\, ihre Legitimation zu erklären und neue Zugänge zu schaffen. Das kostenlose Open-Air-Konzert beantwortet diese Herausforderung praktisch nicht durch Programmänderung\, sondern durch Ortswechsel. \nGesellschaftlich stärkt das Format die Wahrnehmung von Kultur als öffentliches Gut. Kulturell bestätigt es die Rolle klassischer Musik im urbanen Raum. Realistische Effekte sind vor allem symbolischer Natur: Sichtbarkeit\, Identifikation und niedrigere Schwellen für Erstkontakte mit klassischer Musik. \nFazit:\n„Staatsoper für alle“ bleibt ein verlässlicher Fixpunkt im Berliner Kulturjahr. Das Konzert 2026 setzt auf Kontinuität und Zugänglichkeit ohne programmatische Zugeständnisse. Für die Stadt ist das ein kulturpolitisches Signal\, das über den Veranstaltungstag hinaus wirkt. \nWeitere Einordnungen zu Kulturveranstaltungen und gesellschaftlicher Relevanz finden Sie auf Events.Presse.Online. \nFAQ\nWann und wo findet „Staatsoper für alle“ statt?Am 24. Mai 2026 auf dem Bebelplatz in Berlin. \nWas wird gespielt?Zwei Sinfonien von Johannes Brahms (Nr. 1 und Nr. 3). \nWer musiziert?Die Staatskapelle Berlin unter der Leitung von Christian Thielemann. \nIst der Eintritt kostenpflichtig?Nein\, der Eintritt ist frei. \nWarum ist das Event journalistisch relevant?Weil es Fragen von kultureller Teilhabe\, öffentlichem Raum und institutioneller Kulturpraxis berührt. \nQuellenliste:\n\n\nAngaben der Staatsoper Unter den Linden zur Open-Air-Reihe „Staatsoper für alle“ (Historie\, Veranstaltungsformat\, Ort) \n\n\nProgramminformationen der Staatskapelle Berlin zur Saison 2025/2026 \n\n\nÖffentliche Mitteilungen der Staatsoper Unter den Linden zum Konzert am 24. Mai 2026 auf dem Bebelplatz \n\n\nRepertoire- und Werkangaben zu Johannes Brahms (Sinfonien Nr. 1 op. 68 und Nr. 3 op. 90) aus gängigen musikwissenschaftlichen Standardwerken \n\n\nBiografische und berufliche Angaben zu Christian Thielemann aus offiziellen Veröffentlichungen der Staatsoper Unter den Linden \n\n\nEigene redaktionelle Einordnung auf Basis langjähriger Berichterstattung zum Berliner Kulturkalender und zu Open-Air-Konzertformaten in Berlin
URL:https://events.presse.online/event/staatsoper-fuer-alle-klassik-unter-freiem-himmel/
LOCATION:Staatsoper Unter den Linden\, Unter den Linden 7\, Berlin\, 10117
CATEGORIES:Kultur & Konzerte
ATTACH;FMTTYPE=image/webp:https://events.presse.online/wp-content/uploads/2026/01/Staatsoper-fuer-alle.webp
ORGANIZER;CN="Staatsoper Unter den Linden":MAILTO:contact@staatsoper-berlin.de
END:VEVENT
END:VCALENDAR