BEGIN:VCALENDAR
VERSION:2.0
PRODID:-//Events.Presse.Online - ECPv6.15.20//NONSGML v1.0//EN
CALSCALE:GREGORIAN
METHOD:PUBLISH
X-WR-CALNAME:Events.Presse.Online
X-ORIGINAL-URL:https://events.presse.online
X-WR-CALDESC:Veranstaltungen für Events.Presse.Online
REFRESH-INTERVAL;VALUE=DURATION:PT1H
X-Robots-Tag:noindex
X-PUBLISHED-TTL:PT1H
BEGIN:VTIMEZONE
TZID:Europe/Berlin
BEGIN:DAYLIGHT
TZOFFSETFROM:+0100
TZOFFSETTO:+0200
TZNAME:CEST
DTSTART:20250330T010000
END:DAYLIGHT
BEGIN:STANDARD
TZOFFSETFROM:+0200
TZOFFSETTO:+0100
TZNAME:CET
DTSTART:20251026T010000
END:STANDARD
BEGIN:DAYLIGHT
TZOFFSETFROM:+0100
TZOFFSETTO:+0200
TZNAME:CEST
DTSTART:20260329T010000
END:DAYLIGHT
BEGIN:STANDARD
TZOFFSETFROM:+0200
TZOFFSETTO:+0100
TZNAME:CET
DTSTART:20261025T010000
END:STANDARD
BEGIN:DAYLIGHT
TZOFFSETFROM:+0100
TZOFFSETTO:+0200
TZNAME:CEST
DTSTART:20270328T010000
END:DAYLIGHT
BEGIN:STANDARD
TZOFFSETFROM:+0200
TZOFFSETTO:+0100
TZNAME:CET
DTSTART:20271031T010000
END:STANDARD
END:VTIMEZONE
BEGIN:VEVENT
DTSTART;TZID=Europe/Berlin:20260116T100000
DTEND;TZID=Europe/Berlin:20260125T150000
DTSTAMP:20260420T100034
CREATED:20260111T083940Z
LAST-MODIFIED:20260124T134016Z
UID:10000101-1768557600-1769353200@events.presse.online
SUMMARY:Grüne Woche 2026: Wo Agrarpolitik verhandelt wird
DESCRIPTION:Wo die Fachwelt zusammenkommt: das Kongressprogramm der Grünen Woche\nWenn in Berlin über Ernährungssicherung\, Wasserknappheit oder die Zukunft ländlicher Räume diskutiert wird\, geschieht das zur Grünen Woche nicht nur auf der Messefläche\, sondern vor allem in ihren Kongressen. Hier verdichtet sich das politische und fachliche Gewicht der internationalen Leitmesse. \nMehr als eine Begleitveranstaltung\nDie Internationale Grüne Woche gilt seit Jahrzehnten als Schaufenster für Landwirtschaft\, Ernährung und Gartenbau. Ihr eigentlicher Einfluss entfaltet sich jedoch im Kongressprogramm: Rund 300 Fachveranstaltungen bringen Ministerien\, Verbände\, Wissenschaft und Wirtschaft zusammen. In ihrem 90. Jahr und zugleich zum 100-jährigen Jubiläum der Messe steht die Grüne Woche 2026 damit auch symbolisch für den Wandel der Branche. \nZentraler Auftakt ist das Global Forum for Food and Agriculture (GFFA) vom 14. bis 17. Januar im CityCube Berlin. Unter dem Leitthema „Wasser. Ernten. Unsere Zukunft.“ rückt die Konferenz die Verbindung von Ernährungssicherheit und Wasserressourcen in den Mittelpunkt. Die Agrarministerkonferenz mit Vertreterinnen und Vertretern aus rund 80 Ländern verleiht dem Forum politisches Gewicht. Internationale Organisationen wie FAO\, OECD oder Weltbank sind beteiligt. \nFachdebatten und gesellschaftliche Perspektiven\nNeben globalen Fragen rücken gezielt gesellschaftliche Rollenbilder in den Fokus. Das BäuerinnenForum 2026 des Deutschen LandFrauenverbands greift das von den Vereinten Nationen ausgerufene „Internationale Jahr der Frauen in der Landwirtschaft“ auf. Diskutiert werden Rahmenbedingungen\, Sichtbarkeit und Einfluss von Frauen entlang der gesamten Wertschöpfungskette. \nDer Deutsche Bauernverband setzt mit seinen Fachforen thematische Akzente von Biodiversitätsschutz über Milchmärkte bis zum Umgang mit dem Wolf im Jagdrecht. Hier prallen politische Regulierung\, wirtschaftliche Interessen und gesellschaftliche Erwartungen unmittelbar aufeinander. \nInnovation\, Nachwuchs und Mobilität\nMit dem Internationalen Fachkongress „Kraftstoffe der Zukunft“ öffnet sich das Programm deutlich über klassische Agrarthemen hinaus. Erneuerbare Kraftstoffe und Biokraftstoffe werden als Teil der Verkehrswende verhandelt unter Beteiligung von Politik\, Forschung und Industrie. Ergänzt wird dies durch die Startup-Days\, bei denen junge Unternehmen ihre Innovationen präsentieren\, sowie durch kuratierte Führungen für Fachpublikum aus Agritech und Foodtech. \nAuch der Nachwuchs erhält Raum: Junglandwirt:innen-Kongress\, Jugendforen und politische Talks schaffen Austauschformate\, die über die Messe hinaus in agrarpolitische Prozesse hineinwirken. \nWarum das jetzt relevant ist\nDie Bündelung der Fachveranstaltungen spiegelt zentrale Trends wider: den steigenden Druck auf globale Ernährungssysteme\, die Folgen des Klimawandels und den politischen Anspruch\, Landwirtschaft nachhaltiger und resilienter zu gestalten. Berlin wird dabei für zehn Tage zum internationalen Verhandlungsort mit realistischen Effekten auf politische Agenden\, Förderprogramme und regulatorische Debatten. \nFür die Stadt bedeutet das Sichtbarkeit als politischer Knotenpunkt. Für die Branche bietet das Kongressprogramm Orientierung in einer Phase tiefgreifender Transformation. Und für die Öffentlichkeit wird deutlich\, dass Landwirtschaft längst nicht mehr nur Produktionsfrage ist\, sondern gesellschaftliche\, ökologische und ökonomische Dimensionen vereint. \nFazit und Ausblick\nDas Kongressprogramm der Grünen Woche 2026 zeigt\, wo die Branche steht und wohin sie will. Wer verstehen möchte\, wie Ernährung\, Landwirtschaft und Politik künftig zusammenspielen\, findet hier weniger Messeglanz als belastbare Debatten und politische Impulse. \nMehr Einordnung zu Politik\, Wirtschaft und Gesellschaft finden Sie fortlaufend auf Events.Presse.Online. \nFAQ\nWann und wo findet das Kongressprogramm statt?Parallel zur Grünen Woche vom 16. bis 25. Januar 2026 in Berlin\, vor allem im CityCube und hub27. \nFür wen ist das Programm relevant?Für Fachpublikum aus Landwirtschaft\, Politik\, Wirtschaft\, Wissenschaft sowie für Entscheider in Kommunen und Verbänden. \nWarum ist das journalistisch bedeutsam?Weil hier politische Positionen\, internationale Absprachen und Branchentrends zusammenlaufen. \nWelche Themen stehen im Fokus?Ernährungssicherung\, Wasserresilienz\, ländliche Entwicklung\, Rolle von Frauen\, Innovationen und Nachwuchs. \nWas unterscheidet es von anderen Fachmessen?Die enge Verzahnung von Messe\, Politikdialog und internationalen Konferenzen. \nQuellen:\n\n\nInternationale Grüne Woche Berlin: offizielles Veranstaltungsprogramm 2026 \n\n\nGlobal Forum for Food and Agriculture (GFFA): Programm- und Themenübersicht 2026 \n\n\nBundesministerium für Ernährung und Landwirtschaft (BMEL/BMLEH) – Informationen zum Zukunftsforum Ländliche Entwicklung \n\n\nDeutscher Bauernverband: Ankündigungen und Programme zu Fachforen\, Junglandwirt:innen-Kongress und Jugendformaten \n\n\nDeutscher LandFrauenverband (dlv): Informationen zum BäuerinnenForum 2026 \n\n\nVeranstalterangaben zum Internationalen Fachkongress „Kraftstoffe der Zukunft“ 2026 \n\n\nMesse Berlin GmbH: Angaben zu Veranstaltungsorten (CityCube Berlin\, hub27) \n\n\nHistorische Einordnung: Grüne Woche Berlin (Gründung 1926\, Entwicklung zur internationalen Leitmesse) \n\n\nEigene journalistische Auswertung und redaktionelle Zusammenfassung auf Basis der genannten Quellen
URL:https://events.presse.online/event/gruene-woche-2026-wo-agrarpolitik-verhandelt-wird/
LOCATION:Messe Berlin\, Messedamm 22\, Berlin\, 14405\, Germany
CATEGORIES:Kultur & Konzerte
ATTACH;FMTTYPE=image/webp:https://events.presse.online/wp-content/uploads/2026/01/Gruene-Woche.webp
END:VEVENT
BEGIN:VEVENT
DTSTART;TZID=Europe/Berlin:20260123T100000
DTEND;TZID=Europe/Berlin:20260125T170000
DTSTAMP:20260420T100034
CREATED:20260122T125300Z
LAST-MODIFIED:20260124T133653Z
UID:10000113-1769162400-1769360400@events.presse.online
SUMMARY:Grüne Woche: Was der Messe-Hunger über Trends verrät
DESCRIPTION:Grüne Woche Berlin: Essen als Seismograf von Gesellschaft und Konsum\nBerlin. Die Grüne Woche ist mehr als eine Food-Messe. Sie ist ein Gradmesser dafür\, wie sich Esskultur\, regionale Wirtschaft und Konsumgewohnheiten verändern und warum diese Fragen gerade jetzt relevant sind. \nSeit Jahrzehnten bringt die Grüne Woche Produzenten\, Verbände und Publikum zusammen. Austragungsort ist die Messe Berlin\, die mit ihrer Hallenstruktur einen Rundgang erzwingt\, der Zeit kostet und Aufmerksamkeit bündelt. Wer alle Bereiche erkunden will\, plant realistisch mehr als einen Tag ein. Das kulinarische Angebot reicht von klassischen Backwaren über regionale Spezialitäten bis zu internationalen Käse- und Süßwarenständen. \nBedeutung für Stadt und Region\nFür Berlin ist die Messe ein Wirtschaftsfaktor: Hotels\, Gastronomie und Verkehr profitieren. Zugleich fungiert die Veranstaltung als Bühne für Bundesländer und Regionen\, die ihre kulinarische Identität präsentieren sichtbar etwa in Länderhallen mit spezifischen Angeboten. Essen wird hier zur Visitenkarte regionaler Wirtschaft. \nAbgrenzung zu ähnlichen Formaten\nIm Unterschied zu reinen Street-Food-Events oder Fachmessen verbindet die Grüne Woche Publikumserlebnis mit agrarpolitischem Rahmen. Sie vereint Genuss\, Landwirtschaft und Handel und zieht damit ein breiteres Publikum an als spezialisierte Food-Festivals. \nZwei Perspektiven\nVeranstalter- und Branchensicht: Die Messe dient als Schaufenster für Produkte\, Innovationen und Absatzchancen.Publikumssicht: Besucherinnen und Besucher erleben Vielfalt niedrigschwellig vom schnellen Snack bis zur bewussten Verkostung – und vergleichen Preise\, Herkunft und Qualität direkt. \nWarum das jetzt relevant ist\nEssen ist politisch und wirtschaftlich aufgeladen. Steigende Preise\, Diskussionen um Herkunft\, Nachhaltigkeit und regionale Wertschöpfung prägen den Alltag. Die Grüne Woche spiegelt diese Debatten im Kleinen: von traditionellen Backwaren über trendige Kaffeevarianten bis zu ungewöhnlichen Desserts. \nGesellschaftlich zeigt sich ein Spannungsfeld zwischen Genuss und Kostenbewusstsein.Wirtschaftlich wird sichtbar\, welche Produkte Nachfrage erzeugen und wo regionale Anbieter Chancen haben.Kulturell bestätigt sich Essen als Identitätsanker Regionen erzählen sich über Geschmack. \nFür Besucher bedeutet das Orientierung: Was ist regional verankert\, was Trend\, was Nische? Für die Stadt und die Branche liefert die Messe Hinweise\, welche Angebote Bestand haben könnten. \nFazit und Ausblick\nDie Grüne Woche ist kein bloßer Rundgang durch Essensstände\, sondern ein Spiegel aktueller Konsum- und Kulturfragen. Wer aufmerksam probiert\, liest zwischen den Gängen auch wirtschaftliche und gesellschaftliche Entwicklungen. Eine Einordnung lohnt sich über den Messebesuch hinaus. \n🔔 Mehr Einordnung und Hintergründe zu Berliner Veranstaltungen finden Sie auf Events.Presse.Online. \nFAQ\nWann und wo findet das Event statt?Die Grüne Woche findet jährlich in Berlin auf dem Messegelände statt. \nFür wen ist das Event relevant?Für Verbraucher\, Produzenten\, Verbände sowie alle\, die sich für Ernährung\, Landwirtschaft und Konsumtrends interessieren. \nWarum ist die Grüne Woche journalistisch bedeutsam?Sie bündelt Themen wie Preise\, Regionalität und Esskultur an einem Ort und macht Trends sichtbar. \nWelche Themen stehen im Fokus?Regionale Spezialitäten\, internationale Küche\, Konsumgewohnheiten und agrarwirtschaftliche Fragen. \nWas unterscheidet sie von anderen Food-Events?Die Kombination aus Publikumsmesse und politisch-wirtschaftlichem Rahmen. \nQuellenliste\n\n\nMesse Berlin GmbH: Offizielle Informationen zur Internationalen Grünen Woche (Veranstaltungsprofil\, Hallenstruktur\, Besucherzahlen) \n\n\nBundesministerium für Ernährung und Landwirtschaft (BMEL): Hintergrundinformationen zur Grünen Woche und agrarpolitischem Rahmen \n\n\nVeranstalterangaben der Internationalen Grünen Woche (Programmübersichten\, Länderhallen\, Ausstellerstruktur) \n\n\nEigene Vor-Ort-Beobachtungen und journalistische Einordnung vergleichbarer Ausgaben der Grünen Woche \n\n\nBranchenberichte zur Ernährungs- und Lebensmittelwirtschaft in Deutschland (Markttrends\, Konsumverhalten) \n\n\nStatistische Angaben und Presseunterlagen zur wirtschaftlichen Bedeutung von Messen für den Standort Berlin
URL:https://events.presse.online/event/gruene-woche-was-der-messe-hunger-ueber-trends-verraet/
LOCATION:Messe Berlin\, Messedamm 22\, Berlin\, 14405\, Germany
CATEGORIES:Messen & Business
ATTACH;FMTTYPE=image/webp:https://events.presse.online/wp-content/uploads/2026/01/Gruene-Woche-1.webp
END:VEVENT
BEGIN:VEVENT
DTSTART;TZID=Europe/Berlin:20260124T200000
DTEND;TZID=Europe/Berlin:20260124T223000
DTSTAMP:20260420T100034
CREATED:20260105T103402Z
LAST-MODIFIED:20260105T103918Z
UID:10000091-1769284800-1769293800@events.presse.online
SUMMARY:Berliner Größenwahn als Operette: ‚Frau Luna‘ neu gelesen
DESCRIPTION:Frau Luna: Operette in zwei Akten im TIPI am Kanzleramt\nMit „Frau Luna“ bringt das TIPI AM KANZLERAMT ein zentrales Werk der Berliner Operettengeschichte auf die Bühne. Die Wiederaufnahme ist mehr als Repertoirepflege: Sie öffnet den Blick auf Berliner Identität\, Ironie und Selbstverständnis damals wie heute. \nBerliner Operette zwischen Geschichte und Gegenwart\n„Frau Luna“\, uraufgeführt 1899\, gehört zu den bekanntesten Werken von Paul Lincke. Die Operette erzählt von Fritz Steppke\, der mit Berliner Originalen zum Mond reist eine Fantasie\, die Technikbegeisterung\, Größenwahn und Alltagsklugheit miteinander verschränkt. Lieder wie „Schenk mir doch ein kleines bisschen Liebe“ oder „Das macht die Berliner Luft“ haben sich fest ins kulturelle Gedächtnis eingeschrieben. \nDas TIPI am Kanzleramt greift diesen Stoff auf\, ohne ihn museal zu behandeln. Die Inszenierung setzt auf eine lebendige Neu-Erzählung der Mondfahrt\, auf Tempo und eine Besetzung\, die Berliner Typenzeichnung ernst nimmt. Die Operette bleibt als Form erkennbar\, wird aber nicht als Nostalgieprodukt präsentiert\, sondern als theatrale Satire. \nBedeutung für Berlin\nFür Berlin ist „Frau Luna“ mehr als Unterhaltung. Das Stück spiegelt einen historischen Blick auf die Stadt: selbstironisch\, großspurig\, pragmatisch. Dass diese Erzählung heute wieder gespielt wird\, verweist auf eine anhaltende Sehnsucht nach lokaler kultureller Verankerung – gerade in einer Metropole\, die sich ständig neu erfindet. \nGleichzeitig steht die Aufführung für die Rolle der freien Theater in der Berliner Kulturlandschaft. Das TIPI positioniert sich nicht als Opernhaus\, sondern als Ort\, an dem populäre Formate mit künstlerischem Anspruch verbunden werden. Das spricht ein Publikum an\, das klassische Operette sonst kaum erreicht. \nAbgrenzung zu ähnlichen Formaten\nIm Unterschied zu historisierenden Aufführungen vermeidet diese Produktion reinen Retro-Charakter. Die Berliner Figuren werden nicht karikiert\, sondern als soziale Typen gelesen. Damit unterscheidet sich „Frau Luna“ von klassischen Operettenabenden\, die vor allem auf Wiedererkennung setzen. Hier geht es um Einordnung und Aktualisierung ohne den Originalton zu verlieren. \nPerspektiven: Bühne und Publikum\nAus Sicht der Bühne bietet „Frau Luna“ die Chance\, ein traditionsreiches Genre zeitgemäß zu zeigen. Für das Publikum eröffnet sich ein Zugang zu Berliner Kulturgeschichte\, der nicht belehrend wirkt\, sondern über Humor und Musik vermittelt wird. Diese doppelte Perspektive erklärt\, warum das Stück auch heute noch funktioniert. \nAnalyse: Warum „Frau Luna“ jetzt relevant ist\nDie Rückkehr der Operette fällt in eine Phase\, in der Debatten über kulturelle Identität\, Stadtgeschichte und lokale Erzählungen wieder an Gewicht gewinnen. „Frau Luna“ verhandelt genau diese Themen mit Leichtigkeit\, aber nicht ohne Schärfe. \nGesellschaftlich spiegelt das Stück den Berliner Umgang mit Ambition und Scheitern. Wirtschaftlich zeigt es\, dass etablierte Stoffe in neuer Form Publikum binden können. Kulturell steht die Inszenierung für den Versuch\, populäre Genres aus der Ecke des Belanglosen zu holen und ernsthaft zu befragen. \nFür Besucher bedeutet das: kein reiner Nostalgieabend\, sondern eine Begegnung mit Berliner Selbstbildern\, die bis heute wirksam sind. Für die Stadt unterstreicht die Produktion den Wert kleinteiliger\, unabhängiger Theaterarbeit. \nFazit:\n„Frau Luna“ im TIPI am Kanzleramt ist eine Operettenaufführung mit journalistisch relevanter Fallhöhe. Sie zeigt\, wie historische Stoffe aktuelle Fragen berühren können ohne sich anzubiedern. Ob der Berliner Humor auch künftig trägt\, entscheidet letztlich das Publikum. \nHinweis: Eine redaktionelle Einordnung weiterer Kulturformate finden Sie auf Events.Presse.Online. \nFAQ\nWann und wo findet das Event statt?Im TIPI am Kanzleramt in Berlin; aktuelle Spieltermine sind dem offiziellen Spielplan zu entnehmen. \nFür wen ist das Event relevant?Für kulturinteressierte Berlinerinnen und Berliner sowie für Besucher\, die Operette jenseits klassischer Opernhäuser erleben möchten. \nWarum ist dieses Event journalistisch bedeutsam?Weil es Berliner Kulturgeschichte aktualisiert und Fragen nach Identität\, Humor und Tradition verhandelt. \nWelche Themen stehen im Fokus?Berliner Selbstbild\, Gesellschaftssatire\, Technikbegeisterung und zwischenmenschliche Verwicklungen. \nWas unterscheidet die Inszenierung von vergleichbaren Produktionen?Der Verzicht auf reine Nostalgie zugunsten einer zeitgemäßen\, einordnenden Lesart. \nQuellen\n\n\nProgramm- und Inhaltsangaben des TIPI AM KANZLERAMT zur Inszenierung „Frau Luna“ \n\n\nLibretto und Musik: Paul Lincke\, Frau Luna (Uraufführung 1899\, Berlin) \n\n\nZeitgenössische Operettenforschung und kulturhistorische Einordnungen zur Berliner Operette um 1900 \n\n\nKulturhistorische Literatur zur Berliner Unterhaltungskultur des späten 19. und frühen 20. Jahrhunderts \n\n\nEigene redaktionelle Einordnung und Analyse von Events.Presse.Online
URL:https://events.presse.online/event/berliner-groessenwahn-als-operette-frau-luna-neu-gelesen/
LOCATION:TIPI am Kanzleramt\, Große Querallee\, Berlin\, 10557
CATEGORIES:Kultur & Konzerte
ATTACH;FMTTYPE=image/webp:https://events.presse.online/wp-content/uploads/2026/01/Frau-Luna.webp
ORGANIZER;CN="TIPI am Kanzleramt":MAILTO:info@tipi-am-kanzleramt.de
END:VEVENT
BEGIN:VEVENT
DTSTART;TZID=Europe/Berlin:20260126T130000
DTEND;TZID=Europe/Berlin:20260329T210000
DTSTAMP:20260420T100034
CREATED:20260126T110020Z
LAST-MODIFIED:20260126T110458Z
UID:10000115-1769432400-1774818000@events.presse.online
SUMMARY:Wenn alte Orte digitale Bedeutung bekommen
DESCRIPTION:Stadtbad RELOADED: BEYOND Digitale Kunst als Stadtlabor im historischen Raum\nStädte stehen vor der Frage\, wie sie mit ihrem baulichen Erbe umgehen\, wenn Nutzung\, Finanzierung und Öffentlichkeit auseinanderdriften. Zwischen Denkmalschutz und Erlebnisökonomie entstehen neue Formate eines davon ist eine digitale Kunstausstellung in einem stillgelegten Schwimmbad in Berlin. \nMit „Stadtbad RELOADED: BEYOND“ wird ein 97 Jahre altes Stadtbad im Stil des Expressionismus temporär neu genutzt. In dem Gebäude dem Stadtbad Oderberger Straße treffen historische Architektur und digitale Projektionen aufeinander. Gezeigt werden mehr als 150 animierte Arbeiten internationaler Künstler:innen\, ergänzt durch raumgreifende Installationen\, darunter eine LED-Arbeit mit zehntausenden Lichtpunkten sowie eine immersive Deckenprojektion. \nDer Ansatz ist nicht neu\, aber konsequent: Ein Ort\, der seiner ursprünglichen Funktion entzogen ist\, wird nicht museal konserviert\, sondern kulturell reaktiviert. Zielgruppe sind kulturinteressierte Besucher:innen\, die digitale Kunst nicht nur als Bildschirmformat\, sondern als räumliches Erlebnis wahrnehmen wollen. Gleichzeitig richtet sich das Format an ein Publikum\, das urbane „Lost Places“ als Teil der Stadtidentität begreift. \nAbgrenzend wirkt weniger das Programm als der Ort selbst. Während viele immersive Ausstellungen in neutralen Hallen oder temporären Bauten stattfinden\, setzt dieses Projekt auf die Spannung zwischen historischer Substanz und digitaler Überformung. Kritisch gesehen wird dabei von Teilen der Öffentlichkeit die Gefahr\, dass Architektur zur bloßen Kulisse wird und der Erlebniswert die inhaltliche Auseinandersetzung überlagert. \nDie Relevanz solcher Formate speist sich aus mehreren Entwicklungen. Erstens wächst der Druck auf Städte\, leerstehende oder untergenutzte Gebäude wirtschaftlich und kulturell sinnvoll einzubinden. Zweitens hat sich digitale Kunst vom Nischenphänomen zur eigenständigen Sparte entwickelt\, die neue Präsentationsformen sucht. Drittens verändert sich das Kulturpublikum: Erwartet werden multisensorische Erlebnisse\, die sich klar von klassischen Ausstellungen unterscheiden. \nDiese Konstellation erklärt\, warum gerade jetzt historische Orte zu Experimentierfeldern werden. Digitale Installationen lassen sich vergleichsweise flexibel anpassen\, ohne irreversible Eingriffe in die Bausubstanz. Gleichzeitig erzeugen sie Aufmerksamkeit\, die klassische Nutzungskonzepte kaum noch erreichen. Für Besucher bedeutet das eine niedrigere Zugangsschwelle zur Kunst\, für die Stadt eine temporäre Belebung eines identitätsstiftenden Ortes. \nKulturell wirft das Fragen auf: Wird Geschichte hier neu erzählt oder lediglich ästhetisch überblendet? Wirtschaftlich zeigt sich\, dass Erlebnisformate zunehmend als Zwischennutzung fungieren\, wo dauerhafte Konzepte fehlen. Für die Branche der digitalen Kunst bestätigt sich ein Trend: Sichtbarkeit entsteht weniger über Inhalte allein als über spektakuläre Räume. \nBedeutung für Stadt und Öffentlichkeit\nFür Berlin fügt sich das Projekt in eine längere Reihe von Umnutzungen ein\, bei denen Industriebauten\, Bäder oder Verkehrsanlagen kulturell neu interpretiert werden. Solche Formate stärken kurzfristig die kulturelle Vielfalt\, ersetzen aber keine langfristige Debatte über den Umgang mit städtischem Erbe. Für die Öffentlichkeit bleibt entscheidend\, ob der Ort als Teil der Stadtgeschichte erfahrbar bleibt – oder ob er im Erlebnis verschwindet. \nFazit\n„Stadtbad RELOADED: BEYOND“ steht exemplarisch für eine Gegenwart\, in der digitale Kunst und urbane Erinnerung zusammengeführt werden. Das Projekt zeigt Chancen\, aber auch Grenzen dieser Entwicklung. Entscheidend wird sein\, ob solche Formate über den Moment hinaus Impulse für eine nachhaltige Nutzung historischer Räume liefern. Eine vertiefende Einordnung zur Rolle immersiver Kunst im Stadtraum folgt. \n🔔 Mehr Einordnungen zu Kultur\, Stadt und Gesellschaft auf Events.Presse.Online \nFAQ\nWann und wo findet das Event statt?In Berlin\, im ehemaligen Stadtbad an der Oderberger Straße; die Ausstellung läuft zeitlich begrenzt. \nFür wen ist das Event relevant und warum?Für kulturinteressierte Besucher:innen\, die sich für digitale Kunst und urbane Umnutzung historischer Gebäude interessieren. \nWelche Themen stehen im Mittelpunkt?Digitale Kunst\, immersive Installationen und der Umgang mit historischer Architektur. \nWas unterscheidet es von vergleichbaren Formaten?Der konsequente Einsatz eines denkmalgeschützten Schwimmbads als Ausstellungsraum. \nWarum ist das journalistisch berichtenswert?Weil das Projekt zentrale Fragen zu Stadtentwicklung\, Kulturwandel und Erlebnisökonomie berührt. \nQuellenliste\n\n\nEigene Vor-Ort-Recherche und journalistische Beobachtung \n\n\nHintergrundinformationen der Ausstellungsbetreiber zu „Stadtbad RELOADED: BEYOND“ \n\n\nDenkmal- und Bauhistorische Angaben zum Stadtbad Oderberger Straße\, Berlin \n\n\nVeröffentlichungen und Fachbeiträge zur Entwicklung immersiver und digitaler Kunstformate in Europa \n\n\nKulturpolitische Einordnungen zur Zwischennutzung historischer Gebäude in Großstädten \n\n\nBranchenanalysen zur Erlebnisökonomie und zu immersiven Ausstellungen (Kunst- und Kultursektor) \n\n\nAllgemeine stadtsoziologische und kulturwissenschaftliche Literatur zur Umnutzung von „Lost Places“ in urbanen Räumen
URL:https://events.presse.online/event/wenn-alte-orte-digitale-bedeutung-bekommen/
LOCATION:Stadtbad RELOADED: BEYOND\, Hubertusstraße 47\, Berlin\, 10365
CATEGORIES:Kultur & Konzerte
ATTACH;FMTTYPE=image/webp:https://events.presse.online/wp-content/uploads/2026/01/RELOADED-BEYOND.webp
END:VEVENT
BEGIN:VEVENT
DTSTART;TZID=Europe/Berlin:20260131T130000
DTEND;TZID=Europe/Berlin:20260203T170000
DTSTAMP:20260420T100034
CREATED:20260130T064433Z
LAST-MODIFIED:20260130T101407Z
UID:10000121-1769864400-1770138000@events.presse.online
SUMMARY:Fashion Week beginnt - Berlin wird wieder Laufsteg
DESCRIPTION:Mode zwischen Selbstverortung und Anspruch: Warum die Berliner Fashion Week mehr ist als ein Laufsteg\nBerlin. In einer Zeit\, in der sich Öffentlichkeit fragmentiert und kulturelle Leitbilder neu sortieren\, werden Orte wichtig\, an denen Selbstverständigung sichtbar wird. Die Berliner Fashion Week ist ein solcher Ort weniger als Glamourbühne\, mehr als Spiegel gesellschaftlicher Aushandlung. \nEin Event zwischen Anspruch und Realität\nDie Fashion Week in Berlin findet bis einschließlich Montag statt und versammelt Designerinnen und Designer wie Kilian Kerner\, Esther Perbandt\, Danny Reinke und William Fan. Ergänzt wird das Programm durch einzelne prominente Auftritte\, etwa bei der Schau des Unternehmens Marc Cain\, zu der Model Jerry Hall erwartet wird begleitet von ihrer Tochter Elizabeth Scarlett Jagger. Solche Namen erzeugen Aufmerksamkeit\, stehen jedoch nicht im Zentrum der Berliner Modewoche. \nDenn anders als die Schauen in Paris oder Mailand ist Berlin nie primär als Luxusmetropole angetreten. Die Modewoche existiert\, um der deutschen Modebranche eine Plattform zu geben\, Experimente zu ermöglichen und Positionen sichtbar zu machen\, die anderswo kaum Raum finden. Gerade jetzt\, in wirtschaftlich angespannten Zeiten für Kreativ- und Kulturbranchen\, ist diese Sichtbarkeit umkämpft. \nBedeutung für Stadt und Branche\nFür Berlin ist die Modewoche Teil der kulturellen Infrastruktur. Sie bringt internationale Gäste\, Medien und temporäre Aufmerksamkeit aber keine nachhaltige Wertschöpfung im klassischen Sinn. Der ökonomische Effekt bleibt begrenzt\, die symbolische Wirkung hingegen ist hoch: Berlin inszeniert sich als Ort der Offenheit\, Diversität und des Gestaltungswillens. \nFür die Branche selbst ist das Event relevanter als für die breite Stadtgesellschaft. Designer nutzen die Woche\, um sich gegenüber Einkäufern\, Presse und Förderinstitutionen zu positionieren. Das Publikum außerhalb der Szene nimmt die Modewoche häufig nur randständig wahr als Hintergrundrauschen aus Laufstegen\, Straßenszenen und prominenten Namen. \nAbgrenzung: Was Berlin unterscheidet\nInhaltlich unterscheidet sich die Berliner Fashion Week durch ihren Fokus auf Haltung statt Hochglanz. Nachhaltigkeit\, Genderfragen\, urbane Identität und politische Bezüge sind wiederkehrende Motive. Während andere Modewochen Status und Luxus reproduzieren\, sucht Berlin nach Bedeutung mit wechselndem Erfolg. \nDiese Suche erzeugt Spannungen: Veranstalter und Designer betonen gesellschaftliche Relevanz\, während Teile der Öffentlichkeit den tatsächlichen Einfluss hinterfragen. Ist Mode hier Impulsgeber oder vor allem Selbstdarstellung einer Branche\, die um Aufmerksamkeit ringt? \nAnalyse: Warum dieses Event jetzt relevant ist\nDie Relevanz der Berliner Fashion Week ergibt sich weniger aus den Kollektionen als aus dem Kontext\, in dem sie gezeigt werden. Die Modebranche steht unter Druck: steigende Kosten\, verändertes Konsumverhalten\, wachsende Kritik an Überproduktion. Gleichzeitig wächst der Anspruch\, kulturell und politisch Stellung zu beziehen. \nBerlin wird damit zur Projektionsfläche für eine größere Entwicklung: den Versuch\, Mode als gesellschaftliches Gespräch zu etablieren. Die Frage lautet nicht\, was getragen wird\, sondern wofür Mode stehen soll. Sichtbar werden Brüche zwischen Anspruch und Markt\, zwischen Symbolik und realer Wirkung. \nRealistische Effekte sind begrenzt\, aber spürbar. Kulturell stärkt die Modewoche Debatten über Nachhaltigkeit und Identität. Wirtschaftlich bleibt sie für viele Labels ein Kostenfaktor mit ungewisser Rendite. Für Besucher bietet sie Einblicke in Diskurse\, nicht zwingend in Trends für den Massenmarkt. Für die Stadt ist sie ein Baustein im Selbstbild als kreative Hauptstadt ohne die Strahlkraft globaler Modezentren zu erreichen. \nFazit\nDie Berliner Fashion Week ist kein Schaulaufen der Eitelkeiten\, sondern ein fortlaufender Versuch der Selbstverortung. Sie zeigt\, wie sehr Mode heute um Legitimation ringt. Ob daraus langfristig Relevanz entsteht\, hängt weniger von prominenten Gästen etwa aus dem Umfeld von Mick Jagger als von der Fähigkeit ab\, gesellschaftliche Fragen glaubwürdig zu verhandeln. \n🔔 Mehr Einordnung\, Hintergründe und Analysen finden Sie fortlaufend auf Events.Presse.Online. \nFAQ\nWann und wo findet die Berliner Fashion Week statt?Von Freitag bis einschließlich Montag an verschiedenen Veranstaltungsorten in Berlin. \nFür wen ist das Event relevant – und warum?Vor allem für Designer\, Modebranche und Fachpublikum\, da hier Positionen und Konzepte sichtbar werden. \nWelche Themen stehen im Mittelpunkt?Nachhaltigkeit\, Identität\, urbane Kultur und gesellschaftliche Verantwortung der Mode. \nWas unterscheidet Berlin von anderen Modewochen?Der stärkere Fokus auf Haltung und Diskurs statt auf Luxus und Marktpräsenz. \nWarum ist das Event journalistisch berichtenswert?Weil es gesellschaftliche und kulturelle Spannungen innerhalb der Modebranche sichtbar macht. \nQuellenliste:\n\n\nBerlin Fashion Week: Offizielle Programm- und Terminangaben \n\n\nMarc Cain: Unternehmensmitteilungen zur Modenschau \n\n\nDeutscher Modeverband: Branchenhintergründe und Einordnung \n\n\nSenatsverwaltung für Wirtschaft\, Energie und Betriebe Berlin: Angaben zur kulturellen und wirtschaftlichen Bedeutung von Modeevents \n\n\ndpa: Berichterstattung zu Ablauf\, Gästen und Designern \n\n\nRolling Stones: Biografische Kontextinformationen zu Jerry Hall und Mick Jagger
URL:https://events.presse.online/event/fashion-week-in-beginnt-berlin-wird-wieder-laufsteg/
CATEGORIES:Kultur & Konzerte
ATTACH;FMTTYPE=image/webp:https://events.presse.online/wp-content/uploads/2026/01/Berliner-Fashion-Week.webp
END:VEVENT
END:VCALENDAR