BEGIN:VCALENDAR
VERSION:2.0
PRODID:-//Events.Presse.Online - ECPv6.15.20//NONSGML v1.0//EN
CALSCALE:GREGORIAN
METHOD:PUBLISH
X-ORIGINAL-URL:https://events.presse.online
X-WR-CALDESC:Veranstaltungen für Events.Presse.Online
REFRESH-INTERVAL;VALUE=DURATION:PT1H
X-Robots-Tag:noindex
X-PUBLISHED-TTL:PT1H
BEGIN:VTIMEZONE
TZID:Europe/Berlin
BEGIN:DAYLIGHT
TZOFFSETFROM:+0100
TZOFFSETTO:+0200
TZNAME:CEST
DTSTART:20240331T010000
END:DAYLIGHT
BEGIN:STANDARD
TZOFFSETFROM:+0200
TZOFFSETTO:+0100
TZNAME:CET
DTSTART:20241027T010000
END:STANDARD
BEGIN:DAYLIGHT
TZOFFSETFROM:+0100
TZOFFSETTO:+0200
TZNAME:CEST
DTSTART:20250330T010000
END:DAYLIGHT
BEGIN:STANDARD
TZOFFSETFROM:+0200
TZOFFSETTO:+0100
TZNAME:CET
DTSTART:20251026T010000
END:STANDARD
BEGIN:DAYLIGHT
TZOFFSETFROM:+0100
TZOFFSETTO:+0200
TZNAME:CEST
DTSTART:20260329T010000
END:DAYLIGHT
BEGIN:STANDARD
TZOFFSETFROM:+0200
TZOFFSETTO:+0100
TZNAME:CET
DTSTART:20261025T010000
END:STANDARD
BEGIN:DAYLIGHT
TZOFFSETFROM:+0100
TZOFFSETTO:+0200
TZNAME:CEST
DTSTART:20270328T010000
END:DAYLIGHT
BEGIN:STANDARD
TZOFFSETFROM:+0200
TZOFFSETTO:+0100
TZNAME:CET
DTSTART:20271031T010000
END:STANDARD
END:VTIMEZONE
BEGIN:VEVENT
DTSTART;TZID=Europe/Berlin:20260122T200000
DTEND;TZID=Europe/Berlin:20260122T220000
DTSTAMP:20260422T100308
CREATED:20251225T100331Z
LAST-MODIFIED:20260105T160726Z
UID:10000008-1769112000-1769119200@events.presse.online
SUMMARY:Michelle kündigt Abschiedstournee „Flutlicht“ für 2026 an
DESCRIPTION:Michelle verabschiedet sich mit „Flutlicht – Die Tournee 2026“ von der Bühne\nDie Schlagersängerin Michelle geht 2026 auf Abschiedstournee. Mit „Flutlicht – Die Tournee 2026“ beendet sie nach eigenen Angaben ihre rund 30-jährige Bühnenkarriere\, darunter mit einem Konzert am 22. Januar 2026 im Berliner Tempodrom. \nMit der Ankündigung von „Flutlicht – Die Tournee 2026“ zieht Michelle einen bewussten Schlussstrich unter ihre Laufbahn als Live-Künstlerin. Die Tournee führt sie ein letztes Mal durch Deutschland und ist als Rückblick auf ihre musikalische Karriere konzipiert. Begleitet wird der Abschied von dem Album „Flutlicht“\, das am 5. Juli 2024 bei Sony erschienen ist. \nInhaltlich verbindet die Tour neue Titel mit bekannten Songs aus mehreren Jahrzehnten. Nach Angaben aus dem Tourumfeld umfasst die Setlist sowohl frühe Erfolge wie „Wer Liebe lebt“ und „Idiot“ als auch spätere Titel wie „Nicht verdient“. Ergänzt werden diese durch neuere Singles wie „So oder so“ und „Falsch dich zu lieben“. Ziel sei es\, unterschiedliche Schaffensphasen der Künstlerin abzubilden. \nDie Konzerte sind als klassische Hallenshows geplant. Michelles Auftritte gelten seit Jahren als aufwendig inszeniert\, mit Lichtkonzepten und einer festen Live-Band. Auch für die Abschiedstournee ist eine durchchoreografierte Bühnenproduktion vorgesehen. Details zur technischen Umsetzung oder zur genauen Dauer der Shows wurden bislang nicht veröffentlicht. \nDer Berliner Termin im Tempodrom fällt in eine Phase\, in der Indoor-Konzerte traditionell stark nachgefragt sind. Für Veranstalter und Spielstätten haben Abschiedstourneen etablierter Künstler eine besondere wirtschaftliche Bedeutung\, da sie erfahrungsgemäß ein generationenübergreifendes Publikum anziehen. \nAnalyse / Einordnung\nMichelles Abschiedstournee reiht sich in eine Serie von Karrierenabschlüssen im deutschsprachigen Schlager ein. Anders als große Abschiedsgalas oder medienwirksame Inszenierungen setzt die Sängerin nach eigener Darstellung auf Zurückhaltung. Der Fokus liegt auf Musik\, persönlicher Ansprache und einem bewussten Rückblick\, nicht auf einem spektakulären Abgang. \nFür viele Fans markiert die Tour das Ende einer prägenden Phase deutscher Pop- und Schlagermusik. Gleichzeitig zeigt die Ankündigung\, dass klassische Tourneeformate auch im Streaming-Zeitalter Bestand haben – insbesondere dann\, wenn sie mit biografischer Bedeutung aufgeladen sind. \nFazit:\nMit „Flutlicht – Die Tournee 2026“ verabschiedet sich Michelle von der Live-Bühne. Der Auftritt am 22. Januar 2026 im Tempodrom gehört zu den zentralen Stationen der Abschiedstournee. Weitere Details zu Terminen und Ablauf werden über die offiziellen Kanäle erwartet. \nAlle bestätigten Konzerttermine und weiteren Eventankündigungen finden Sie auf Event.Presse.Online. \nFAQ:\nWas ist „Flutlicht – Die Tournee 2026“?Die letzte Konzerttournee von Michelle\, mit der sie ihre Bühnenkarriere beendet. \nWann erscheint das Abschiedsalbum „Flutlicht“?Das Album erschien am 5. Juli 2024 bei Sony. \nWelche Songs werden auf der Tour gespielt?Geplant ist eine Mischung aus bekannten Klassikern und neueren Titeln aus dem Album „Flutlicht“. \nGibt es ein Berlin-Konzert?Ja\, Michelle tritt am 22. Januar 2026 im Tempodrom in Berlin auf. \nWarum ist die Tour besonders?Es handelt sich um die letzte Tournee der Künstlerin nach rund 30 Jahren Karriere. \nQuellen:\n\n\nOffizielle Tourankündigung „Flutlicht – Die Tournee 2026“ \n\n\nAlbumangaben zu „Flutlicht“ (Sony Music\, Veröffentlichungsdatum 05.07.2024)
URL:https://events.presse.online/event/michelle-kuendigt-abschiedstournee-flutlicht-fuer-2026-an/
LOCATION:Tempodrom\, Möckernstraße 10\, Berlin\, 10963
CATEGORIES:Kultur & Konzerte
ATTACH;FMTTYPE=image/webp:https://events.presse.online/wp-content/uploads/2025/12/Michelle.webp
ORGANIZER;CN="Semmel Concerts Entertainment GmbH":MAILTO:info@semmel.de
END:VEVENT
BEGIN:VEVENT
DTSTART;TZID=Europe/Berlin:20251231T220000
DTEND;TZID=Europe/Berlin:20260101T020000
DTSTAMP:20260422T100308
CREATED:20251222T132259Z
LAST-MODIFIED:20251227T162700Z
UID:10000004-1767218400-1767232800@events.presse.online
SUMMARY:Silvester 2025: Neues Party-Konzept am Brandenburger Tor
DESCRIPTION:Silvesterparty am Brandenburger Tor 2025: Neues Konzept mit Feuerwerk und DJ-Event\nBerlin verabschiedet das Jahr 2025 mit einem veränderten Silvesterkonzept am Brandenburger Tor. Neben dem traditionellen Höhenfeuerwerk wird erstmals eine große DJ-Party für rund 20.000 Gäste veranstaltet kostenlos\, aber mit Ticket. \nSilvester am Brandenburger Tor: Tradition und Wandel\nÜber viele Jahre galt die Silvesterparty am Brandenburger Tor als eine der größten öffentlichen Neujahrsfeiern weltweit. Zehntausende feierten den Jahreswechsel zwischen Siegessäule und Pariser Platz\, begleitet von Live-Acts\, Moderation und einem weithin sichtbaren Feuerwerk. Über mehr als ein Jahrzehnt prägte das Willkommen 20xx-Format des ZDF die Silvesternacht in der Hauptstadt. \nZum Jahreswechsel 2025/26 ändert sich dieses Bild. Die klassische TV-Show entfällt\, stattdessen setzt Berlin auf ein reduziertes\, stärker erlebnisorientiertes Veranstaltungskonzept. Der Fokus liegt auf einer zentralen DJ-Party und dem weiterhin festen Bestandteil: dem Höhenfeuerwerk um Mitternacht. \n«Yeah 26»: DJ-Party für 20.000 Menschen\nUnter dem Titel «Yeah 26» verwandelt sich der Platz des 18. März in der Silvesternacht in einen großen Open-Air-Dancefloor. Rund 20.000 Besucherinnen und Besucher können hier tanzend ins neue Jahr starten. Der Eintritt ist kostenlos\, allerdings nur mit vorheriger Ticketregistrierung möglich. Die Tickets sind seit dem 15. Dezember erhältlich. \nEin zentrales Element bleibt das Höhenfeuerwerk: Punktgenau um Mitternacht erhellt es den Himmel über der Quadriga. Das rund siebeneinhalbminütige Feuerwerk wird bundesweit im Das Erste übertragen. Angaben zum DJ-Line-up oder zu musikalischen Schwerpunkten liegen bislang nicht vor. \nEinlass\, Zugänge und Sicherheitskonzept\nDas Veranstaltungsgelände ist über drei kontrollierte Eingänge erreichbar: \n\n\nEbertstraße Süd (Höhe Behrenstraße) \n\n\nEbertstraße Nord (Höhe Dorotheenstraße) \n\n\nYitzhak-Rabin-Straße / Ecke Scheidemannstraße \n\n\nFür Besucherinnen und Besucher\, die erst nach 22 Uhr anreisen\, werden insbesondere der Eingang Ebertstraße Nord sowie der Zugang an der Yitzhak-Rabin-Straße empfohlen. \nWie in den Vorjahren gelten strenge Sicherheitsauflagen. Taschenkontrollen sind vorgesehen\, Feuerwerkskörper jeglicher Art sind verboten. Ebenso dürfen keine spitzen oder scharfen Gegenstände\, Glasbehälter\, Dosen\, größere Taschen oder Rucksäcke\, Stühle\, Grills\, Drohnen\, Selfie-Sticks oder Laserpointer mitgeführt werden. Eigene Speisen und alkoholische Getränke sind ebenfalls nicht erlaubt. \nEinordnung: Warum das neue Konzept relevant ist\nDie Neuausrichtung der Silvesterfeier spiegelt mehrere Entwicklungen wider. Einerseits stehen Großveranstaltungen in Metropolen zunehmend unter sicherheitspolitischem und logistischem Druck. Andererseits verändern sich mediale Gewohnheiten: Klassische TV-Events verlieren an Bedeutung\, während erlebnisorientierte\, vor Ort erlebbare Formate an Attraktivität gewinnen. \nAus Sicht der Stadt und der Veranstalter bedeutet das neue Konzept eine klarere Begrenzung der Besucherzahl und besser kontrollierbare Abläufe. Für Anwohnerinnen und Anwohner könnte dies perspektivisch zu einer Entlastung führen\, da der Veranstaltungsbereich stärker eingegrenzt ist. Kritisch bleibt\, dass Details zum Programm noch offen sind Transparenz und frühzeitige Information gelten hier als entscheidend für Akzeptanz und Planungssicherheit. \nFazit und Ausblick\nDie Silvesterparty am Brandenburger Tor 2025 markiert einen deutlichen Einschnitt in einer jahrzehntelangen Veranstaltungstradition. Mit kostenloser DJ-Party\, Ticketpflicht und bewährtem Höhenfeuerwerk setzt Berlin auf ein kompakteres\, sicherheitsorientiertes Modell. Ob dieses Konzept langfristig trägt\, dürfte sich bereits in der Silvesternacht selbst zeigen. \nWeitere geprüfte Eventankündigungen\, Hintergründe und Service-Infos finden Sie auf Events.Presse.Online. \nFAQ: Häufige Fragen zur Silvesterparty 2025\nIst der Eintritt zur Silvesterparty am Brandenburger Tor kostenlos?Ja\, der Eintritt ist kostenlos. Voraussetzung ist jedoch ein vorab gebuchtes Ticket. \nWie viele Menschen können an der Party teilnehmen?Die Teilnehmerzahl ist auf rund 20.000 Personen begrenzt. \nWelche Gegenstände sind verboten?Feuerwerkskörper\, Glas\, Dosen\, größere Taschen\, Waffen oder gefährliche Gegenstände sowie Drohnen und Selfie-Sticks sind nicht erlaubt. \nWird das Feuerwerk im Fernsehen übertragen?Ja\, das Höhenfeuerwerk wird live im Ersten ausgestrahlt. \nWann starten die Einlasskontrollen?Die genauen Zeiten variieren\, Besucher nach 22 Uhr sollten die ausgewiesenen Späteingänge nutzen. \nQuellen:\n\n\nOffizielle Informationen des Landes Berlin und der zuständigen Veranstaltungsstellen zur Silvesterfeier am Brandenburger Tor \n\n\nProgramminformationen der öffentlich-rechtlichen Rundfunkanstalten (ZDF\, ARD) zur Silvesterberichterstattung
URL:https://events.presse.online/event/silvester-2025-neues-party-konzept-am-brandenburger-tor/
LOCATION:Brandenburger Tor\, Platz des 18. März\, Brandenburger Tor\, Berlin\, 10117
CATEGORIES:Kultur & Konzerte
ATTACH;FMTTYPE=image/webp:https://events.presse.online/wp-content/uploads/2025/12/Silvester-2025.webp
ORGANIZER;CN="Kulturprojekte Berlin GmbH":MAILTO:info@kulturprojekte.berlin
END:VEVENT
BEGIN:VEVENT
DTSTART;TZID=Europe/Berlin:20251225T200000
DTEND;TZID=Europe/Berlin:20251225T213000
DTSTAMP:20260422T100308
CREATED:20251222T140230Z
LAST-MODIFIED:20260105T160930Z
UID:10000005-1766692800-1766698200@events.presse.online
SUMMARY:Harlem Gospel Night: Gospelklassiker in Schöneberg
DESCRIPTION:Harlem Gospel Night Berlin: Donna Brown & die Golden Gospel Pearls in der Apostel-Paulus-Kirche\nDie „Harlem Gospel Night“ bringt Donna Brown & die Golden Gospel Pearls in die Apostel-Paulus-Kirche nach Berlin-Schöneberg mit mehreren Konzerten rund um die Weihnachtstage. Wer kurzfristig plant\, sollte die Doppeltermine an Samstagen sowie am 25. und 26. Dezember beachten. \nHarlem Gospel Night Berlin: Termine\, Ort\, Ablauf\nDie Konzertreihe ist für den Zeitraum rund um Weihnachten angekündigt. Terminlisten für Berlin führen Auftritte am 21.12.2025 (16 Uhr) sowie 25.12. (16 & 20 Uhr)\, 26.12. (16 & 20 Uhr)\, 27.12. (16 & 20 Uhr) und 28.12. (16 Uhr) in der Apostel-Paulus-Kirche (Schöneberg) auf. \nWichtig für die Planung: Laut Veranstalterhinweis findet das Konzert an Samstagen sowie am 25. und 26.12. jeweils zweimal pro Tag statt. Außerdem gilt der Hinweis\, dass das Konzert für Kinder unter 6 Jahren nicht geeignet ist. \nEin Ticketanbieter nennt als Richtwert Ticketpreise ab 28 Euro (je nach Kategorie/Termin) und führt die Apostel-Paulus-Kirche als Spielort. ADticket.deZur Dauer werden je nach Plattform rund 1 Stunde 20 Minuten genannt (Angabe des Anbieters). \nHintergrund: Donna Brown und die Berliner Gospel-Tradition\nNach Angaben von Ticket- und Kulturplattformen ist Donna Brown seit vielen Jahren eine prägende Figur der Berliner Gospel-Szene; die „Golden Gospel Pearls“ werden in Berlin regelmäßig im Weihnachtskontext angekündigt verbunden mit einem Repertoire aus Klassikern wie „Amazing Grace“ und weihnachtlichen Medleys. Für das Publikum ist das weniger „nur ein Konzert“ als ein Ritual der Saison: wiederkehrende Termine\, vertraute Songs\, vertrauter Ort. \nDie Apostel-Paulus-Kirche als Konzertort: Akustik\, Größe\, Stadtteil\nDass die Reihe in einer Kirche stattfindet\, ist Teil des Formats: Kirchen werden in Berlin seit Jahren auch als Kulturorte genutzt oft wegen Akustik\, Atmosphäre und zentraler Lage. Die Apostel-Paulus-Kirche ist als großer Backsteinbau im Kiez verankert; Berichte nennen eine Größenordnung von rund 1.200 Sitzplätzen und betonen die Nutzung für Veranstaltungen. \nDamit trifft die „Harlem Gospel Night“ auf ein Setting\, das zwei Bedürfnisse zugleich bedient: Weihnachtskultur für ein breites Publikum und ein Ort\, der auch jenseits religiöser Praxis eine öffentliche Funktion hat. \nZwei Perspektiven: Publikumserlebnis und Nachbarschaftsrealität\nPerspektive 1 Kulturpublikum & Tourismus:Terminübersichten wie bei berlin.de und visitBerlin zeigen\, dass die Reihe auch über klassische Musik-/Kulturkanäle hinaus vermarktet wird. Für viele Besucherinnen und Besucher sind solche Abende ein planbares Saison-Highlight inklusive früher Kartenkäufe und fester Familien- oder Freundesrituale. \nPerspektive 2 Kiez\, Logistik\, Regeln:Mehrfachvorstellungen an Wochenenden und Feiertagen bedeuten: An- und Abreise bündeln sich\, Einlass- und Sicherheitsabläufe werden wichtiger\, ebenso die Frage\, wer sich im sakralen Raum wohlfühlt. Der explizite Hinweis „nicht geeignet für Kinder unter 6“ ist in diesem Kontext relevant: Er setzt Erwartungen an Ruhe und Ablauf und hilft\, Konflikte am Einlass zu vermeiden. \nAnalyse und Einordnung: Warum dieses Event 2025 gesellschaftlich auffällt\nGospel-Konzerte in der Weihnachtszeit sind längst Teil urbaner Alltagskultur: Sie verbinden religiöse Tradition\, Pop-/Soul-Ästhetik und Gemeinschaftserlebnis ohne zwingend konfessionell zu sein. Gerade in einer Metropole wie Berlin wirkt das als niedrigschwelliger „öffentlicher Raum“ für Emotion\, Musik und Zugehörigkeit. \nRealistische Folgen sind dabei vor allem praktischer Natur: hohe Nachfrage an bestimmten Terminen (Feiertage/Samstage)\, zwei Shows pro Tag und damit eine stärkere Auslastung des Umfelds. Gleichzeitig zeigt die Reihe\, wie stark sich Kirchen als Kulturinfrastruktur etabliert haben ein Faktor\, der auch für Bezirke\, Tourismuskommunikation und lokale Wirtschaft (Gastro\, ÖPNV-Frequenz) spürbar sein kann. \nFazit:\nDie „Harlem Gospel Night Berlin“ mit Donna Brown & den Golden Gospel Pearls ist für mehrere Termine in der Apostel-Paulus-Kirche angekündigt inklusive Doppelshows an Samstagen sowie am 25. und 26. Dezember. Wer hingehen will\, sollte Termin- und Alters­hinweise vorab prüfen. \nAktuelle Zeiten\, Restkarten und Einlasshinweise finden Sie gebündelt in unserem Event-Kalender auf Event.Presse.Online. \nFAQ:\n1) Wo findet die Harlem Gospel Night in Berlin statt?In der Apostel-Paulus-Kirche (Schöneberg)\, 10823 Berlin. \n2) An welchen Tagen gibt es zwei Vorstellungen?Laut Hinweis: samstags sowie am 25.12. und 26.12. jeweils zweimal pro Tag. \n3) Gibt es eine Altersempfehlung?Ja. Der Veranstalterhinweis lautet: nicht geeignet für Kinder unter 6 Jahren. \n4) Wie lange dauert das Konzert?Ein Anbieter nennt rund 1 Stunde 20 Minuten (Angabe des Ticketanbieters). \n5) Was kosten Tickets ungefähr?Je nach Termin/Kategorie werden Tickets ab 28 Euro genannt (Preisangabe des Anbieters) \nQuellenangaben:\n\n\nOffizielle Termin-/Ticketübersicht: berlin.de „Harlem Gospel Night“ (Termine & Uhrzeiten). \n\n\nTicketplattform (Detailtermin\, Preis/Ort): ADticket „Donna Brown & The Golden Gospel Pearls Harlem Gospel Night“ (Apostel-Paulus-Kirche\, Preis ab 28 €). \n\n\nVeranstalterhinweise (Doppelshows\, Altershinweis): Classictic Eventseite (Nützliche Informationen). \n\n\nKontext/Ort (Kirchengemeinde/Anschrift): Ev. Apostel-Paulus-Kirchengemeinde (Termine/Adresse). \n\n\nKontext zur Größenordnung (Sitzplätze): GASAG Solution Beitrag zur Apostel-Paulus-Kirche (rund 1.200 Sitzplätze).
URL:https://events.presse.online/event/harlem-gospel-night-gospelklassiker-in-schoeneberg/
LOCATION:Apostel‐Paulus‐Kirche\, Grunewaldstraße 77A\, Berlin\, 10823
CATEGORIES:Kultur & Konzerte
ATTACH;FMTTYPE=image/webp:https://events.presse.online/wp-content/uploads/2025/12/Harlem-Gospel-Night.webp
ORGANIZER;CN="Apostel-Paulus-Kirche":MAILTO:martina.steffen-elis@ev-apg.de
END:VEVENT
END:VCALENDAR