BEGIN:VCALENDAR
VERSION:2.0
PRODID:-//Events.Presse.Online - ECPv6.15.20//NONSGML v1.0//EN
CALSCALE:GREGORIAN
METHOD:PUBLISH
X-WR-CALNAME:Events.Presse.Online
X-ORIGINAL-URL:https://events.presse.online
X-WR-CALDESC:Veranstaltungen für Events.Presse.Online
REFRESH-INTERVAL;VALUE=DURATION:PT1H
X-Robots-Tag:noindex
X-PUBLISHED-TTL:PT1H
BEGIN:VTIMEZONE
TZID:Europe/Berlin
BEGIN:DAYLIGHT
TZOFFSETFROM:+0100
TZOFFSETTO:+0200
TZNAME:CEST
DTSTART:20250330T010000
END:DAYLIGHT
BEGIN:STANDARD
TZOFFSETFROM:+0200
TZOFFSETTO:+0100
TZNAME:CET
DTSTART:20251026T010000
END:STANDARD
BEGIN:DAYLIGHT
TZOFFSETFROM:+0100
TZOFFSETTO:+0200
TZNAME:CEST
DTSTART:20260329T010000
END:DAYLIGHT
BEGIN:STANDARD
TZOFFSETFROM:+0200
TZOFFSETTO:+0100
TZNAME:CET
DTSTART:20261025T010000
END:STANDARD
BEGIN:DAYLIGHT
TZOFFSETFROM:+0100
TZOFFSETTO:+0200
TZNAME:CEST
DTSTART:20270328T010000
END:DAYLIGHT
BEGIN:STANDARD
TZOFFSETFROM:+0200
TZOFFSETTO:+0100
TZNAME:CET
DTSTART:20271031T010000
END:STANDARD
END:VTIMEZONE
BEGIN:VEVENT
DTSTART;TZID=Europe/Berlin:20260425T190000
DTEND;TZID=Europe/Berlin:20260425T220000
DTSTAMP:20260421T011540
CREATED:20260420T125219Z
LAST-MODIFIED:20260420T125816Z
UID:10000164-1777143600-1777154400@events.presse.online
SUMMARY:Warum Nostalgie 2026 wieder Hallen füllt
DESCRIPTION:Lord of the Dance im Tempodrom: Warum ein 90er-Phänomen 2026 weiter trägt\nBerlin. Kulturelle Großformate leben heute nicht nur von Neuheit\, sondern zunehmend von Wiedererkennbarkeit. In einem überfüllten Live-Markt gewinnen jene Produktionen an Gewicht\, die zugleich Erinnerung\, Verlässlichkeit und technisch aufgerüstete Bühnenwirkung versprechen. \nGenau in diesem Spannungsfeld steht „Lord of the Dance“\, das am 24.\, 25. und 26. April 2026 im Berliner Tempodrom gezeigt wird. Die Berlin-Termine sind Teil der 30-jährigen Jubiläumstour; das Tempodrom führt drei Aufführungen in der Großen Arena\, die je nach Nutzung bis zu 4.200 Personen fasst. \nZwischen Traditionsformel und Eventmaschine\nDie Produktion gehört zu den langlebigsten exportfähigen Bühnenerfolgen des irisch geprägten Showgeschäfts. Laut offizieller Darstellung wurde „Lord of the Dance“ seit der Premiere weltweit in mehr als 1.000 Theatern\, Arenen und Stadien gezeigt und von über 60 Millionen Menschen gesehen. Die Jubiläumstour 2026 knüpft damit an eine Marke an\, die weniger als singuläres Kunstereignis funktioniert\, sondern als global standardisierte Live-Erfahrung. \nGerade das erklärt\, warum das Format weiterhin existiert und warum gerade jetzt. Der Live-Sektor setzt nach Jahren starker Marktverschiebungen verstärkt auf bekannte Titel\, die ein generationenübergreifendes Publikum mobilisieren können. „Lord of the Dance“ verbindet irischen Stepptanz mit Erzählung\, Licht-\, Ton- und Effektarchitektur und wird 2026 nicht als experimentelles Kulturereignis\, sondern als belastbare Eventmarke positioniert. Die Tempodrom-Ankündigungen selbst betonen das 30-jährige Jubiläum und die Fortführung der Tour als zentrales Narrativ. \nWarum Berlin für solche Formate relevant bleibt\nFür Berlin ist der Gastspielblock vor allem ein Signal für die Stabilität des Standorts im Tournee- und Hallengeschäft. Das Tempodrom gehört zu den etablierten Mehrzwecklocations der Hauptstadt und ist auf Produktionen zugeschnitten\, die zwischen Konzert\, Show und großem Publikumsevent liegen. Dass eine international bekannte Tanzproduktion gleich an drei Abenden dort angesetzt ist\, spricht weniger für kulturelle Überraschung als für kalkulierbare Nachfrage. \nAus Veranstaltersicht liegt der Reiz auf der Hand: Jubiläum\, Markenbekanntheit und klar lesbares Produkt. Aus Sicht der Öffentlichkeit ist das ambivalenter. Einerseits zeigt die Rückkehr solcher Formate\, dass Publikum weiterhin bereit ist\, für stark choreografierte Live-Erlebnisse zu zahlen. Andererseits verweist sie auch auf eine Eventkultur\, in der bewährte Namen oft leichter durchsetzbar sind als neue\, riskantere Produktionen. Genau darin liegt der journalistische Kern: Das Event erzählt nicht nur etwas über Tanz\, sondern über die Ökonomie kultureller Aufmerksamkeit. \nAnalyse: Was daran über die Gegenwart sichtbar wird\nAuch ohne den Eventnamen bleibt die Beobachtung dieselbe: Der Markt belohnt Formate\, die Erinnerung in Ticketverkäufe übersetzen können. Jubiläen sind dafür ein besonders wirksames Instrument. Sie schaffen Relevanz\, ohne dass ein Stoff inhaltlich neu erfunden werden muss. Das Publikum bekommt kein bloßes Revival verkauft\, sondern das Gefühl\, an einem kulturell bereits bewährten Kapitel teilzunehmen. \n2026 kommt noch ein zweiter Faktor hinzu: die mediale Aufladung durch die Auseinandersetzungen um Michael Flatley und die Kontrolle über die Jubiläumstour. Anfang 2026 berichteten irische Medien über gerichtliche Auseinandersetzungen rund um die Produktion; Ende Januar wurde eine Anordnung aufgehoben\, die Flatley zeitweise von der Mitwirkung fernhielt\, im Februar und März folgten weitere juristische Schritte im Umfeld der Tour. Das macht die Show nicht automatisch politisch\, zeigt aber\, wie stark auch etablierte Kulturmarken heute als wirtschaftliche Vermögenswerte umkämpft sind. \nFür Besucher bedeutet das vor allem: Sie konsumieren nicht nur Tanz\, sondern ein Stück Eventgeschichte\, das sich zugleich als modernes Arena-Produkt behaupten will. Für die Stadt ist relevant\, dass solche Produktionen touristische und wirtschaftliche Anschlussfähigkeit besitzen\, auch wenn sie kulturell eher auf Wiedererkennung als auf lokale Innovation setzen. Für die Branche zeigt der Fall\, wie stark Live-Unterhaltung 2026 zwischen Nostalgie-Verwertung\, Markenpflege und juristisch abgesicherter Rechtekontrolle organisiert ist. \nFür wen das relevant ist und für wen weniger\nRelevant ist das Gastspiel für ein breites Publikum\, das auf zugängliche\, visuell starke Bühnenformate setzt: Familien\, Musical- und Showbesucher\, Tourismuspublikum sowie jene\, die kulturelle Großproduktionen eher als Abendereignis denn als experimentelle Kunstform wahrnehmen. Weniger relevant ist es für Besucher\, die von einem Berliner Termin einen lokalen Gegenwartsbezug\, ästhetisches Risiko oder eine inhaltlich neue Debatte erwarten. \nFazit\n„Lord of the Dance“ ist 2026 in Berlin weniger deshalb berichtenswert\, weil es neu wäre\, sondern weil seine Langlebigkeit etwas über den aktuellen Eventmarkt verrät. Wenn ein 1990er-Welterfolg auch drei Jahrzehnte später noch drei Abende im Tempodrom besetzt\, dann ist das vor allem ein Hinweis darauf\, wie stark Live-Kultur heute auf Wiedererkennbarkeit\, Markenvertrauen und massentaugliche Inszenierung setzt. Wer Berliner Eventkultur verstehen will\, sollte deshalb nicht nur auf das Neue schauen\, sondern auch auf das\, was sich erstaunlich beharrlich hält. \nMehr journalistische Einordnungen zu Berlin\, Kultur und Eventwirtschaft auf Events.Presse.Online. \nFAQ\nWann und wo findet „Lord of the Dance“ in Berlin statt?Im Tempodrom Berlin am 24. April 2026 um 20 Uhr\, am 25. April 2026 um 20 Uhr und am 26. April 2026 um 19 Uhr. \nWarum ist das Event journalistisch berichtenswert?Weil es zeigt\, wie stark der Live-Markt auf etablierte Marken\, Jubiläen und wiedererkennbare Großformate setzt. \nFür wen ist das Event besonders relevant?Für Publikum mit Interesse an großformatiger Tanz- und Showunterhaltung\, an international bekannten Bühnenmarken und an publikumsstarken Hallenformaten. Die Einordnung ergibt sich aus Format\, Venue-Größe und Tourcharakter. \nWas unterscheidet die Produktion von anderen Berliner Bühnenereignissen?Nicht primär lokale Verankerung oder inhaltliche Aktualität\, sondern die Verbindung aus global bekannter Tanzmarke\, Jubiläumserzählung und technisch verdichteter Arena-Inszenierung. \nWelche größere Entwicklung spiegelt das Gastspiel wider?Die wachsende Bedeutung langlebiger Eventmarken im Live-Sektor inklusive der wirtschaftlichen und rechtlichen Konflikte\, die mit solchen Marken verbunden sein können. \nQuellenliste:\n\nTempodrom Berlin: Veranstaltungsseite „Lord of the Dance“\, Termine am 24.\, 25. und 26. April 2026\nTempodrom Berlin: Informationen zur „Großen Arena“ / Kapazität und Veranstaltungsformat\nTempodrom Berlin: allgemeine Programmübersicht / Eventkalender 2026\nOffizielle Website von „Lord of the Dance“: Hintergrund zur Show und Jubiläumstour\nThe Irish Times: Berichterstattung zu den juristischen Auseinandersetzungen um Michael Flatley und „Lord of the Dance“ im Januar 2026\nweitere Berichte aus irischen Medien zur Entwicklung rund um Rechte\, Tourstruktur und gerichtliche Verfahren 2026
URL:https://events.presse.online/event/warum-nostalgie-2026-wieder-hallen-fuellt/
LOCATION:Tempodrom\, Möckernstraße 10\, Berlin\, 10963
CATEGORIES:Kultur & Konzerte
ATTACH;FMTTYPE=image/webp:https://events.presse.online/wp-content/uploads/2026/04/Lord-of-the-Dance.webp
ORGANIZER;CN="Semmel Concerts Entertainment GmbH":MAILTO:info@semmel.de
END:VEVENT
END:VCALENDAR