BEGIN:VCALENDAR
VERSION:2.0
PRODID:-//Events.Presse.Online - ECPv6.15.20//NONSGML v1.0//EN
CALSCALE:GREGORIAN
METHOD:PUBLISH
X-ORIGINAL-URL:https://events.presse.online
X-WR-CALDESC:Veranstaltungen für Events.Presse.Online
REFRESH-INTERVAL;VALUE=DURATION:PT1H
X-Robots-Tag:noindex
X-PUBLISHED-TTL:PT1H
BEGIN:VTIMEZONE
TZID:Europe/Berlin
BEGIN:DAYLIGHT
TZOFFSETFROM:+0100
TZOFFSETTO:+0200
TZNAME:CEST
DTSTART:20250330T010000
END:DAYLIGHT
BEGIN:STANDARD
TZOFFSETFROM:+0200
TZOFFSETTO:+0100
TZNAME:CET
DTSTART:20251026T010000
END:STANDARD
BEGIN:DAYLIGHT
TZOFFSETFROM:+0100
TZOFFSETTO:+0200
TZNAME:CEST
DTSTART:20260329T010000
END:DAYLIGHT
BEGIN:STANDARD
TZOFFSETFROM:+0200
TZOFFSETTO:+0100
TZNAME:CET
DTSTART:20261025T010000
END:STANDARD
BEGIN:DAYLIGHT
TZOFFSETFROM:+0100
TZOFFSETTO:+0200
TZNAME:CEST
DTSTART:20270328T010000
END:DAYLIGHT
BEGIN:STANDARD
TZOFFSETFROM:+0200
TZOFFSETTO:+0100
TZNAME:CET
DTSTART:20271031T010000
END:STANDARD
END:VTIMEZONE
BEGIN:VEVENT
DTSTART;TZID=Europe/Berlin:20260503T120000
DTEND;TZID=Europe/Berlin:20260503T140000
DTSTAMP:20260420T192128
CREATED:20260414T064251Z
LAST-MODIFIED:20260414T064709Z
UID:10000159-1777809600-1777816800@events.presse.online
SUMMARY:Warum Debattenformate wieder Publikum finden
DESCRIPTION:radioeins-Kommentatoren-Talk im TIPI: Warum Live-Journalismus in Berlin wieder als öffentliche Bühne funktioniert\nÖffentliche Debatten haben sich in den vergangenen Jahren zugleich beschleunigt und verengt. Vieles wird sofort kommentiert\, aber immer seltener gemeinsam verhandelt. Vor diesem Hintergrund wirkt die Rückkehr des kuratierten Live-Gesprächs nicht nostalgisch\, sondern fast gegenläufig zur digitalen Taktung. \nGenau in diesem Spannungsfeld steht der radioeins-Kommentatoren-Talk am 3. Mai 2026 um 12 Uhr im TIPI AM KANZLERAMT. Gastgeber ist Marco Seiffert; laut offizieller Ankündigung diskutieren dort bekannte Journalistinnen und Journalisten ein aktuelles Thema\, ordnen die Lage ein und wagen den Blick voraus. Das Format ist für zahlreiche Termine im Jahr 2026 angesetzt; der Termin am 3. Mai ist auf der Veranstaltungsseite bereits als ausverkauft\, gegebenenfalls mit Restkarten\, geführt. \nWas dieses Format von vielen Talk-Events unterscheidet\nBerichtenswert ist der Abend nicht\, weil Prominenz auf der Bühne sitzt oder weil ein Medienpartner Reichweite mitbringt. Relevanter ist die Konstruktion des Formats selbst: Hier wird Journalismus nicht nur gesendet\, gestreamt oder als Schlagzeile verbreitet\, sondern vor Publikum aufgeführt\, geprüft und verdichtet. Das TIPI beschreibt den Talk ausdrücklich als Runde über „Krisen\, Kriege\, Konflikte“\, also über Themen\, die gesellschaftlich ohnehin aufgeladen sind. Für den 19. April nennt die offizielle Seite etwa Reformdruck\, marode Infrastruktur\, steigende Preise und wirtschaftliche Unsicherheit als Debattenrahmen; für den 3. Mai war das konkrete Thema zum Zeitpunkt der Prüfung dort noch nicht benannt. Genau diese Offenheit zeigt aber\, dass nicht ein einzelnes Sujet im Mittelpunkt steht\, sondern das Format als Reaktionsraum auf die jeweilige Nachrichtenlage. \nFür Berlin ist das nicht nebensächlich. Die Stadt ist politisches Zentrum\, Medienstandort und Projektionsfläche nationaler Konflikte zugleich. Ein Debattenformat direkt am Kanzleramt ist deshalb symbolisch mehr als nur gut platziert: Es verbindet Hauptstadtjournalismus\, Öffentlichkeit und Kulturraum. Dass der Talk nicht nur im Saal\, sondern laut Veranstaltungsseite zugleich im Radio\, im Livestream auf radioeins.de und im rbb-Fernsehen verfolgt werden kann\, erweitert diese Bühne über das lokale Publikum hinaus. \nFür wen das relevant ist und für wen eher nicht\nRelevant ist der Termin vor allem für Menschen\, die nicht nur Positionen konsumieren\, sondern Herleitungen hören wollen: politisch Interessierte\, Mediennutzer mit Einordnungsbedarf\, Kulturpublikum mit Nachrichtenaffinität und Berliner\, die öffentliche Debatte nicht allein Algorithmen überlassen möchten. Weniger relevant ist das Format für ein Publikum\, das vor allem Unterhaltung ohne argumentative Reibung sucht oder ausschließlich schnelle\, stark personalisierte News-Snippets bevorzugt. \nGerade darin liegt seine Zeitdiagnose. Laut den deutschen Ergebnissen des Reuters Institute Digital News Report 2025 halten zwar 45 Prozent der erwachsenen Online-Bevölkerung Nachrichten in Deutschland im Allgemeinen für vertrauenswürdig; zugleich verschiebt sich Nutzung stark zwischen linearen und digitalen Quellen. 61 Prozent sehen mindestens wöchentlich TV-Nachrichten\, während Jüngere deutlich anders konsumieren. Das verweist auf ein Publikum\, das Orientierung sucht\, aber auf sehr unterschiedlichen Kanälen. \nWarum das jetzt relevant ist\nDas eigentliche Thema dieses Events ist nicht nur das jeweilige Wochenthema\, sondern die Form\, in der Öffentlichkeit heute noch hergestellt werden kann. Die Bundeszentrale für politische Bildung beschreibt soziale Medien als Raum zwischen Demokratisierung und Fragmentierung; sie verweist zugleich auf Empörung\, Desinformation\, Hassrede und sehr unterschiedliche Nutzungsweisen je nach Alters- und Interessengruppen. In einem neueren bpb-Essay wird politische Polarisierung zudem als vor allem kommunikatives Phänomen beschrieben\, begünstigt durch kampagnenförmige Mobilisierung und zugespitzte Debattenlogiken. \nVor diesem Hintergrund lässt sich der radioeins-Kommentatoren-Talk als Gegenmodell lesen: nicht als neutraler Raum ohne Haltung\, sondern als kuratierter Raum mit nachvollziehbaren Regeln. Das bedeutet nicht automatisch Ausgewogenheit im mathematischen Sinn\, wohl aber Sichtbarkeit von journalistischer Auswahl\, Argumentation und Widerspruch. Für Besucher heißt das: weniger Tempo\, mehr Einordnung. Für die Stadtöffentlichkeit heißt es: Debatte bleibt sichtbar und findet nicht nur in Kommentarspalten statt. Für die Branche heißt es: Live-Formate werden wieder wichtiger\, weil sie Vertrauen nicht nur behaupten\, sondern performativ herstellen müssen. Diese Deutung ist eine journalistische Einordnung auf Basis der offiziellen Formatbeschreibung und der beschriebenen Medienentwicklung. \nFazit\nDer radioeins-Kommentatoren-Talk am 3. Mai 2026 ist deshalb journalistisch interessant\, weil er ein größeres Bedürfnis sichtbar macht: Öffentlichkeit soll wieder als gemeinsamer Vorgang erfahrbar werden\, nicht nur als individualisierter Nachrichtenstrom. Das Event steht damit weniger für Eventisierung von Politik als für den Versuch\, politische und gesellschaftliche Komplexität wieder in einen gemeinsamen Raum zu holen. Ob das dauerhaft trägt\, hängt nicht nur vom Thema des Tages ab\, sondern davon\, ob solche Formate weiter glaubwürdige Einordnung liefern\, wo viele Kanäle vor allem Reaktion produzieren. \nMehr Einordnungen zu gesellschaftlich relevanten Debattenformaten\, Medienwandel und Berliner Öffentlichkeit auf Events.Presse.Online. \nFAQ\nWann und wo findet der radioeins-Kommentatoren-Talk statt?Am Sonntag\, 3. Mai 2026\, um 12 Uhr im TIPI AM KANZLERAMT in Berlin. \nWer moderiert das Format?Gastgeber ist radioeins-Moderator Marco Seiffert. \nWorum geht es inhaltlich?Laut offizieller Beschreibung um aktuelle Themen aus dem Spannungsfeld von Krisen\, Kriegen und Konflikten\, diskutiert von bekannten Journalistinnen und Journalisten. \nWarum ist das Event journalistisch berichtenswert?Weil es ein Live-Format für öffentliche Einordnung in einer Phase polarisierten und fragmentierten Nachrichtenkonsums darstellt. Diese Relevanz ergibt sich aus der offiziellen Formatbeschreibung und aktuellen Befunden zur Mediennutzung und Polarisierung. \nWas unterscheidet es von vielen vergleichbaren Veranstaltungen?Nicht die bloße Bühnenpräsenz\, sondern der Anspruch\, journalistische Bewertung und Ausblick live vor Publikum sowie parallel über Radio\, Stream und Fernsehen sichtbar zu machen. \nQuellenliste:\n\nTIPI AM KANZLERAMT\, Programmseite: „radioeins Kommentatoren-Talk“\nradioeins / rbb\, Informationen zum Format und zur Ausstrahlung\nLeibniz-Institut für Medienforschung | Hans-Bredow-Institut\, Reuters Institute Digital News Report 2025 – deutsche Ergebnisse\nBundeszentrale für politische Bildung\, Beitrag zu sozialen Medien zwischen Demokratisierung und Fragmentierung der Öffentlichkeit\nBundeszentrale für politische Bildung\, Analysen zu politischer Polarisierung und öffentlicher Debatte
URL:https://events.presse.online/event/warum-debattenformate-wieder-publikum-finden/
LOCATION:TIPI am Kanzleramt\, Große Querallee\, Berlin\, 10557
CATEGORIES:Messen & Business
ATTACH;FMTTYPE=image/webp:https://events.presse.online/wp-content/uploads/2026/04/Kommentatoren-Talk.webp
ORGANIZER;CN="TIPI am Kanzleramt":MAILTO:info@tipi-am-kanzleramt.de
END:VEVENT
END:VCALENDAR