BEGIN:VCALENDAR
VERSION:2.0
PRODID:-//Events.Presse.Online - ECPv6.15.20//NONSGML v1.0//EN
CALSCALE:GREGORIAN
METHOD:PUBLISH
X-WR-CALNAME:Events.Presse.Online
X-ORIGINAL-URL:https://events.presse.online
X-WR-CALDESC:Veranstaltungen für Events.Presse.Online
REFRESH-INTERVAL;VALUE=DURATION:PT1H
X-Robots-Tag:noindex
X-PUBLISHED-TTL:PT1H
BEGIN:VTIMEZONE
TZID:Europe/Berlin
BEGIN:DAYLIGHT
TZOFFSETFROM:+0100
TZOFFSETTO:+0200
TZNAME:CEST
DTSTART:20250330T010000
END:DAYLIGHT
BEGIN:STANDARD
TZOFFSETFROM:+0200
TZOFFSETTO:+0100
TZNAME:CET
DTSTART:20251026T010000
END:STANDARD
BEGIN:DAYLIGHT
TZOFFSETFROM:+0100
TZOFFSETTO:+0200
TZNAME:CEST
DTSTART:20260329T010000
END:DAYLIGHT
BEGIN:STANDARD
TZOFFSETFROM:+0200
TZOFFSETTO:+0100
TZNAME:CET
DTSTART:20261025T010000
END:STANDARD
BEGIN:DAYLIGHT
TZOFFSETFROM:+0100
TZOFFSETTO:+0200
TZNAME:CEST
DTSTART:20270328T010000
END:DAYLIGHT
BEGIN:STANDARD
TZOFFSETFROM:+0200
TZOFFSETTO:+0100
TZNAME:CET
DTSTART:20271031T010000
END:STANDARD
END:VTIMEZONE
BEGIN:VEVENT
DTSTART;TZID=Europe/Berlin:20260501T100000
DTEND;TZID=Europe/Berlin:20260501T233000
DTSTAMP:20260420T085748
CREATED:20260418T045232Z
LAST-MODIFIED:20260418T045731Z
UID:10000161-1777629600-1777678200@events.presse.online
SUMMARY:Der 1. Mai zeigt Berlins Streit um öffentlichen Raum
DESCRIPTION:1. Mai 2026 in Berlin: Wie Straßenfeste und Raves den politischen Feiertag neu ordnen\nBerlin. Öffentliche Räume werden in Großstädten immer stärker reguliert\, überwacht und symbolisch aufgeladen. Gerade dort\, wo Politik\, Nachtleben und Alltagskultur aufeinandertreffen\, entstehen daraus Konflikte\, die weit über einzelne Veranstaltungen hinausweisen. \nDer 1. Mai 2026 in Berlin ist dafür ein besonders klares Beispiel. Zwar bleibt der Tag geprägt von klassischen politischen Versammlungen wie der DGB-Kundgebung vor dem Roten Rathaus\, doch in Kreuzberg und Neukölln steht vor allem die Verschiebung vom organisierten Straßenfest hin zu offeneren\, teils ungenehmigten und schwerer steuerbaren Feierformen im Mittelpunkt. \nZwischen Traditionsfest und Kontrollverlust\nDas Myfest prägte seit 2003 den 1. Mai in Kreuzberg. Sein ursprünglicher Zweck war ausdrücklich\, Ausschreitungen rund um Kottbusser Tor\, Heinrichplatz und Oranienstraße durch ein friedliches Straßenfest zu entschärfen. Berlin.de beschreibt das Fest bis heute als Gegenmodell zur Gewalt; auch der seit 2003 friedlichere Verlauf der Kreuzberger Maifeiern wird dort wesentlich dem Myfest zugeschrieben. Für 2026 ist aber erneut kein offizielles Myfest vorgesehen. \nGerade darin liegt die eigentliche Nachricht. Denn das Bedürfnis\, sich am 1. Mai im öffentlichen Raum zu versammeln\, verschwindet nicht mit dem Wegfall eines offiziellen Formats. Berliner Medien gehen vielmehr davon aus\, dass entlang von Oranien-\, Wiener- und Skalitzer Straße trotzdem gefeiert werden wird – nur eben weniger kuratiert\, weniger geordnet und weniger institutionell eingebunden. Parallel dazu wird erneut ein Rave im Görlitzer Park erwartet; 2025 wurden dort laut Medienberichten in der Spitze rund 18.000 Menschen gezählt. \nWarum gerade der Görlitzer Park zum Symbol geworden ist\nDer Ort ist 2026 politisch stärker aufgeladen als in den Vorjahren. Seit 1. März 2026 wird der Görlitzer Park nachts geschlossen; der Senat begründet das mit mehr Sicherheit sowie dem Ziel\, Betäubungsmittelkriminalität und begleitende Gewaltdelikte einzudämmen. Der Bezirk Friedrichshain-Kreuzberg kritisiert die Maßnahme dagegen als Symbolpolitik und bezweifelt\, dass soziale Probleme so gelöst werden können. \nDamit wird der Görli am 1. Mai zu mehr als nur einem Park. Er steht für einen Grundkonflikt der Gegenwart: zwischen Sicherheitslogik und Freiraumanspruch\, zwischen staatlicher Ordnung und subkultureller Aneignung. Dass die revolutionäre 1.-Mai-Demonstration 2026 laut Veranstalterangaben um 18 Uhr am Oranienplatz beginnen und durch Kreuzberg und Neukölln führen soll\, passt in dieses Bild; bereits im Vorfeld wurde angekündigt\, dass der Görlitzer Park und sein Zaun politisch eine zentrale Rolle spielen sollen. \nZwei Perspektiven auf denselben Feiertag\nAus Sicht vieler Feiernder und politischer Gruppen ist der 1. Mai weiterhin ein Tag der Sichtbarkeit\, der kollektiven Präsenz und der Rückeroberung von Stadträumen. Aus Sicht von Verwaltung\, Polizei und Anwohnern stellt sich dieselbe Dynamik oft als Belastungsprobe dar: für Sicherheit\, Infrastruktur\, Lärmschutz\, Müllentsorgung und Verkehrssteuerung. Dass im vergangenen Jahr im Treptower Park nach langen Feiern massive Müll- und Flächenschäden dokumentiert wurden\, zeigt\, dass sich die Konflikte nicht mehr auf klassische Demo-Routen beschränken. Der Bezirk sprach 2025 ausdrücklich von erheblichen Spuren in Grünanlagen und Folgekosten für Reinigung und Instandsetzung. \nAnalyse: Was der 1. Mai 2026 über Berlin erzählt\nDie größere Entwicklung ist klar: Der 1. Mai entfernt sich weiter vom Modell des befriedeten\, eindeutig gerahmten Stadtfests und nähert sich einer hybriden Form aus Demonstration\, dezentraler Feier\, Szene-Treffen und Nutzungskonflikt. Das ist gesellschaftlich relevant\, weil hier sichtbar wird\, wie politische Kultur heute funktioniert: weniger über zentrale Bühnen und stärker über fluide Räume\, spontane Verdichtung und symbolische Orte. \nFür Besucher bedeutet das mehr Unsicherheit darüber\, was offizielles Programm und was informelle Dynamik ist. Für die Stadt bedeutet es steigenden Steuerungsdruck\, ohne dass Kontrolle automatisch Akzeptanz erzeugt. Für die Event- und Festkultur bedeutet es\, dass klassische Straßenfeste zwar an Bindekraft verlieren können\, die Nachfrage nach gemeinschaftlicher urbaner Erfahrung aber ungebrochen bleibt. Der 1. Mai 2026 ist deshalb weniger eine Eventgeschichte als eine Stadtgeschichte: über Regulierung\, Aneignung und die Frage\, wie politisch Feierkultur geworden ist. \nFazit\nDer 1. Mai 2026 in Berlin ist nicht deshalb relevant\, weil besonders viele Einzelveranstaltungen stattfinden. Relevant ist er\, weil sich an ihm exemplarisch zeigt\, wie sich Protest\, Party und öffentlicher Raum neu vermischen. Wo offizielle Formate schwächer werden\, entstehen keine leeren Flächen sondern neue\, konfliktreichere Formen urbaner Öffentlichkeit. \nMehr Einordnungen zu Stadt\, Kultur und öffentlichem Raum auf Events.Presse.Online. \nFAQ\nWann und wo verdichtet sich das Geschehen am 1. Mai 2026 in Berlin?\nSchwerpunkte liegen am 1. Mai 2026 in Kreuzberg und Neukölln\, besonders rund um Oranienplatz\, Mariannenplatz\, Görlitzer Park und die traditionellen Demonstrationsräume. Auch die DGB-Kundgebung vor dem Roten Rathaus gehört zum Tag. \nGibt es 2026 ein offizielles Myfest in Kreuzberg?\nNein. Berlin.de führt für 2026 erneut kein stattfindendes offizielles Myfest; zugleich wird weiterhin mit Feiern im Kreuzberger Straßenraum gerechnet. \nWarum ist der Görlitzer Park dieses Jahr besonders wichtig?\nWeil der Park seit dem 1. März 2026 nachts geschlossen wird und damit zum Symbol für den Konflikt zwischen Sicherheits- und Freiheitsanspruch in der Stadt geworden ist. \nFür wen ist das Thema relevant?\nFür Besucher\, Anwohner\, Polizei\, Bezirksverwaltung\, Kulturbeobachter und Stadtpolitik. Weniger relevant ist es für Menschen\, die den 1. Mai nur als klassischen Feiertag ohne Bezug zu Berliner Stadt- und Protestkultur betrachten. \nWarum ist das journalistisch berichtenswert?\nWeil sich am 1. Mai in Berlin gesellschaftliche Grundfragen bündeln: Nutzung öffentlicher Räume\, Sicherheitsdebatten\, Feierkultur\, Protestformen und die Verschiebung von offiziellen zu informellen Formaten. \nQuellenliste\n\nBerlin.de: Tipps zum Maifeiertag in Berlin\nBerlin.de: Myfest Berlin / Kreuzberg am 1. Mai\nBerlin.de: DGB-Kundgebung zum 1. Mai in Berlin\nPressemitteilung des Berliner Senats zur nächtlichen Schließung des Görlitzer Parks\nBerliner Morgenpost: Überblick zu Demos\, Partys und Myfest am 1. Mai 2026 in Berlin\nRevolutionäre 1.-Mai-Demonstration Berlin: Veranstalterseite / Aufruf und Routenbezug\nBezirksamt Treptow-Köpenick: Presseinformationen zu Müll\, Nutzung und Folgen nach Feiern im Treptower Park
URL:https://events.presse.online/event/der-1-mai-zeigt-berlins-streit-um-oeffentlichen-raum/
CATEGORIES:Kultur & Konzerte
ATTACH;FMTTYPE=image/webp:https://events.presse.online/wp-content/uploads/2026/04/1.Mai_.webp
END:VEVENT
END:VCALENDAR