BEGIN:VCALENDAR
VERSION:2.0
PRODID:-//Events.Presse.Online - ECPv6.15.20//NONSGML v1.0//EN
CALSCALE:GREGORIAN
METHOD:PUBLISH
X-WR-CALNAME:Events.Presse.Online
X-ORIGINAL-URL:https://events.presse.online
X-WR-CALDESC:Veranstaltungen für Events.Presse.Online
REFRESH-INTERVAL;VALUE=DURATION:PT1H
X-Robots-Tag:noindex
X-PUBLISHED-TTL:PT1H
BEGIN:VTIMEZONE
TZID:Europe/Berlin
BEGIN:DAYLIGHT
TZOFFSETFROM:+0100
TZOFFSETTO:+0200
TZNAME:CEST
DTSTART:20250330T010000
END:DAYLIGHT
BEGIN:STANDARD
TZOFFSETFROM:+0200
TZOFFSETTO:+0100
TZNAME:CET
DTSTART:20251026T010000
END:STANDARD
BEGIN:DAYLIGHT
TZOFFSETFROM:+0100
TZOFFSETTO:+0200
TZNAME:CEST
DTSTART:20260329T010000
END:DAYLIGHT
BEGIN:STANDARD
TZOFFSETFROM:+0200
TZOFFSETTO:+0100
TZNAME:CET
DTSTART:20261025T010000
END:STANDARD
BEGIN:DAYLIGHT
TZOFFSETFROM:+0100
TZOFFSETTO:+0200
TZNAME:CEST
DTSTART:20270328T010000
END:DAYLIGHT
BEGIN:STANDARD
TZOFFSETFROM:+0200
TZOFFSETTO:+0100
TZNAME:CET
DTSTART:20271031T010000
END:STANDARD
END:VTIMEZONE
BEGIN:VEVENT
DTSTART;TZID=Europe/Berlin:20260108T110000
DTEND;TZID=Europe/Berlin:20260124T200000
DTSTAMP:20260419T211430
CREATED:20251220T061728Z
LAST-MODIFIED:20251225T100901Z
UID:10000003-1767870000-1769284800@events.presse.online
SUMMARY:Tanztage Berlin 2026: Tanz zwischen Kunst und Gesellschaft
DESCRIPTION:Tanztage Berlin 2026: Zeitgenössischer Tanz als gesellschaftliches Seismogramm\nDie Tanztage Berlin präsentieren 2026 erneut zeitgenössischen Tanz in den Berliner Sophiensaele. Das Festival rückt junge internationale Positionen in den Fokus und versteht Tanz als Spiegel gesellschaftlicher\, politischer und ästhetischer Entwicklungen. \nZeitgenössischer Tanz als Analyseinstrument\nDie Tanztage Berlin gelten seit Jahren als Plattform für Nachwuchschoreograf:innen\, die Tanz nicht nur als ästhetische Ausdrucksform\, sondern als analytisches Werkzeug begreifen. Im Zentrum stehen Arbeiten\, die politische Fragestellungen\, soziale Machtverhältnisse und individuelle Identität körperlich erfahrbar machen. \nDabei geht es weniger um klassische Narration als um Beobachtung\, Reibung und Offenheit. Tanz wird zum Medium\, das gesellschaftliche Spannungen sichtbar macht – jenseits von Sprache\, aber nicht losgelöst von Diskursen. \nInterdisziplinarität statt Genregrenzen\nEin prägendes Merkmal der Tanztage ist die konsequente Öffnung hin zu anderen Künsten. Viele der gezeigten Produktionen bewegen sich an der Schnittstelle von Tanz\, bildender Kunst\, Musik und Performance. Auch das Musical wird neu verhandelt – nicht als unterhaltendes Großformat\, sondern als Untersuchungsraum für Körper\, Stimme und Inszenierung. \nDiese Herangehensweise entspricht einer Entwicklung\, die sich international beobachten lässt: Tanzproduktionen lösen sich zunehmend von festen Gattungsgrenzen und reagieren auf veränderte Rezeptionsgewohnheiten eines diverseren Publikums. \nInternationale Perspektiven\, junge Handschriften\nDie eingeladenen Künstlerinnen und Künstler stammen aus unterschiedlichen internationalen Ausbildungsinstituten und künstlerischen Kontexten. Ihre Arbeiten spiegeln vielfältige ästhetische Prägungen und Arbeitsweisen wider von konzeptueller Recherche bis zu körperlich intensiver Performance. \nUnter der künstlerischen Leitung von Mateusz Szymanówka versammelt das Festival 2026 unter anderem Arbeiten von Jee Chan\, Dominique McDougal & Carro Sharkey\, Alvin Collantes\, Isabela Fernandes Santana\, Pelusia\, Dominique Tegho\, Colleen Ndemeh Fitzgerald\, Pamela Moraga\, Elena Francalanci\, Pooyesh Frozandeh\, Lo Höckner sowie dem Freelance Dance Ensemble. \nZwei Perspektiven: Szene und Publikum\nAus Sicht der freien Tanzszene bieten die Tanztage vor allem Sichtbarkeit und professionelle Einordnung. Für viele Beteiligte ist das Festival ein erster Schritt in eine breitere öffentliche Wahrnehmung. Gleichzeitig fungiert es als Seismograf für aktuelle ästhetische und gesellschaftliche Debatten innerhalb der darstellenden Künste. \nFür das Publikum eröffnen die Tanztage einen Zugang zu zeitgenössischem Tanz jenseits etablierter Bühnenformate. Die Produktionen verlangen Aufmerksamkeit und Offenheit bieten dafür aber Einblicke in Themen\, die weit über den Bühnenraum hinausreichen. \nAnalyse & Einordnung: Warum die Tanztage 2026 relevant sind\nIn einer Zeit zunehmender gesellschaftlicher Polarisierung gewinnt Kunst als Reflexionsraum an Bedeutung. Die Tanztage Berlin zeigen\, wie zeitgenössischer Tanz politische und soziale Fragen verhandeln kann\, ohne zu vereinfachen oder zu moralisieren. \nGerade für Berlin als international vernetzter Kulturstandort sind solche Formate relevant: Sie stärken den Austausch zwischen Szenen\, fördern Nachwuchs und positionieren die Stadt weiterhin als Labor für zeitgenössische Kunstformen. \nFazit & Ausblick\nDie Tanztage Berlin 2026 setzen auf künstlerische Vielfalt\, internationale Perspektiven und inhaltliche Tiefe. Das Festival bleibt damit ein wichtiger Orientierungspunkt für zeitgenössischen Tanz und performative Kunst in Deutschland. Weitere Programmdetails werden im Vorfeld der Aufführungen erwartet. \nFAQ: Häufige Fragen zu den Tanztagen Berlin 2026\nWas sind die Tanztage Berlin?Ein Festival für zeitgenössischen Tanz mit Fokus auf junge internationale Choreograf:innen und neue künstlerische Ansätze. \nWo finden die Aufführungen statt?In den Sophiensaelen in Berlin\, einem etablierten Ort für freie darstellende Künste. \nWer leitet das Festival 2026?Die künstlerische Leitung liegt erneut bei Mateusz Szymanówka. \nWelche Kunstformen stehen im Mittelpunkt?Zeitgenössischer Tanz mit starken Bezügen zu Performance\, Musik und bildender Kunst. \nAn wen richtet sich das Festival?An ein kulturinteressiertes Publikum\, Fachbesucher:innen sowie an Menschen\, die zeitgenössische Kunst jenseits klassischer Formate erleben möchten. \nQuellen:\n• Offizielle Informationen der Tanztage Berlin (Festivalangaben\, Programmübersicht)• Angaben der Sophiensaele Berlin zu Spielort und Festivalformat
URL:https://events.presse.online/event/tanztage-berlin-2026-tanz-zwischen-kunst-und-gesellschaft/
LOCATION:Sophiensaele\, Sophienstraße 18\, Berlin\, 10178
CATEGORIES:Kultur & Konzerte
ATTACH;FMTTYPE=image/webp:https://events.presse.online/wp-content/uploads/2025/12/Tanztage.webp
END:VEVENT
BEGIN:VEVENT
DTSTART;TZID=Europe/Berlin:20260115T180000
DTEND;TZID=Europe/Berlin:20260115T200000
DTSTAMP:20260419T211430
CREATED:20260109T101537Z
LAST-MODIFIED:20260109T103610Z
UID:10000098-1768500000-1768507200@events.presse.online
SUMMARY:Wie Kunst den Raum verändert: „Transit“ in Berlin
DESCRIPTION:Eröffnung Gallery Gudmundsdottir: „Transit – Die Geometrie des Übergangs“\nAm 15. Januar 2026 eröffnet die isländische Künstlerin Erla S. Haraldsdóttir ihre zweite Einzelausstellung in der Gallery Gudmundsdottir. Die Schau ist mehr als ein klassisches Galerieereignis: Sie macht den Ausstellungsraum selbst zum Thema künstlerischer Auseinandersetzung. \nKontext und Hintergrund\nMit Transit – Die Geometrie des Übergangs setzt Haraldsdóttir ihre ortsbezogene Praxis fort\, die Malerei\, Zeichnung und Raum miteinander verschränkt. Ausgangspunkt ist der Galerieraum in der Joachimstraße\, dessen architektonische Gegebenheiten nicht neutraler Rahmen bleiben\, sondern aktiv in die Arbeiten eingebunden sind. \nZentrales Werk der Ausstellung ist das Öl-auf-Leinwand-Triptychon Extended Corner (2025–2026). Die Künstlerin greift Linien und Winkel des Raumes auf\, projiziert sie über die Leinwand hinaus und verdoppelt so die räumliche Wahrnehmung. Ergänzt wird das Werkensemble durch Zeichnungen auf Papier\, in denen Graphit sowie Gold- und Silberblatt die Wechselwirkung von Licht\, Oberfläche und Material untersuchen. \nBedeutung für Berlin und die Kunstszene\nBerlin gilt international als Labor für zeitgenössische Kunst zugleich steht die Stadt unter wachsendem ökonomischem Druck\, der unabhängige Galerien und experimentelle Positionen zunehmend herausfordert. Die Ausstellung bei Gallery Gudmundsdottir positioniert sich in diesem Spannungsfeld: Sie zeigt eine konzeptuell anspruchsvolle Praxis\, die sich bewusst gegen schnelle Bildwirkung und Marktlogik stellt. \nFür das Berliner Publikum eröffnet sich damit ein Zugang zu einer künstlerischen Haltung\, die Wahrnehmung entschleunigt und Reflexion einfordert. Für die lokale Galerienszene ist die Schau ein Signal\, dass kuratorische Tiefe und internationale Vernetzung weiterhin möglich sind. \nAbgrenzung zu ähnlichen Formaten\nIm Unterschied zu vielen Ausstellungen zeitgenössischer Malerei\, die Werke als autonome Objekte präsentieren\, verschiebt Transit den Fokus auf das Verhältnis von Werk\, Raum und Betrachter. Der White Cube wird nicht als neutraler Hintergrund behandelt\, sondern als realer\, begrenzender und zugleich formbarer Ort. \nZwei Perspektiven\nAus Sicht der Galerie steht die Ausstellung für ein kuratorisches Programm\, das langfristige künstlerische Entwicklungen begleitet. Aus Sicht des Publikums eröffnet sie einen Erfahrungsraum\, der weniger auf unmittelbare Verständlichkeit als auf kontemplative Auseinandersetzung setzt. \nAnalyse: Warum diese Ausstellung jetzt relevant ist\nDie Ausstellung fällt in eine Phase\, in der Fragen nach Raum\, Wahrnehmung und Materialität in der Kunst erneut an Bedeutung gewinnen. Digitale Bildwelten\, immersive Formate und KI-generierte Kunst verschieben aktuell die Grenzen des Visuellen. Haraldsdóttirs Arbeiten setzen dem eine bewusste Reduktion entgegen. \nGesellschaftlich spiegelt Transit das Bedürfnis nach Orientierung in einer fragmentierten Gegenwart. Kulturell knüpft die Ausstellung an internationale Diskurse über ortsspezifische Kunst an\, wie sie zuletzt auch in Institutionen in Johannesburg oder Skandinavien geführt wurden. Wirtschaftlich ist kein unmittelbarer Effekt zu erwarten – vielmehr stärkt die Schau Berlins Ruf als Standort für anspruchsvolle\, nicht marktschreierische Kunst. \nFür Besucher bedeutet das: keine schnelle Konsumierbarkeit\, sondern ein Angebot zur Verlangsamung. Für die Branche ist die Ausstellung ein Beispiel dafür\, wie sich künstlerische Qualität jenseits von Eventisierung behaupten kann. \nFazit:\nTransit – Die Geometrie des Übergangs ist kein Massenereignis\, sondern eine präzise gesetzte Position im Berliner Kunstkalender. Die Ausstellung zeigt\, wie zeitgenössische Malerei Raum denken kann und warum genau darin ihre aktuelle Relevanz liegt. Eine Einordnung\, die über den Eröffnungsabend hinausweist. \nWeitere Einordnungen zu Ausstellungen und kulturellen Debatten finden Sie auf Events.Presse.Online. \nFAQ\nWann und wo findet die Ausstellung statt?Die Ausstellung eröffnet am 15. Januar 2026 in der Gallery Gudmundsdottir in Berlin.. \nFür wen ist das Event relevant?Für kunstinteressierte Besucher\, Fachpublikum sowie alle\, die sich mit zeitgenössischer Malerei und Raumkonzepten befassen. \nWarum ist die Ausstellung journalistisch bedeutsam?Sie greift aktuelle Diskurse zu Wahrnehmung\, Raum und Materialität in der Gegenwartskunst auf. \nWelche Themen stehen im Fokus?Raum\, Licht\, Farbe und die Beziehung zwischen Kunstwerk und Ausstellungsarchitektur. \nWas unterscheidet die Ausstellung von vergleichbaren Formaten?Der Galerieraum wird selbst Teil des künstlerischen Konzepts und nicht nur Präsentationsfläche. \nQuellenliste:\n\n\nAngaben der Gallery Gudmundsdottir\, Berlin (Ausstellungsankündigung und Werkbeschreibung) \n\n\nKünstlerbiografie Erla S. Haraldsdóttir (Galerie- und Ausstellungsmaterial) \n\n\nWerkangaben zu Extended Corner (2025–2026)\, Öl auf Leinwand\, Triptychon \n\n\nAusstellungshistorie der Künstlerin am Origins Centre Museum\, Wits University\, Johannesburg (Ende 2025) \n\n\nInstitutionsangaben zu früheren Ausstellungen u. a. im Moderna Museet (Stockholm)\, Kalmar Konstmuseum\, Berlinische Galerie\, Reykjavík Art Museum\, Nanning Museum (China)\, Turbine Art Fair (Johannesburg) \n\n\nEigene journalistische Einordnung auf Basis kunstwissenschaftlicher Diskurse zu ortsbezogener Malerei und White-Cube-Theorie
URL:https://events.presse.online/event/wie-kunst-den-raum-veraendert-transit-in-berlin/
LOCATION:Gallery Gudmundsdottir\, Joachimstraße 17\, Berlin\, 10119
CATEGORIES:Kultur & Konzerte
ATTACH;FMTTYPE=image/webp:https://events.presse.online/wp-content/uploads/2026/01/Erla-S.-Haraldsdottir.webp
ORGANIZER;CN="Gallery Gudmundsdottir":MAILTO:gg@gallerygudmundsdottir.com
END:VEVENT
BEGIN:VEVENT
DTSTART;TZID=Europe/Berlin:20260115T200000
DTEND;TZID=Europe/Berlin:20260115T220000
DTSTAMP:20260419T211430
CREATED:20251225T093206Z
LAST-MODIFIED:20251225T093711Z
UID:10000007-1768507200-1768514400@events.presse.online
SUMMARY:NBA bringt erstmals reguläres Saisonspiel nach Berlin
DESCRIPTION:NBA Berlin Game 2026: Erstes reguläres NBA-Spiel in Deutschland\nAm 15. Januar 2026 wird Berlin erstmals Austragungsort eines regulären NBA-Saisonspiels. In der Uber Arena stehen sich die Orlando Magic und die Memphis Grizzlies gegenüber ein sportliches Ereignis mit Signalwirkung für den deutschen Basketball. \nDie nordamerikanische Profiliga National Basketball Association (NBA) setzt ihre Internationalisierungsstrategie fort und kommt erstmals mit einem Pflichtspiel nach Deutschland. Austragungsort ist die Uber Arena\, die in den vergangenen Jahren bereits mehrere internationale Sport- und Entertainment-Großereignisse beherbergte. \nDer Ticketvorverkauf für das NBA Berlin Game 2026 begann am 11. November 2025 um 13 Uhr. Aufgrund der hohen Nachfrage kündigten die Veranstalter ein Losverfahren für einen Teil der Karten an. Erwartet werden Basketball-Fans aus Deutschland und zahlreichen weiteren europäischen Ländern. \nSportlich bietet die Begegnung mehrere besondere Facetten. Für die Orlando Magic wird das Spiel zu einer emotionalen Rückkehr: Die Brüder Franz Wagner und Moritz Wagner\, beide in Berlin aufgewachsen\, stehen im Kader des Teams aus Florida. Ihre Karriere begann unter anderem bei Alba Berlin\, bevor sie den Sprung in die NBA schafften. Ergänzt wird das deutsche Trio bei Orlando durch Tristan da Silva\, der ebenfalls für die deutsche Nationalmannschaft spielt. \nDie Memphis Grizzlies reisen mit prominenten Namen an. Zu den Leistungsträgern zählen unter anderem Ja Morant und Jaren Jackson Jr.\, beide mehrfach ausgezeichnete All-Stars. \nParallel zum Spiel ist ein umfangreiches Rahmenprogramm geplant. Vom 10. bis 15. Januar entsteht im Magenta Mitte in der Berliner Ebertstraße ein sogenannter „Orlando Magic Kiez“. Vorgesehen sind Fan-Aktivitäten\, Meet & Greets mit ehemaligen Spielern\, Gewinnspiele sowie Live-Podcasts. Zusätzlich wird in der Uber Eats Music Hall ein Public Viewing zum Spiel angeboten. \nAnalyse / Einordnung\nMit dem NBA Berlin Game 2026 erreicht die Internationalisierung der Liga einen neuen Meilenstein. Deutschland zählt seit Jahren zu den wichtigsten europäischen Wachstumsmärkten der NBA – nicht zuletzt aufgrund sportlicher Erfolge deutscher Spieler in den USA. Ein reguläres Saisonspiel geht über reine Show-Events hinaus und signalisiert eine langfristige strategische Bedeutung des Standorts. \nFür Berlin bedeutet das Spiel zusätzliche wirtschaftliche Impulse durch Tourismus\, Hotellerie und Gastronomie. Gleichzeitig stärkt es die Position der Stadt als internationaler Austragungsort für Spitzensport. Für den deutschen Basketball insgesamt könnte das Event die Nachwuchsarbeit und öffentliche Wahrnehmung weiter fördern. \nFazit:\nDas NBA Berlin Game 2026 markiert einen historischen Moment für den deutschen Profisport. Ob es bei einem Einzelereignis bleibt oder weitere reguläre Spiele folgen\, dürfte auch vom Erfolg dieser Premiere abhängen. Das Interesse der Fans deutet bereits jetzt auf eine hohe Relevanz hin. \n🔔 Mehr zu internationalen Sportevents\, Ticketstarts und Hintergrundanalysen lesen Sie auf Event.Presse.Online. \nFAQ\nWann findet das NBA Berlin Game 2026 statt?Am 15. Januar 2026. \nWo wird das Spiel ausgetragen?In der Uber Arena in Berlin. \nWelche Teams spielen gegeneinander?Orlando Magic gegen Memphis Grizzlies. \nWie läuft der Ticketverkauf ab?Der Vorverkauf startete am 11. November 2025. Aufgrund der Nachfrage erfolgt die Vergabe teilweise per Verlosung. \nGibt es ein Rahmenprogramm?Ja\, unter anderem den „Orlando Magic Kiez“ sowie ein Public Viewing in der Uber Eats Music Hall. \nQuellen:\n\n\nOffizielle Ankündigungen der NBA zur International Game Series \n\n\nMitteilungen der Uber Arena Berlin und der beteiligten Teams \n\n\nBerichterstattung internationaler Sportnachrichtenagenturen (u. a. AP\, Reuters)
URL:https://events.presse.online/event/nba-bringt-erstmals-regulaeres-saisonspiel-nach-berlin/
LOCATION:Uber Arena\, Uber Platz 1\, Berlin\, 10243
CATEGORIES:Sport & Events
ATTACH;FMTTYPE=image/webp:https://events.presse.online/wp-content/uploads/2025/12/NBA2026.webp
END:VEVENT
BEGIN:VEVENT
DTSTART;TZID=Europe/Berlin:20260116T090000
DTEND;TZID=Europe/Berlin:20260125T180000
DTSTAMP:20260419T211430
CREATED:20251216T084818Z
LAST-MODIFIED:20260124T134113Z
UID:10000001-1768554000-1769364000@events.presse.online
SUMMARY:Grüne Woche 2026
DESCRIPTION:Internationale Grüne Woche 2026 in Berlin\nDie Internationale Grüne Woche ist seit Jahrzehnten ein fester Termin im Berliner Messekalender und gilt als eine der bedeutendsten Plattformen für Ernährung\, Landwirtschaft und Gartenbau weltweit. Zur Ausgabe 2026 werden erneut Aussteller aus zahlreichen Ländern erwartet\, die ihre Produkte\, Konzepte und Innovationen einem internationalen Publikum präsentieren. \nIm Mittelpunkt der Messe stehen aktuelle Entwicklungen entlang der gesamten Wertschöpfungskette von landwirtschaftlicher Erzeugung über Lebensmittelverarbeitung bis hin zu Handel und Konsum. Besucherinnen und Besucher erhalten Einblicke in neue Ernährungstrends\, nachhaltige Produktionsmethoden sowie technologische Innovationen im Agrarsektor. \nNeben der Ausstellung ist die Grüne Woche traditionell auch ein Ort für politischen und gesellschaftlichen Austausch. Fachveranstaltungen\, Diskussionsforen und begleitende Kongresse bieten Raum für Debatten über Ernährungssicherheit\, Klimaschutz\, Tierwohl und die Zukunft der Landwirtschaft. Damit richtet sich die Messe nicht nur an Fachpublikum\, sondern auch an politisch Interessierte und Verbraucherinnen und Verbraucher. \nEin besonderes Merkmal der Grünen Woche ist ihre internationale Ausrichtung. Länder und Regionen präsentieren ihre kulinarischen Spezialitäten\, landwirtschaftlichen Besonderheiten und kulturellen Traditionen. Dadurch verbindet die Messe wirtschaftliche Themen mit kulturellem Austausch und macht globale Zusammenhänge für ein breites Publikum erlebbar. \nDie Grüne Woche 2026 richtet sich sowohl an Fachbesucher aus Wirtschaft\, Politik und Wissenschaft als auch an die interessierte Öffentlichkeit. Sie bietet Orientierung in einer Branche\, die angesichts von Klimawandel\, Ressourcenknappheit und veränderten Konsumgewohnheiten vor großen Herausforderungen steht. \nWeitere Informationen zu Programm\, Tickets und Öffnungszeiten stellt der Veranstalter auf der offiziellen Website zur Verfügung.
URL:https://events.presse.online/event/gruene-woche-2026/
LOCATION:Messe Berlin\, Messedamm 22\, Berlin\, 14405\, Germany
CATEGORIES:Messen & Business
ATTACH;FMTTYPE=image/webp:https://events.presse.online/wp-content/uploads/2025/12/Gruene-Woche-Berlin.webp
END:VEVENT
BEGIN:VEVENT
DTSTART;TZID=Europe/Berlin:20260116T100000
DTEND;TZID=Europe/Berlin:20260125T150000
DTSTAMP:20260419T211430
CREATED:20260111T083940Z
LAST-MODIFIED:20260124T134016Z
UID:10000101-1768557600-1769353200@events.presse.online
SUMMARY:Grüne Woche 2026: Wo Agrarpolitik verhandelt wird
DESCRIPTION:Wo die Fachwelt zusammenkommt: das Kongressprogramm der Grünen Woche\nWenn in Berlin über Ernährungssicherung\, Wasserknappheit oder die Zukunft ländlicher Räume diskutiert wird\, geschieht das zur Grünen Woche nicht nur auf der Messefläche\, sondern vor allem in ihren Kongressen. Hier verdichtet sich das politische und fachliche Gewicht der internationalen Leitmesse. \nMehr als eine Begleitveranstaltung\nDie Internationale Grüne Woche gilt seit Jahrzehnten als Schaufenster für Landwirtschaft\, Ernährung und Gartenbau. Ihr eigentlicher Einfluss entfaltet sich jedoch im Kongressprogramm: Rund 300 Fachveranstaltungen bringen Ministerien\, Verbände\, Wissenschaft und Wirtschaft zusammen. In ihrem 90. Jahr und zugleich zum 100-jährigen Jubiläum der Messe steht die Grüne Woche 2026 damit auch symbolisch für den Wandel der Branche. \nZentraler Auftakt ist das Global Forum for Food and Agriculture (GFFA) vom 14. bis 17. Januar im CityCube Berlin. Unter dem Leitthema „Wasser. Ernten. Unsere Zukunft.“ rückt die Konferenz die Verbindung von Ernährungssicherheit und Wasserressourcen in den Mittelpunkt. Die Agrarministerkonferenz mit Vertreterinnen und Vertretern aus rund 80 Ländern verleiht dem Forum politisches Gewicht. Internationale Organisationen wie FAO\, OECD oder Weltbank sind beteiligt. \nFachdebatten und gesellschaftliche Perspektiven\nNeben globalen Fragen rücken gezielt gesellschaftliche Rollenbilder in den Fokus. Das BäuerinnenForum 2026 des Deutschen LandFrauenverbands greift das von den Vereinten Nationen ausgerufene „Internationale Jahr der Frauen in der Landwirtschaft“ auf. Diskutiert werden Rahmenbedingungen\, Sichtbarkeit und Einfluss von Frauen entlang der gesamten Wertschöpfungskette. \nDer Deutsche Bauernverband setzt mit seinen Fachforen thematische Akzente von Biodiversitätsschutz über Milchmärkte bis zum Umgang mit dem Wolf im Jagdrecht. Hier prallen politische Regulierung\, wirtschaftliche Interessen und gesellschaftliche Erwartungen unmittelbar aufeinander. \nInnovation\, Nachwuchs und Mobilität\nMit dem Internationalen Fachkongress „Kraftstoffe der Zukunft“ öffnet sich das Programm deutlich über klassische Agrarthemen hinaus. Erneuerbare Kraftstoffe und Biokraftstoffe werden als Teil der Verkehrswende verhandelt unter Beteiligung von Politik\, Forschung und Industrie. Ergänzt wird dies durch die Startup-Days\, bei denen junge Unternehmen ihre Innovationen präsentieren\, sowie durch kuratierte Führungen für Fachpublikum aus Agritech und Foodtech. \nAuch der Nachwuchs erhält Raum: Junglandwirt:innen-Kongress\, Jugendforen und politische Talks schaffen Austauschformate\, die über die Messe hinaus in agrarpolitische Prozesse hineinwirken. \nWarum das jetzt relevant ist\nDie Bündelung der Fachveranstaltungen spiegelt zentrale Trends wider: den steigenden Druck auf globale Ernährungssysteme\, die Folgen des Klimawandels und den politischen Anspruch\, Landwirtschaft nachhaltiger und resilienter zu gestalten. Berlin wird dabei für zehn Tage zum internationalen Verhandlungsort mit realistischen Effekten auf politische Agenden\, Förderprogramme und regulatorische Debatten. \nFür die Stadt bedeutet das Sichtbarkeit als politischer Knotenpunkt. Für die Branche bietet das Kongressprogramm Orientierung in einer Phase tiefgreifender Transformation. Und für die Öffentlichkeit wird deutlich\, dass Landwirtschaft längst nicht mehr nur Produktionsfrage ist\, sondern gesellschaftliche\, ökologische und ökonomische Dimensionen vereint. \nFazit und Ausblick\nDas Kongressprogramm der Grünen Woche 2026 zeigt\, wo die Branche steht und wohin sie will. Wer verstehen möchte\, wie Ernährung\, Landwirtschaft und Politik künftig zusammenspielen\, findet hier weniger Messeglanz als belastbare Debatten und politische Impulse. \nMehr Einordnung zu Politik\, Wirtschaft und Gesellschaft finden Sie fortlaufend auf Events.Presse.Online. \nFAQ\nWann und wo findet das Kongressprogramm statt?Parallel zur Grünen Woche vom 16. bis 25. Januar 2026 in Berlin\, vor allem im CityCube und hub27. \nFür wen ist das Programm relevant?Für Fachpublikum aus Landwirtschaft\, Politik\, Wirtschaft\, Wissenschaft sowie für Entscheider in Kommunen und Verbänden. \nWarum ist das journalistisch bedeutsam?Weil hier politische Positionen\, internationale Absprachen und Branchentrends zusammenlaufen. \nWelche Themen stehen im Fokus?Ernährungssicherung\, Wasserresilienz\, ländliche Entwicklung\, Rolle von Frauen\, Innovationen und Nachwuchs. \nWas unterscheidet es von anderen Fachmessen?Die enge Verzahnung von Messe\, Politikdialog und internationalen Konferenzen. \nQuellen:\n\n\nInternationale Grüne Woche Berlin: offizielles Veranstaltungsprogramm 2026 \n\n\nGlobal Forum for Food and Agriculture (GFFA): Programm- und Themenübersicht 2026 \n\n\nBundesministerium für Ernährung und Landwirtschaft (BMEL/BMLEH) – Informationen zum Zukunftsforum Ländliche Entwicklung \n\n\nDeutscher Bauernverband: Ankündigungen und Programme zu Fachforen\, Junglandwirt:innen-Kongress und Jugendformaten \n\n\nDeutscher LandFrauenverband (dlv): Informationen zum BäuerinnenForum 2026 \n\n\nVeranstalterangaben zum Internationalen Fachkongress „Kraftstoffe der Zukunft“ 2026 \n\n\nMesse Berlin GmbH: Angaben zu Veranstaltungsorten (CityCube Berlin\, hub27) \n\n\nHistorische Einordnung: Grüne Woche Berlin (Gründung 1926\, Entwicklung zur internationalen Leitmesse) \n\n\nEigene journalistische Auswertung und redaktionelle Zusammenfassung auf Basis der genannten Quellen
URL:https://events.presse.online/event/gruene-woche-2026-wo-agrarpolitik-verhandelt-wird/
LOCATION:Messe Berlin\, Messedamm 22\, Berlin\, 14405\, Germany
CATEGORIES:Kultur & Konzerte
ATTACH;FMTTYPE=image/webp:https://events.presse.online/wp-content/uploads/2026/01/Gruene-Woche.webp
END:VEVENT
END:VCALENDAR