BEGIN:VCALENDAR
VERSION:2.0
PRODID:-//Events.Presse.Online - ECPv6.15.20//NONSGML v1.0//EN
CALSCALE:GREGORIAN
METHOD:PUBLISH
X-ORIGINAL-URL:https://events.presse.online
X-WR-CALDESC:Veranstaltungen für Events.Presse.Online
REFRESH-INTERVAL;VALUE=DURATION:PT1H
X-Robots-Tag:noindex
X-PUBLISHED-TTL:PT1H
BEGIN:VTIMEZONE
TZID:Europe/Berlin
BEGIN:DAYLIGHT
TZOFFSETFROM:+0100
TZOFFSETTO:+0200
TZNAME:CEST
DTSTART:20250330T010000
END:DAYLIGHT
BEGIN:STANDARD
TZOFFSETFROM:+0200
TZOFFSETTO:+0100
TZNAME:CET
DTSTART:20251026T010000
END:STANDARD
BEGIN:DAYLIGHT
TZOFFSETFROM:+0100
TZOFFSETTO:+0200
TZNAME:CEST
DTSTART:20260329T010000
END:DAYLIGHT
BEGIN:STANDARD
TZOFFSETFROM:+0200
TZOFFSETTO:+0100
TZNAME:CET
DTSTART:20261025T010000
END:STANDARD
BEGIN:DAYLIGHT
TZOFFSETFROM:+0100
TZOFFSETTO:+0200
TZNAME:CEST
DTSTART:20270328T010000
END:DAYLIGHT
BEGIN:STANDARD
TZOFFSETFROM:+0200
TZOFFSETTO:+0100
TZNAME:CET
DTSTART:20271031T010000
END:STANDARD
END:VTIMEZONE
BEGIN:VEVENT
DTSTART;TZID=Europe/Berlin:20260428T200000
DTEND;TZID=Europe/Berlin:20260428T223000
DTSTAMP:20260420T094746
CREATED:20260109T110228Z
LAST-MODIFIED:20260109T111003Z
UID:10000099-1777406400-1777415400@events.presse.online
SUMMARY:Notes of Berlin live: Berlins Zettel als Zeitdokument
DESCRIPTION:Notes of Berlin Live mit Joab Nist: Alltagsstimmen der Hauptstadt\nWenn handgeschriebene Zettel zu Zeitdokumenten werden\, berührt das mehr als nur den Humor. Am 28. April 2026 bringt Joab Nist seine Sammlung Notes of Berlin erneut live auf die Bühne als verdichtete Momentaufnahme urbanen Alltags in Berlin. \nVom Aushang zum Massenphänomen\n„Wellensittich entflogen – Farbe egal“: Was banal klingt\, wurde zum Ausgangspunkt eines der bekanntesten Alltagsarchive der Republik. Seit der Gründung von Notes of Berlin am 10. Oktober 2010 sammelt Joab Nist fotografierte Zettel aus Hausfluren\, Hinterhöfen und an Schwarzen Brettern. Inzwischen folgen dem Projekt über 500.000 Menschen nicht wegen literarischer Qualität\, sondern wegen der unmittelbaren Ehrlichkeit dieser Texte. \nSeit 2022 ist das Format auch live zu erleben\, unter anderem in der Bar jeder Vernunft und im Tipi am Kanzleramt. Die Bühne wird dabei nicht zur Showfläche\, sondern zur Lesefläche: Zettel\, Kommentare und Kontext ordnen sich zu einer Reise durch die Berliner Kieze. \nEinordnung: Stadtkultur jenseits der Hochglanzfassade\nIm Unterschied zu klassischen Lesungen oder Comedy-Abenden entsteht die Dramaturgie aus anonymen Stimmen. Die Texte sind nicht kuratiert\, um zu gefallen\, sondern um abzubilden. Genau darin liegt der Unterschied zu ähnlichen Bühnenformaten: Notes of Berlin erhebt keinen Anspruch auf Deutungshoheit\, sondern zeigt\, was Menschen öffentlich hinterlassen\, wenn sie miteinander kommunizieren müssen. \nFür das Publikum bedeutet das Wiedererkennung statt Distanz. Für die Stadt ist es ein seltenes Archiv informeller Kommunikation jenseits sozialer Netzwerke\, aber dennoch öffentlich. \nPerspektiven: Publikum und Stadt im Dialog\nAus Sicht der Veranstalter ist die Live-Show eine Übertragung digitaler Reichweite in den analogen Raum. Für Besucherinnen und Besucher ist sie ein kollektives Beobachten: Lachen\, Irritation und Nachdenklichkeit liegen eng beieinander. Kulturpolitisch bleibt das Format bewusst niedrigschwellig ohne institutionellen Anspruch\, aber mit dokumentarischem Wert. \nAnalyse: Warum dieses Event jetzt relevant ist\nDie anhaltende Popularität von Notes of Berlin verweist auf ein Bedürfnis nach ungefilterter Alltagsbeobachtung. In Zeiten algorithmischer Zuspitzung wirken handgeschriebene Zettel fast entschleunigend. Sie zeigen Konflikte\, Nähe\, Einsamkeit und Humor Themen\, die in der Stadtpolitik ebenso präsent sind wie in der Debatte um soziale Kohäsion. \nGesellschaftlich macht das Event sichtbar\, wie Menschen Raum teilen und Regeln aushandeln. Kulturell verschiebt es den Blick von Hochkultur zu Alltagskultur. Wirtschaftlich bleibt der Effekt überschaubar\, doch für den Veranstaltungsstandort Berlin stärkt das Format die Vielfalt kleiner\, inhaltlich profilierter Bühnenabende. \nFazit:\nDie Live-Show von Notes of Berlin ist keine klassische Unterhaltung\, sondern eine verdichtete Beobachtung urbaner Realität. Wer Berlin verstehen will\, findet hier keine Antworten aber präzise Momentaufnahmen. Die Relevanz liegt weniger im Event selbst als in dem\, was es sichtbar macht. \nWeitere Einordnungen zu Kultur- und Gesellschaftsformaten finden Sie auf Events.Presse.Online. \nFAQ\nWann und wo findet das Event statt?Am 28. April 2026\, im Rahmen der „Notes of Berlin“-Live-Reihe in Berlin. \nFür wen ist das Event relevant?Für kulturinteressierte Berlinerinnen und Berliner sowie für alle\, die urbane Alltagskultur beobachten möchten. \nWarum ist das Event journalistisch bedeutsam?Weil es informelle Alltagskommunikation dokumentiert und öffentlich einordnet. \nWelche Themen stehen im Fokus?Nachbarschaft\, Konflikte\, Humor\, Einsamkeit und Zusammenleben in der Großstadt. \nWas unterscheidet es von ähnlichen Formaten?Die Inhalte stammen nicht von Autor:innen\, sondern anonym aus dem Stadtraum. \nQuellenliste:\n\n\nEigendarstellung und Archivmaterial von Notes of Berlin (Projektbeschreibung\, Gründungsdatum\, Reichweite) \n\n\nÖffentliche Angaben und Programmhinweise zu Live-Auftritten von Joab Nist seit 2022 \n\n\nVeranstaltungsinformationen der Bar jeder Vernunft (Berlin) \n\n\nVeranstaltungsinformationen des Tipi am Kanzleramt (Berlin) \n\n\nMedienberichte und Interviews zu Notes of Berlin in deutschen Kultur- und Stadtmagazinen \n\n\nEigene redaktionelle Einordnung und Kontextualisierung auf Basis journalistischer Beobachtung urbaner Alltagskultur in Berlin
URL:https://events.presse.online/event/notes-of-berlin-live-berlins-zettel-als-zeitdokument/
LOCATION:TIPI am Kanzleramt\, Große Querallee\, Berlin\, 10557
CATEGORIES:Kultur & Konzerte
ATTACH;FMTTYPE=image/webp:https://events.presse.online/wp-content/uploads/2026/01/Joab-Nist.webp
ORGANIZER;CN="TIPI am Kanzleramt":MAILTO:info@tipi-am-kanzleramt.de
END:VEVENT
BEGIN:VEVENT
DTSTART;TZID=Europe/Berlin:20260503T120000
DTEND;TZID=Europe/Berlin:20260503T140000
DTSTAMP:20260420T094746
CREATED:20260414T064251Z
LAST-MODIFIED:20260414T064709Z
UID:10000159-1777809600-1777816800@events.presse.online
SUMMARY:Warum Debattenformate wieder Publikum finden
DESCRIPTION:radioeins-Kommentatoren-Talk im TIPI: Warum Live-Journalismus in Berlin wieder als öffentliche Bühne funktioniert\nÖffentliche Debatten haben sich in den vergangenen Jahren zugleich beschleunigt und verengt. Vieles wird sofort kommentiert\, aber immer seltener gemeinsam verhandelt. Vor diesem Hintergrund wirkt die Rückkehr des kuratierten Live-Gesprächs nicht nostalgisch\, sondern fast gegenläufig zur digitalen Taktung. \nGenau in diesem Spannungsfeld steht der radioeins-Kommentatoren-Talk am 3. Mai 2026 um 12 Uhr im TIPI AM KANZLERAMT. Gastgeber ist Marco Seiffert; laut offizieller Ankündigung diskutieren dort bekannte Journalistinnen und Journalisten ein aktuelles Thema\, ordnen die Lage ein und wagen den Blick voraus. Das Format ist für zahlreiche Termine im Jahr 2026 angesetzt; der Termin am 3. Mai ist auf der Veranstaltungsseite bereits als ausverkauft\, gegebenenfalls mit Restkarten\, geführt. \nWas dieses Format von vielen Talk-Events unterscheidet\nBerichtenswert ist der Abend nicht\, weil Prominenz auf der Bühne sitzt oder weil ein Medienpartner Reichweite mitbringt. Relevanter ist die Konstruktion des Formats selbst: Hier wird Journalismus nicht nur gesendet\, gestreamt oder als Schlagzeile verbreitet\, sondern vor Publikum aufgeführt\, geprüft und verdichtet. Das TIPI beschreibt den Talk ausdrücklich als Runde über „Krisen\, Kriege\, Konflikte“\, also über Themen\, die gesellschaftlich ohnehin aufgeladen sind. Für den 19. April nennt die offizielle Seite etwa Reformdruck\, marode Infrastruktur\, steigende Preise und wirtschaftliche Unsicherheit als Debattenrahmen; für den 3. Mai war das konkrete Thema zum Zeitpunkt der Prüfung dort noch nicht benannt. Genau diese Offenheit zeigt aber\, dass nicht ein einzelnes Sujet im Mittelpunkt steht\, sondern das Format als Reaktionsraum auf die jeweilige Nachrichtenlage. \nFür Berlin ist das nicht nebensächlich. Die Stadt ist politisches Zentrum\, Medienstandort und Projektionsfläche nationaler Konflikte zugleich. Ein Debattenformat direkt am Kanzleramt ist deshalb symbolisch mehr als nur gut platziert: Es verbindet Hauptstadtjournalismus\, Öffentlichkeit und Kulturraum. Dass der Talk nicht nur im Saal\, sondern laut Veranstaltungsseite zugleich im Radio\, im Livestream auf radioeins.de und im rbb-Fernsehen verfolgt werden kann\, erweitert diese Bühne über das lokale Publikum hinaus. \nFür wen das relevant ist und für wen eher nicht\nRelevant ist der Termin vor allem für Menschen\, die nicht nur Positionen konsumieren\, sondern Herleitungen hören wollen: politisch Interessierte\, Mediennutzer mit Einordnungsbedarf\, Kulturpublikum mit Nachrichtenaffinität und Berliner\, die öffentliche Debatte nicht allein Algorithmen überlassen möchten. Weniger relevant ist das Format für ein Publikum\, das vor allem Unterhaltung ohne argumentative Reibung sucht oder ausschließlich schnelle\, stark personalisierte News-Snippets bevorzugt. \nGerade darin liegt seine Zeitdiagnose. Laut den deutschen Ergebnissen des Reuters Institute Digital News Report 2025 halten zwar 45 Prozent der erwachsenen Online-Bevölkerung Nachrichten in Deutschland im Allgemeinen für vertrauenswürdig; zugleich verschiebt sich Nutzung stark zwischen linearen und digitalen Quellen. 61 Prozent sehen mindestens wöchentlich TV-Nachrichten\, während Jüngere deutlich anders konsumieren. Das verweist auf ein Publikum\, das Orientierung sucht\, aber auf sehr unterschiedlichen Kanälen. \nWarum das jetzt relevant ist\nDas eigentliche Thema dieses Events ist nicht nur das jeweilige Wochenthema\, sondern die Form\, in der Öffentlichkeit heute noch hergestellt werden kann. Die Bundeszentrale für politische Bildung beschreibt soziale Medien als Raum zwischen Demokratisierung und Fragmentierung; sie verweist zugleich auf Empörung\, Desinformation\, Hassrede und sehr unterschiedliche Nutzungsweisen je nach Alters- und Interessengruppen. In einem neueren bpb-Essay wird politische Polarisierung zudem als vor allem kommunikatives Phänomen beschrieben\, begünstigt durch kampagnenförmige Mobilisierung und zugespitzte Debattenlogiken. \nVor diesem Hintergrund lässt sich der radioeins-Kommentatoren-Talk als Gegenmodell lesen: nicht als neutraler Raum ohne Haltung\, sondern als kuratierter Raum mit nachvollziehbaren Regeln. Das bedeutet nicht automatisch Ausgewogenheit im mathematischen Sinn\, wohl aber Sichtbarkeit von journalistischer Auswahl\, Argumentation und Widerspruch. Für Besucher heißt das: weniger Tempo\, mehr Einordnung. Für die Stadtöffentlichkeit heißt es: Debatte bleibt sichtbar und findet nicht nur in Kommentarspalten statt. Für die Branche heißt es: Live-Formate werden wieder wichtiger\, weil sie Vertrauen nicht nur behaupten\, sondern performativ herstellen müssen. Diese Deutung ist eine journalistische Einordnung auf Basis der offiziellen Formatbeschreibung und der beschriebenen Medienentwicklung. \nFazit\nDer radioeins-Kommentatoren-Talk am 3. Mai 2026 ist deshalb journalistisch interessant\, weil er ein größeres Bedürfnis sichtbar macht: Öffentlichkeit soll wieder als gemeinsamer Vorgang erfahrbar werden\, nicht nur als individualisierter Nachrichtenstrom. Das Event steht damit weniger für Eventisierung von Politik als für den Versuch\, politische und gesellschaftliche Komplexität wieder in einen gemeinsamen Raum zu holen. Ob das dauerhaft trägt\, hängt nicht nur vom Thema des Tages ab\, sondern davon\, ob solche Formate weiter glaubwürdige Einordnung liefern\, wo viele Kanäle vor allem Reaktion produzieren. \nMehr Einordnungen zu gesellschaftlich relevanten Debattenformaten\, Medienwandel und Berliner Öffentlichkeit auf Events.Presse.Online. \nFAQ\nWann und wo findet der radioeins-Kommentatoren-Talk statt?Am Sonntag\, 3. Mai 2026\, um 12 Uhr im TIPI AM KANZLERAMT in Berlin. \nWer moderiert das Format?Gastgeber ist radioeins-Moderator Marco Seiffert. \nWorum geht es inhaltlich?Laut offizieller Beschreibung um aktuelle Themen aus dem Spannungsfeld von Krisen\, Kriegen und Konflikten\, diskutiert von bekannten Journalistinnen und Journalisten. \nWarum ist das Event journalistisch berichtenswert?Weil es ein Live-Format für öffentliche Einordnung in einer Phase polarisierten und fragmentierten Nachrichtenkonsums darstellt. Diese Relevanz ergibt sich aus der offiziellen Formatbeschreibung und aktuellen Befunden zur Mediennutzung und Polarisierung. \nWas unterscheidet es von vielen vergleichbaren Veranstaltungen?Nicht die bloße Bühnenpräsenz\, sondern der Anspruch\, journalistische Bewertung und Ausblick live vor Publikum sowie parallel über Radio\, Stream und Fernsehen sichtbar zu machen. \nQuellenliste:\n\nTIPI AM KANZLERAMT\, Programmseite: „radioeins Kommentatoren-Talk“\nradioeins / rbb\, Informationen zum Format und zur Ausstrahlung\nLeibniz-Institut für Medienforschung | Hans-Bredow-Institut\, Reuters Institute Digital News Report 2025 – deutsche Ergebnisse\nBundeszentrale für politische Bildung\, Beitrag zu sozialen Medien zwischen Demokratisierung und Fragmentierung der Öffentlichkeit\nBundeszentrale für politische Bildung\, Analysen zu politischer Polarisierung und öffentlicher Debatte
URL:https://events.presse.online/event/warum-debattenformate-wieder-publikum-finden/
LOCATION:TIPI am Kanzleramt\, Große Querallee\, Berlin\, 10557
CATEGORIES:Messen & Business
ATTACH;FMTTYPE=image/webp:https://events.presse.online/wp-content/uploads/2026/04/Kommentatoren-Talk.webp
ORGANIZER;CN="TIPI am Kanzleramt":MAILTO:info@tipi-am-kanzleramt.de
END:VEVENT
BEGIN:VEVENT
DTSTART;TZID=Europe/Berlin:20260503T200000
DTEND;TZID=Europe/Berlin:20260503T223000
DTSTAMP:20260420T094746
CREATED:20260121T145011Z
LAST-MODIFIED:20260309T180925Z
UID:10000112-1777838400-1777847400@events.presse.online
SUMMARY:Warum körperlicher Humor 2026 wieder trägt
DESCRIPTION:Starbugs Comedy „JUMP! – Reloaded“: Körperkomik als Gegenentwurf zur Reizüberlastung\nZwischen dem 30. April und 3. Mai 2026 gastiert Starbugs Comedy mit „JUMP! – Reloaded“. Die Produktion steht exemplarisch für eine Rückkehr zu körperlicher\, sprachloser Komik als Kontrast zu digitaler Dauererregung und erklärungsbedürftiger Satire. \nIn einer Zeit permanenter Erklärungen\, Meinungen und Reizüberflutung wächst das Bedürfnis nach Verständlichkeit ohne Worte. Genau hier setzt ein Bühnenformat an\, das auf Sprache verzichtet und stattdessen auf Körper\, Rhythmus und Timing vertraut. \nZwischen dem 30. April und 3. Mai 2026 ist Starbugs Comedy mit dem Programm „JUMP! – Reloaded“ zu sehen. Das Trio steht für eine Form der Unterhaltung\, die sich bewusst jenseits politischer Pointen und verbaler Zuspitzung bewegt. \nKontext & Einordnung\nStarbugs Comedy stammt aus der Schweiz und ist seit Jahren international präsent von europäischen Bühnen bis zu Gastspielen in Metropolen wie New York oder Tokio. Das Ensemble um Fabian Berger\, Martin Burtscher und Wassilis Reigel arbeitet ohne gesprochene Gags. Stattdessen entstehen Szenen aus Tanz\, Akrobatik\, Slapstick und präziser Körpersprache. \nDie aktuelle Produktion „JUMP! – Reloaded“ wurde unter der Regie von Nadja Sieger entwickelt\, bekannt durch ihre Arbeit mit Ursus und Nadeschkin. Das Ergebnis ist kein klassisches Nummernprogramm\, sondern eine streng durchkomponierte Abfolge körperlicher Miniaturen. \nInhaltlich unterscheidet sich das Format klar von zeitgenössischer Stand-up-Comedy. Während viele Bühnenprogramme aktuell auf politische Aktualität\, Ironie oder Provokation setzen\, verweigert sich „JUMP! – Reloaded“ jeder direkten Kommentierung. Die Komik entsteht aus Bewegung\, Überzeichnung und dem Scheitern am eigenen Körper. \nPerspektiven: Publikum und Kulturbetrieb\nFür das Publikum bedeutet das: geringe Einstiegshürden\, keine Sprachbarrieren\, keine Vorkenntnisse. Das Format ist anschlussfähig für unterschiedliche Altersgruppen und kulturelle Hintergründe ein Faktor\, der im fragmentierten Kulturbetrieb zunehmend relevant wird. \nAus Sicht der Branche markiert Starbugs Comedy eine Gegenbewegung zur Text- und Diskurslastigkeit vieler Bühnenformate. Während Förderdebatten häufig Relevanz über Inhalte definieren\, zeigt dieses Programm\, dass formale Klarheit selbst gesellschaftliche Wirkung entfalten kann. \nWarum dieses Event jetzt relevant ist\nDie Renaissance nonverbaler Bühnenformate fällt nicht zufällig in eine Phase digitaler Ermüdung. Gesellschaftlich dominieren Screens\, Kommentare\, Erklärvideos und permanente Positionierung. Körperliche Komik bietet hier einen Ausweg: Sie funktioniert unmittelbar\, emotional und ohne argumentative Überforderung. \nKulturell knüpft „JUMP! – Reloaded“ an Traditionen an\, die von der Stummfilm-Ära bis zu den Marx Brothers reichen jedoch in zeitgemäßer\, choreografisch präziser Form. Wirtschaftlich ist das Format international skalierbar\, da Übersetzungen entfallen und Aufführungen global verständlich bleiben. \nFür Städte und Veranstaltungsorte bedeutet das: Programme wie dieses sprechen ein breites\, auch touristisches Publikum an\, ohne lokale Diskurse bedienen zu müssen. Für Besucher wiederum entsteht ein Erlebnis\, das nicht belehrt\, sondern entlastet. \nFazit:\n„JUMP! – Reloaded“ steht weniger für ein einzelnes Show-Ereignis als für einen Trend: die Rückkehr zu unmittelbarer\, körperlicher Verständigung auf der Bühne. Ob diese Form dauerhaft an Bedeutung gewinnt\, hängt davon ab\, wie sehr sich Publikum und Kulturbetrieb weiterhin nach Entschleunigung sehnen. \nWeitere journalistische Einordnungen zu Kultur- und Gesellschaftsevents finden Sie auf Events.Presse.Online. \nFAQ\nWann findet das Event statt?Vom 30. April bis 3. Mai 2026. \nWorum geht es bei „JUMP! – Reloaded“?Um nonverbale Comedy aus Tanz\, Akrobatik und Slapstick\, ohne gesprochene Texte. \nFür wen ist das Event relevant?Für ein breites Publikum unabhängig von Sprache oder kulturellem Hintergrund. \nWas unterscheidet das Format von klassischer Comedy?Der vollständige Verzicht auf Wortwitz und politische Pointen. \nWarum ist das Event journalistisch berichtenswert?Weil es einen kulturellen Trend hin zu körperlicher\, universeller Bühnenkunst spiegelt. \nQuellenliste:\n\n\nEigenangaben des Ensembles Starbugs Comedy (Programm- und Ensemblebeschreibung) \n\n\nPresse- und Produktionsinformationen zu „JUMP! – Reloaded“ \n\n\nAngaben zur Regiearbeit von Nadja Sieger aus früheren Theater- und Kabarettproduktionen \n\n\nAllgemeine kulturwissenschaftliche Einordnung nonverbaler Comedy und körperbasierter Bühnenformate \n\n\nFachliche Sekundärliteratur zur Entwicklung zeitgenössischer Comedy- und Performanceformate \n\n\nÖffentliche Auftritts- und Tourhistorie von Starbugs Comedy (internationale Gastspiele)
URL:https://events.presse.online/event/warum-koerperlicher-humor-2026-wieder-traegt/
LOCATION:TIPI am Kanzleramt\, Große Querallee\, Berlin\, 10557
CATEGORIES:Kultur & Konzerte
ATTACH;FMTTYPE=image/webp:https://events.presse.online/wp-content/uploads/2026/01/Starbugs-Comedy.webp
ORGANIZER;CN="TIPI am Kanzleramt":MAILTO:info@tipi-am-kanzleramt.de
END:VEVENT
END:VCALENDAR